Workbook

Sheet Table of Contents
D6: Safety Statistics Annual Survey
D8: Reporting Period: | E8: 1 July 2023 to 30 June 2024
D9: Return Due by: | E9: 11th October 2024
D10: Contact Person: | E10: hayley@eea.co.nz
D12: IMPORTANT NOTE: | E12: When filling in this form:
E13: For fields that ask you to "Enter Number", EITHER enter a Number or 0
E14: If you don't know an answer, please leave the field blank.
E15: You may navigate using the links below or the tabs at the bottom of the page.
E16: You may navigate using the links below or the tabs at the bottom of the page.
D18: Contents:
D19: Section 1 | E19: ='General Information'!D3 -> Contact Details
D20: Section 2 | E20: ='General Information'!D9 -> Company Details
D21: Section 3 | E21: ='Significant Events'!D2 -> Significant Events
D22: Section 4 | E22: ='Lagging Measures'!D3 -> Personal Consequences
D23: Section 5 | E23: ='Lagging Measures'!D10 -> Physical Consequences
D24: Section 6 | E24: ='Lagging Measures'!D19 -> Operational Consequences
D25: Section 7 | E25: ='Leading Measures'!D3 -> Health and Safety Engagement
D26: Section 8 | E26: ='Leading Measures'!D11 -> Drug and Alcohol Testing
D27: Section 9 | E27: ='Leading Measures'!D16 -> Training and Refreshers
D28: Section 10 | E28: ='Leading Measures'!D21 -> Corrective Actions
D29: Section 11 | E29: ='Leading Measures'!D29 -> Compliance Activities

Sheet General Information
D2: General Information | E2: See Explanation
B3: 1 | D3: Contact Details
D4: Please enter:
C5: 1 | D5: Company name | E5: Enter text
C6: =C5+1 -> 2 | D6: Your full name | E6: Enter text
C7: =C6+1 -> 3 | D7: Your phone number | E7: Enter text
C8: =C7+1 -> 4 | D8: Your email address | E8: Enter text
B9: 2 | D9: Company Details
D10: Please enter:
C11: 5 | D11: Sector position | E11: Generation / Transmission / Distribution
C12: =C11+1 -> 6 | D12: Number of full-time equivalent employees | E12: Enter number
C13: =C12+1 -> 7 | D13: Number of full-time equivalent contractors | E13: Enter number (or zero) or leave blank
C14: =C13+1 -> 8 | D14: Describe level of contractor visibility | E14: High accuracy / best guess / Subset Only / Don't Know

Sheet Significant Events
B2: 3 | D2: Significant Events | N2: See Explanation
D3: 9 | F3: 10 | H3: 11 | J3: 12 | L3: 13 | N3: 14 | P3: 15 | R3: 16 | T3: 17
D4: Short description | F4: People at risk | H4: Person type(s) | J4: Actual consequence | L4: Potential consequence | N4: Direct cause | P4: Indirect cause | R4: Primary controller | T4: Learnings and corrective actions
D5: Provide a short description | F5: Select from list | H5: Select from list | J5: Select from list | L5: Select from list | N5: Select from list | P5: Select from list | R5: Select from list | T5: Enter text
D6: Provide a short description | F6: Select from list | H6: Select from list | J6: Select from list | L6: Select from list | N6: Select from list | P6: Select from list | R6: Select from list | T6: Enter text
D7: Provide a short description | F7: Select from list | H7: Select from list | J7: Select from list | L7: Select from list | N7: Select from list | P7: Select from list | R7: Select from list | T7: Enter text
D8: Provide a short description | F8: Select from list | H8: Select from list | J8: Select from list | L8: Select from list | N8: Select from list | P8: Select from list | R8: Select from list | T8: Enter text
D9: Provide a short description | F9: Select from list | H9: Select from list | J9: Select from list | L9: Select from list | N9: Select from list | P9: Select from list | R9: Select from list | T9: Enter text
D10: Provide a short description | F10: Select from list | H10: Select from list | J10: Select from list | L10: Select from list | N10: Select from list | P10: Select from list | R10: Select from list | T10: Enter text
D11: Provide a short description | F11: Select from list | H11: Select from list | J11: Select from list | L11: Select from list | N11: Select from list | P11: Select from list | R11: Select from list | T11: Enter text
D12: Provide a short description | F12: Select from list | H12: Select from list | J12: Select from list | L12: Select from list | N12: Select from list | P12: Select from list | R12: Select from list | T12: Enter text
D13: Provide a short description | F13: Select from list | H13: Select from list | J13: Select from list | L13: Select from list | N13: Select from list | P13: Select from list | R13: Select from list | T13: Enter text
D14: Provide a short description | F14: Select from list | H14: Select from list | J14: Select from list | L14: Select from list | N14: Select from list | P14: Select from list | R14: Select from list | T14: Enter text
D15: Provide a short description | F15: Select from list | H15: Select from list | J15: Select from list | L15: Select from list | N15: Select from list | P15: Select from list | R15: Select from list | T15: Enter text
... D30: Provide a short description | F30: Select from list | H30: Select from list | J30: Select from list | L30: Select from list | N30: Select from list | P30: Select from list | R30: Select from list | T30: Enter text

Sheet Lagging Measures
D2: Lagging Measures | G2: See Explanation
B3: 4 | D3: Personal Consequences | E3: A | G3: B | I3: C
D4: Personal cost of incidents in terms of: | E4: Employees | G4: Contractors | I4: Or total FTEs
C5: 18 | D5: Lost time injury or illness > 5 days | E5: Enter number | G5: Enter number | I5: Enter number
C6: =C5+1 -> 19 | D6: Lost time injury or illness <= 5 days | E6: Enter number | G6: Enter number | I6: Enter number
C7: =C6+1 -> 20 | D7: Restricted work activity only | E7: Enter number | G7: Enter number | I7: Enter number
C8: =C7+1 -> 21 | D8: Total time lost to injury or illness | E8: Enter days | G8: Enter days | I8: Enter days
C9: =C8+1 -> 22 | D9: Insights from lost time analysis | E9: Describe
B10: 5 | D10: Physical Consequences | E10: A | G10: B | I10: C
D11: Number of incidents involving loss or damage to: | E11: Total loss | G11: Major damage | I11: Minor damage
C12: 23 | D12: A variety of property owner types | E12: Enter number | G12: Enter number | I12: Enter number
C13: =C12+1 -> 24 | D13: Asset owner property only | E13: Enter number | G13: Enter number | I13: Enter number
C14: =C13+1 -> 25 | D14: Private property only | E14: Enter number | G14: Enter number | I14: Enter number
C15: =C14+1 -> 26 | D15: Public property only | E15: Enter number | G15: Enter number | I15: Enter number
C16: =C15+1 -> 27 | D16: Livestock or wildlife | E16: Enter number | G16: Enter number | I16: Enter number
C17: =C16+1 -> 28 | D17: Natural environment | E17: Enter number | G17: Enter number | I17: Enter number
C18: =C17+1 -> 29 | D18: Insights from analysis of damage | E18: Describe
B19: 6 | D19: Operational Consequences | E19: A | G19: B | I19: C
D20: Number of incidents leading to: | E20: Widespread | G20: Localised | I20: Incident area only
C21: 30 | D21: Service outage > 1 hour | E21: Enter number | G21: Enter number | I21: Enter number
C22: =C21+1 -> 31 | D22: Service outage <= 1 hour | E22: Enter number | G22: Enter number | I22: Enter number
C23: =C22+1 -> 32 | D23: Work activity interruption only | E23: Enter number | G23: Enter number | I23: Enter number
C24: =C23+1 -> 33 | D24: Public activity interruption only | E24: Enter number | G24: Enter number | I24: Enter number
C25: =C24+1 -> 34 | D25: Insights from analysis of interruptions | E25: Describe

Sheet Leading Measures
D2: Leading Measures | G2: See Explanation
B3: 7 | D3: Health and Safety Engagement | E3: A | G3: B | I3: C
D4: Number of: | E4: In-person visits | G4: Visual media | I4: Audio media
C5: 35 | D5: Internal audits / inspections | E5: Enter number
C6: =C5+1 -> 36 | D6: Senior leadership worksite visits | E6: Enter number
C7: =C6+1 -> 37 | D7: Related industry engagements | E7: Enter number | G7: Yes / No | I7: Yes / No
C8: =C7+1 -> 38 | D8: Community engagements | E8: Enter number | G8: Yes / No | I8: Yes / No
C9: =C8+1 -> 39 | D9: Learnings from internal / worksite engagement | E9: Describe
C10: =C9+1 -> 40 | D10: Learnings from industry / community engagement | E10: Describe
B11: 8 | D11: Drug and Alcohol Testing | E11: A | G11: B | I11: C
D12: Number of: | E12: Employees | G12: Contractors | I12: Or total FTEs
C13: 41 | D13: Workers tested randomly | E13: Enter number | G13: Enter number | I13: Enter number
C14: =C13+1 -> 42 | D14: Positive results from testing activities | E14: Enter number | G14: Enter number | I14: Enter number
C15: =C14+1 -> 43 | D15: Learnings from substance testing | E15: Describe
B16: 9 | D16: Training and Refreshers | E16: A | G16: B | I16: C
D17: Number of: | E17: Employees | G17: Contractors | I17: Or total FTEs
C18: 44 | D18: Number of trainees / apprentices | E18: Enter number | G18: Enter number | I18: Enter number
C19: =C18+1 -> 45 | D19: Workers with up to date training at year end | E19: Enter number | G19: Enter number | I19: Enter number
C20: =C19+1 -> 46 | D20: Learnings from training and refreshers | E20: Describe
B21: 10 | D21: Corrective Actions | E21: A | G21: B | I21: C
D22: Number of: | E22: Noted as required | G22: Scheduled / requested | I22: Implemented
C23: 47 | D23: Elimination actions | E23: Enter number | G23: Enter number | I23: Enter number
C24: =C23+1 -> 48 | D24: Substitution actions | E24: Enter number | G24: Enter number | I24: Enter number
C25: =C24+1 -> 49 | D25: Engineering controls | E25: Enter number | G25: Enter number | I25: Enter number
C26: =C25+1 -> 50 | D26: Administrative controls | E26: Enter number | G26: Enter number | I26: Enter number
C27: =C26+1 -> 51 | D27: PPE enhancements | E27: Enter number | G27: Enter number | I27: Enter number
C28: =C27+1 -> 52 | D28: Learnings from making corrective actions | E28: Describe
B29: 11 | D29: Compliance Activities | E29: A | G29: B | I29: C
D30: Summary of activities regarding: | E30: Working towards | G30: Achieved this year | I30: Being maintained
C31: 53 | D31: ISO Accreditations | E31: List which ones | G31: List which ones | I31: List which ones
C32: =C31+1 -> 54 | D32: Employer Licenses | E32: List which ones | G32: List which ones | I32: List which ones
C33: =C32+1 -> 55 | D33: NZ Standards | E33: List which ones | G33: List which ones | I33: List which ones
C34: =C33+1 -> 56 | D34: Learnings from compliance activities | E34: Describe

Sheet Explanation
B2: Data Type | F2: Section / Question Name | G2: Explanation and Examples | I2: Respondent Comments
B3: General Information
C4: 1 | F4: Contact Details
D5: 1 | F5: Company Name | G5: Enter the full legal name of the company that owns the assets relating to this submission
D6: =D5+1 -> 2 | F6: Your Full Name | G6: This is who we will contact if we have any questions about the details in your submission
D7: =D6+1 -> 3 | F7: Your Phone Number | G7: So we may contact by phone with questions about your submission, and to update our records
D8: =D7+1 -> 4 | F8: Your Email Address | G8: The email address to which results will be sent, for distribution to other people in your company
C9: 2 | F9: Company Details
D10: =D8+1 -> 5 | F10: Sector Position | G10: Select your sector based on what the majority of your assets are used for. If you operate in more than one sector, AND you are easily able to report separately on those sectors, you may wish to provide a separate survey.
D11: =D10+1 -> 6 | F11: Number of full-time equivalent employees | G11: Total hours normally worked in a year by ALL workers on your payroll, divided by 2000.
D12: =D11+1 -> 7 | F12: Number of full-time equivalent contractors | G12: Total hours worked in a year by contracted workers, divided by 2000. For clarity, this includes those carrying out work on or near ESI assets, AND engineering or design work for ESI.
D13: =D12+1 -> 8 | F13: Describe level of contractor visibility | G13: Describe your level of confidence in the accuracy of your contractor data
B14: Significant Events
C15: 3 | F15: Significant Events | G15: The value of this section is in the stories shared, and others also learn from how you have analysed your events. You are encouraged to include any event that could be classed as a "Notifiable Incident" by WorkSafe. In effect, this means "[any incident] where someone’s health or safety is seriously endangered or threatened". For clarity, this does not include "controlled activities that form part of the business or undertaking".
D16: 9 | F16: Event Title | G16: Briefly describe what happened, e.g. conductor grip dropped from work platform, car skidded into pole in wet weather, person fell into hydro spillway, shock from faulty cable spiker.
D17: 10 | F17: People at risk
F18: No Person | G18: Meaning no-one was anywhere nearby when the event happened
F19: One Person | G19: Meaning only one person was at risk when the event happened (whether they were harmed or not)
F20: Multiple People | G20: Meaning multiple people were at risk when the event happened (whether any or them were harmed or not)
D21: 11 | F21: Person Type(s)
F22: Employee(s) | G22: Meaning people employed by the asset owner (your company)
F23: Contractor(s) | G23: Meaning people employed by a contracting organisation to the asset owner
F24: Third Party(s) | G24: Meaning people working in close proxmity to work equipment, or in-service assets, that are not working under the instruction of the asset owner. For example, a civil works contractor, street light maintainer, high-load transporter.
F25: Public Person(s) | G25: Meaning a lay person in close proximity to work equipment, or in-service assets. For example a pedestrian, or public road user.
F26: Various Types | G26: Meaning a mix of employee(s), contractor(s), third party(s), and/or public person(s)
D27: 12 | F27: Actual Consequence | G27: If multiple people were harmed, select the most serious harm that occurred.
F28: Serious Harm (Fatal) | G28: Where someone has died as a result of the incident, whether immediately or later, noting that death may feasibly occur within a later reporting period requiring a retrospective update. Classed as a Notifiable Event.
F29: Serious Harm (Not Fatal) | G29: Where a safety incident results in loss of consciousness, or a notifiable injury or illness as defined in section 23 of the Health and Safety at Work Act 2015. Classed as a Notifiable Event.
F30: Minor Harm (Medical) | G30: Where a visit to a medical centre for assessment and/or treatment by a medical practitioner was required as a result of the event. Could be classed as a Notifiable Incident, depending on potential consequence.
F31: Minor Harm (First Aid) | G31: Where only first aid was required to treat the injury or illness, and the person did not later require medical treatment for the same injury or illness. Could be classed as a Notifiable Incident, depending on potential consequence
F32: No Physical Harm | G32: Where no person was harmed as a result of the event, however this could still be classed as a Notifiable Incident, depending on potential consequence
D33: 13 | F33: Potential Consequence
F34: Serious Harm (Fatal) | G34: Where one or more people could have died as a result of the incident, whether immediately or later
F35: Serious Harm (Not Fatal) | G35: Where one or more people could have lost consciousness, or suffered a notifiable injury or illness
D36: 14 | F36: Direct Cause
F37: Fall from height | G37: Impact from falling from a high working position, but not from falling into a waterway. Someone tripping over and falling from a standing position need not be included.
F38: Falling objects | G38: Impact from any number of falling items, or from another person falling onto them. This would also include where someone dropped something from their own hand onto their foot.
F39: Hazardous atmosphere | G39: Lack of oxygen, but without the presence of hazardous substances, and not where a lack of oxygen was caused from being immersed in water. This is usually reserved for asphyxiation in a confined space, except where greater harm was caused by a build-up of hazardous substances.
F40: Hazardous substances | G40: From breathing, ingesting or touching hazardous material whether liquid, solid, or gas. Noting that breathing harmful gas may coincide with lack of oxygen, but it is the gas that causes the harm. May include smoke inhalation and/or burns from fire, radiation poisoning or biohazard infection.
F41: Struck by plant or equipment | G41: Impact from machine-driven mechanical force, but NOT where the plant or equipment was dislodged and fell (in the latter case, the cause would be "falling objects")
...
