Workbook
Name InputOrgGroupingByYear: [1]Input!$AR$2:$AR$1031
Name LTIFRBySector: OFFSET('[1]Tables by Sector'!$BS$3,0,0,COUNTA('[1]Tables by Sector'!$BS:$BS)-1,6)
Name LTISRBySector: OFFSET('[1]Tables by Sector'!$DS$4,0,0,COUNTA('[1]Tables by Sector'!$DS:$DS)-1,6)
Name MTIFRBySector: OFFSET('[1]Tables by Sector'!$BE$3,0,0,COUNTA('[1]Tables by Sector'!$BE:$BE)-1,6)
Name RWIFRBySector: OFFSET('[2]Tables by Sector'!$BK$3,0,0,COUNTA('[2]Tables by Sector'!$BK:$BK)-1,6)
Name RWISRBySector: OFFSET('[2]Tables by Sector'!$CW$4,0,0,COUNTA('[2]Tables by Sector'!$CW:$CW)-1,6)
Name TRIFRBySector: OFFSET('[1]Tables by Sector'!$BZ$3,0,0,COUNTA('[1]Tables by Sector'!$BZ:$BZ)-1,6)

Sheet Industry Tables
B2: YE June 2024 | C2: FTEs | D2: Fatalities | E2: LTIs | F2: RWIs | G2: MTIs | H2: TRIs | I2: LTI Days Lost | J2: RW Days (est) | K2: LTIFR | L2: RWIFR | M2: MTIFR | N2: TRIFR | O2: LTISR | P2: RWISR (est) | Q2: ATLR to LTIs | R2: AVE RWI days | S2: RW days (est) | T2: RWISR (est)
B3: Industry Total | C3: 13913.83 | D3: 1 | E3: 115 | F3: 82 | G3: 36 | H3: 234 | I3: 1293 | J3: 1066 | K3: 0.82651578 | L3: 0.58934168 | M3: 0.25873537 | N3: 1.6817799 | O3: 9.2929122 | P3: 7.6614419 | Q3: 9.7218045 | R3: 13 | S3: =F3*$R$3 -> 1066 | T3: =(J3*200000)/(C3*2000) -> 7.6614419
B4: Generation Total | C4: 2320 | D4: 0 | E4: 12 | F4: 1 | G4: 1 | H4: 14 | I4: 132 | J4: 13 | K4: 0.51724138 | L4: 0.043103448 | M4: 0.043103448 | N4: 0.60344828 | O4: 5.6896552 | P4: 0.56034483 | Q4: 11 | S4: =F4*$R$3 -> 13 | T4: =(J4*200000)/(C4*2000) -> 0.56034483
B5: Transmission Total | C5: 2073.83 | D5: 0 | E5: 8 | F5: 5 | G5: 18 | H5: 31 | I5: 131 | J5: 65 | K5: 0.38575968 | L5: 0.2410998 | M5: 0.86795928 | N5: 1.4948188 | O5: 6.3168148 | P5: 3.1342974 | Q5: 16.375 | S5: =F5*$R$3 -> 65 | T5: =(J5*200000)/(C5*2000) -> 3.1342974
B6: Distribution Total | C6: 9520 | D6: 1 | E6: 95 | F6: 76 | G6: 17 | H6: 189 | I6: 1030 | J6: 988 | K6: 0.99789916 | L6: 0.79831933 | M6: 0.17857143 | N6: 1.9852941 | O6: 10.819328 | P6: 10.378151 | Q6: 9.1150442 | S6: =F6*$R$3 -> 988 | T6: =(J6*200000)/(C6*2000) -> 10.378151
B7: Distribution <100 | C7: 273.3 | D7: 0 | E7: 6 | F7: 2 | G7: 0 | H7: 8 | I7: 181 | J7: 26 | K7: 2.1953897 | L7: 0.73179656 | M7: 0 | N7: 2.9271862 | O7: 66.227589 | P7: 9.5133553 | Q7: 7.5416667 | S7: =F7*$R$3 -> 26 | T7: =(J7*200000)/(C7*2000) -> 9.5133553
B8: Distribution <250 | C8: 1894.6 | D8: 0 | E8: 33 | F8: 11 | G8: 6 | H8: 50 | I8: 170.5 | J8: 143 | K8: 1.7417925 | L8: 0.58059749 | M8: 0.31668954 | N8: 2.6390795 | O8: 8.9992611 | P8: 7.5477673 | Q8: 5.1666667 | S8: =F8*$R$3 -> 143 | T8: =(J8*200000)/(C8*2000) -> 7.5477673
B9: Distribution =250+ | C9: 7352.1 | D9: 1 | E9: 56 | F9: 63 | G9: 11 | H9: 131 | I9: 678.5 | J9: 819 | K9: 0.76168714 | L9: 0.85689803 | M9: 0.14961712 | N9: 1.7818038 | O9: 9.2286558 | P9: 11.139674 | Q9: 12.116071 | S9: =F9*$R$3 -> 819 | T9: =(J9*200000)/(C9*2000) -> 11.139674
B11: YE June 2023 | C11: FTEs | D11: Fatalities | E11: LTIs | F11: RWIs | G11: MTIs | H11: TRIs | I11: LTI Days Lost | J11: RW Days | K11: LTIFR | L11: RWIFR | M11: MTIFR | N11: TRIFR | O11: LTISR | P11: RWISR | Q11: ATLR to LTIs
B12: Industry Total | C12: 12495.49 | D12: 0 | E12: 105 | F12: 53 | G12: 75 | H12: 233 | I12: 813 | J12: 656 | K12: 0.84030318 | L12: 0.42415303 | M12: 0.60021656 | N12: 1.8646728 | O12: 9.2033206 | P12: 5.2498942 | Q12: 10.952381 | R12: =J12/F12 -> 12.377358
B13: Generation Total | C13: 2552.69 | D13: 0 | E13: 22 | F13: 10 | G13: 12 | H13: 44 | I13: 412 | J13: 67 | K13: 0.86183595 | L13: 0.39174361 | M13: 0.47009233 | N13: 1.7236719 | O13: 16.139837 | P13: 2.6246822 | Q13: 18.727273
B14: Transmission Total | C14: 1997.8 | D14: 0 | E14: 8 | F14: 5 | G14: 9 | H14: 22 | I14: 53 | J14: 68 | K14: 0.40044048 | L14: 0.2502753 | M14: 0.45049555 | N14: 1.1012113 | O14: 2.6529182 | P14: 3.4037441 | Q14: 6.625
B15: Distribution Total | C15: 7945 | D15: 0 | E15: 75 | F15: 38 | G15: 54 | H15: 167 | I15: 685 | J15: 521 | K15: 0.94398993 | L15: 0.47828823 | M15: 0.67967275 | N15: 2.1019509 | O15: 8.6217747 | P15: 6.5575834 | Q15: 9.1333333
B16: Distribution <100 | C16: 258 | D16: 0 | E16: 3 | F16: 1 | G16: 7 | H16: 11 | I16: 70 | J16: 187 | K16: 1.1627907 | L16: 0.3875969 | M16: 2.7131783 | N16: 4.2635659 | O16: 27.131783 | P16: 72.48062 | Q16: 23.333333
B17: Distribution <250 | C17: 1324 | D17: 0 | E17: 23 | F17: 9 | G17: 11 | H17: 43 | I17: 133 | J17: 167 | K17: 1.7371601 | L17: 0.67975831 | M17: 0.83081571 | N17: 3.2477341 | O17: 10.045317 | P17: 12.613293 | Q17: 5.7826087
B18: Distribution =250+ | C18: 6363 | D18: 0 | E18: 49 | F18: 28 | G18: 36 | H18: 113 | I18: 482 | J18: 167 | K18: 0.77007701 | L18: 0.440044 | M18: 0.56577086 | N18: 1.7758919 | O18: 7.5750432 | P18: 2.6245482 | Q18: 9.8367347
B20: YE June 2022 | C20: FTEs | D20: Fatalities | E20: LTIs | F20: RWIs | G20: MTIs | H20: TRIs | I20: LTI Days Lost | J20: RW Days | K20: LTIFR | L20: RWIFR | M20: MTIFR | N20: TRIFR | O20: LTISR | P20: RWISR | Q20: ATLR to LTIs
B21: Industry Total | C21: 11998.67 | D21: 0 | E21: 89 | F21: 50 | G21: 61 | H21: 200 | I21: 813 | J21: 700.5 | K21: 0.74174888 | L21: 0.41671285 | M21: 0.50838968 | N21: 1.6668514 | O21: 6.775751 | P21: 5.8381471 | Q21: 9.1348315 | R21: =J21/F21 -> 14.01
B22: Generation Total | C22: 2165.35 | D22: 0 | E22: 14 | F22: 6 | G22: 12 | H22: 32 | I22: 86 | J22: 77 | K22: 0.64654675 | L22: 0.27709146 | M22: 0.55418293 | N22: 1.4778211 | O22: 3.9716443 | P22: 3.5560071 | Q22: 6.1428571
B23: Transmission Total | C23: 1785 | D23: 0 | E23: 6 | F23: 6 | G23: 3 | H23: 15 | I23: 174 | J23: 84 | K23: 0.33613445 | L23: 0.33613445 | M23: 0.16806723 | N23: 0.84033613 | O23: 9.7478992 | P23: 4.7058824 | Q23: 29
B24: Distribution Total | C24: 8048.32 | D24: 0 | E24: 69 | F24: 38 | G24: 46 | H24: 153 | I24: 553 | J24: 539.5 | K24: 0.85732178 | L24: 0.47214822 | M24: 0.57154785 | N24: 1.9010179 | O24: 6.8709992 | P24: 6.7032623 | Q24: 8.0144928
B25: Distribution <100 | C25: 436 | D25: 0 | E25: 7 | F25: 1 | G25: 2 | H25: 10 | I25: 79 | J25: 65.5 | K25: 1.6055046 | L25: 0.2293578 | M25: 0.4587156 | N25: 2.293578 | O25: 18.119266 | P25: 15.022936 | Q25: 11.285714
B26: Distribution <250 | C26: 1680 | D26: 0 | E26: 21 | F26: 7 | G26: 6 | H26: 34 | I26: 134 | J26: 74 | K26: 1.25 | L26: 0.41666667 | M26: 0.35714286 | N26: 2.0238095 | O26: 7.9761905 | P26: 4.4047619 | Q26: 6.3809524
B27: Distribution =250+ | C27: 5932.32 | D27: 0 | E27: 41 | F27: 30 | G27: 38 | H27: 109 | I27: 340 | J27: 400 | K27: 0.69112927 | L27: 0.50570435 | M27: 0.64055884 | N27: 1.8373925 | O27: 5.7313159 | P27: 6.7427246 | Q27: 8.2926829
B29: YE June 2021 | C29: FTEs | D29: Fatalities | E29: LTIs | F29: RWIs | G29: MTIs | H29: TRIs | I29: LTI Days Lost | J29: RW Days | K29: LTIFR | L29: RWIFR | M29: MTIFR | N29: TRIFR | O29: LTISR | P29: RWISR | Q29: ATLR to LTIs
B30: Industry Total | C30: 10191.51 | D30: 1 | E30: 139 | F30: 80 | G30: 155 | H30: 375 | I30: 1722.75 | J30: 1213 | K30: 1.3638803 | L30: 0.7849671 | M30: 1.5208737 | N30: 3.6795333 | O30: 16.903776 | P30: 11.902064 | Q30: 12.393885 | R30: =J30/F30 -> 15.1625
B31: Generation Total | C31: 2246.85 | D31: 0 | E31: 24 | F31: 9 | G31: 58 | H31: 91 | I31: 447 | J31: 96 | K31: 1.0681621 | L31: 0.40056079 | M31: 2.5813917 | N31: 4.0501146 | O31: 19.894519 | P31: 4.2726484 | Q31: 18.625
B32: Transmission Total | C32: 1862.16 | D32: 1 | E32: 9 | F32: 14 | G32: 9 | H32: 33 | I32: 54 | J32: 68 | K32: 0.4833097 | L32: 0.7518151 | M32: 0.4833097 | N32: 1.7721356 | O32: 2.8998582 | P32: 3.6516733 | Q32: 6
B33: Distribution Total | C33: 6082.5 | D33: 0 | E33: 106 | F33: 57 | G33: 88 | H33: 251 | I33: 1221.75 | J33: 1049 | K33: 1.7427045 | L33: 0.93711467 | M33: 1.4467735 | N33: 4.1265927 | O33: 20.086313 | P33: 17.246198 | Q33: 11.525943
B34: Distribution <100 | C34: 506 | D34: 0 | E34: 13 | F34: 4 | G34: 4 | H34: 21 | I34: 149.75 | J34: 84 | K34: 2.56917 | L34: 0.79051383 | M34: 0.79051383 | N34: 4.1501976 | O34: 29.594862 | P34: 16.600791 | Q34: 11.519231
B35: Distribution <250 | C35: 2056.5 | D35: 0 | E35: 40 | F35: 9 | G35: 36 | H35: 85 | I35: 194 | J35: 26 | K35: 1.9450523 | L35: 0.43763676 | M35: 1.750547 | N35: 4.1332361 | O35: 9.4335035 | P35: 1.264284 | Q35: 4.85
B36: Distribution =250+ | C36: 3520 | D36: 0 | E36: 53 | F36: 44 | G36: 48 | H36: 145 | I36: 878 | J36: 939 | K36: 1.5056818 | L36: 1.25 | M36: 1.3636364 | N36: 4.1193182 | O36: 24.943182 | P36: 26.676136 | Q36: 16.566038
B38: YE June 2020 | C38: FTEs | D38: Fatalities | E38: LTIs | F38: RWIs | G38: MTIs | H38: TRIs | I38: LTI Days Lost | J38: RW Days | K38: LTIFR | L38: RWIFR | M38: MTIFR | N38: TRIFR | O38: LTISR | P38: RWISR | Q38: ATLR to LTIs
B39: Industry Total | C39: 12171.04 | D39: 0 | E39: 112 | F39: 64 | G39: 99 | H39: 275 | I39: 2111 | J39: 779 | K39: 0.92021717 | L39: 0.52583838 | M39: 0.81340625 | N39: 2.2594618 | O39: 17.34445 | P39: 6.4004391 | Q39: 18.848214 | R39: =J39/F39 -> 12.171875
B40: Generation Total | C40: 2319 | D40: 0 | E40: 12 | F40: 5 | G40: 16 | H40: 33 | I40: 237 | J40: 149 | K40: 0.51746442 | L40: 0.21561018 | M40: 0.68995257 | N40: 1.4230272 | O40: 10.219922 | P40: 6.4251833 | Q40: 19.75
B41: Transmission Total | C41: 1850.92 | D41: 0 | E41: 5 | F41: 9 | G41: 10 | H41: 24 | I41: 24 | J41: 66 | K41: 0.27013593 | L41: 0.48624468 | M41: 0.54027186 | N41: 1.2966525 | O41: 1.2966525 | P41: 3.5657943 | Q41: 4.8
B42: Distribution Total | C42: 8001.12 | D42: 0 | E42: 95 | F42: 50 | G42: 73 | H42: 218 | I42: 1850 | J42: 564 | K42: 1.1873338 | L42: 0.62491251 | M42: 0.91237227 | N42: 2.7246186 | O42: 23.121763 | P42: 7.0490131 | Q42: 19.473684
B43: Distribution <100 | C43: 377 | D43: 0 | E43: 12 | F43: 2 | G43: 3 | H43: 17 | I43: 152 | J43: 13 | K43: 3.1830239 | L43: 0.53050398 | M43: 0.79575597 | N43: 4.5092838 | O43: 40.318302 | P43: 3.4482759 | Q43: 12.666667
B44: Distribution <250 | C44: 1792 | D44: 0 | E44: 17 | F44: 6 | G44: 18 | H44: 41 | I44: 382 | J44: 131 | K44: 0.94866071 | L44: 0.33482143 | M44: 1.0044643 | N44: 2.2879464 | O44: 21.316964 | P44: 7.3102679 | Q44: 22.470588
B45: Distribution =250+ | C45: 5832.12 | D45: 0 | E45: 66 | F45: 42 | G45: 52 | H45: 160 | I45: 1316 | J45: 420 | K45: 1.131664 | L45: 0.72014979 | M45: 0.89161403 | N45: 2.7434278 | O45: 22.564693 | P45: 7.2014979 | Q45: 19.939394

Sheet Generation tables
B2: Gen YE June 2024 | D2: Code | E2: FTEs | F2: Fatalities | G2: LTIs | H2: RWIs | I2: MTIs | J2: TRIs | K2: LTI Days Lost | L2: RW Days (Est) | M2: LTIFR | N2: RWIFR | O2: MTIFR | P2: TRIFR | Q2: LTISR | R2: RWISR (Est) | S2: ATLR to LTIs
D3: G10 | E3: 382 | F3: 0 | G3: 6 | H3: 1 | I3: 0 | J3: 7 | K3: 62 | L3: 13 | M3: 1.5706806 | N3: 0.2617801 | O3: 0 | P3: 1.8324607 | Q3: 16.230366 | R3: 3.4031414 | S3: 10.333333
D4: G25 | E4: 639 | F4: 0 | G4: 5 | H4: 0 | I4: 1 | J4: 6 | K4: 56 | L4: 0 | M4: 0.78247261 | N4: 0 | O4: 0.15649452 | P4: 0.93896714 | Q4: 8.7636933 | R4: 0 | S4: 11.2
D5: G35 | E5: 1248 | F5: 0 | G5: 1 | H5: 0 | I5: 0 | J5: 1 | K5: 14 | L5: 0 | M5: 0.080128205 | N5: 0 | O5: 0 | P5: 0.080128205 | Q5: 1.1217949 | R5: 0 | S5: 14
D6: G50 | E6: 34 | F6: 0 | G6: 0 | H6: 0 | I6: 0 | J6: 0 | K6: 0 | L6: 0 | M6: 0 | N6: 0 | O6: 0 | P6: 0 | Q6: 0 | R6: 0 | S6: 0
D7: G65 | E7: 17 | F7: 0 | G7: 0 | H7: 0 | I7: 0 | J7: 0 | K7: 0 | L7: 0 | M7: 0 | N7: 0 | O7: 0 | P7: 0 | Q7: 0 | R7: 0 | S7: 0
D8: Group | E8: 2320 | F8: 0 | G8: 12 | H8: 1 | I8: 1 | J8: 14 | K8: 132 | L8: 13 | M8: 0.51724138 | N8: 0.043103448 | O8: 0.043103448 | P8: 0.60344828 | Q8: 5.6896552 | R8: 0.56034483 | S8: 11
D9: Industry | E9: 13913.83 | F9: 1 | G9: 115 | H9: 82 | I9: 36 | J9: 234 | K9: 1293 | L9: 1066 | M9: 0.82651578 | N9: 0.58934168 | O9: 0.25873537 | P9: 1.6817799 | Q9: 9.2929122 | R9: 7.6614419 | S9: 9.7218045
B11: Gen YE June 2023 | D11: Code | E11: FTEs | F11: Fatalities | G11: LTIs | H11: RWIs | I11: MTIs | J11: TRIs | K11: LTI Days Lost | L11: RW Days | M11: LTIFR | N11: RWIFR | O11: MTIFR | P11: TRIFR | Q11: LTISR | R11: RWISR | S11: ATLR to LTIs
D12: G10 | E12: 276 | F12: 0 | G12: 8 | H12: 4 | I12: 4 | J12: 16 | K12: 235 | L12: 13 | M12: 2.8985507 | N12: 1.4492754 | O12: 1.4492754 | P12: 5.7971014 | Q12: 85.144928 | R12: 4.7101449 | S12: 29.375
D13: G15 | E13: 233.69 | F13: 0 | G13: 3 | H13: 0 | I13: 3 | J13: 6 | K13: 80 | L13: 0 | M13: 1.283752 | N13: 0 | O13: 1.283752 | P13: 2.567504 | Q13: 34.233386 | R13: 0 | S13: 26.666667
D14: G20 | E14: 12 | F14: 0 | G14: 0 | H14: 0 | I14: 0 | J14: 0 | K14: 0 | L14: 0 | M14: 0 | N14: 0 | O14: 0 | P14: 0 | Q14: 0 | R14: 0 | S14: 0
D15: G25 | E15: 694 | F15: 0 | G15: 4 | H15: 0 | I15: 2 | J15: 6 | K15: 18 | L15: 0 | M15: 0.57636888 | N15: 0 | O15: 0.28818444 | P15: 0.86455331 | Q15: 2.5936599 | R15: 0 | S15: 4.5
D16: G35 | E16: 1040 | F16: 0 | G16: 2 | H16: 0 | I16: 2 | J16: 4 | K16: 0 | L16: 0 | M16: 0.19230769 | N16: 0 | O16: 0.19230769 | P16: 0.38461538 | Q16: 0 | R16: 0 | S16: 0
D17: G40 | E17: 262 | F17: 0 | G17: 5 | H17: 6 | I17: 1 | J17: 12 | K17: 79 | L17: 54 | M17: 1.9083969 | N17: 2.2900763 | O17: 0.38167939 | P17: 4.5801527 | Q17: 30.152672 | R17: 20.610687 | S17: 15.8
D18: G50 | E18: 25 | F18: 0 | G18: 0 | H18: 0 | I18: 0 | J18: 0 | K18: 0 | L18: 0 | M18: 0 | N18: 0 | O18: 0 | P18: 0 | Q18: 0 | R18: 0 | S18: 0
D19: G55 | E19: 10 | F19: 0 | G19: 0 | H19: 0 | I19: 0 | J19: 0 | K19: 0 | L19: 0 | M19: 0 | N19: 0 | O19: 0 | P19: 0 | Q19: 0 | R19: 0 | S19: 0
D20: Group | E20: 2552.69 | F20: 0 | G20: 22 | H20: 10 | I20: 12 | J20: 44 | K20: 412 | L20: 67 | M20: 0.86183595 | N20: 0.39174361 | O20: 0.47009233 | P20: 1.7236719 | Q20: 16.139837 | R20: 2.6246822 | S20: 18.727273
D21: Industry | E21: 12495.49 | F21: 0 | G21: 105 | H21: 53 | I21: 75 | J21: 233 | K21: 1150 | L21: 656 | M21: 0.84030318 | N21: 0.42415303 | O21: 0.60021656 | P21: 1.8646728 | Q21: 9.2033206 | R21: 5.2498942 | S21: 10.952381
B23: Gen YE June 2022 | D23: Code | E23: FTEs | F23: Fatalities | G23: LTIs | H23: RWIs | I23: MTIs | J23: TRIs | K23: LTI Days Lost | L23: RW Days | M23: LTIFR | N23: RWIFR | O23: MTIFR | P23: TRIFR | Q23: LTISR | R23: RWISR | S23: ATLR to LTIs
D24: G10 | E24: 460 | F24: 0 | G24: 8 | H24: 3 | I24: 1 | J24: 12 | K24: 35 | L24: 0 | M24: 1.7391304 | N24: 0.65217391 | O24: 0.2173913 | P24: 2.6086957 | Q24: 7.6086957 | R24: 0 | S24: 4.375
D25: G15 | E25: 248.85 | F25: 0 | G25: 0 | H25: 0 | I25: 2 | J25: 2 | K25: 5 | L25: 0 | M25: 0 | N25: 0 | O25: 0.80369701 | P25: 0.80369701 | Q25: 2.0092425 | R25: 0 | S25: 0
D26: G20 | E26: 19 | F26: 0 | G26: 0 | H26: 1 | I26: 0 | J26: 1 | K26: 0 | L26: 5 | M26: 0 | N26: 5.2631579 | O26: 0 | P26: 5.2631579 | Q26: 0 | R26: 26.315789 | S26: 0
D27: G25 | E27: 566.5 | F27: 0 | G27: 3 | H27: 1 | I27: 5 | J27: 9 | K27: 17 | L27: 3 | M27: 0.52956752 | N27: 0.17652251 | O27: 0.88261253 | P27: 1.5887026 | Q27: 3.0008826 | R27: 0.52956752 | S27: 5.6666667
D28: G35 | E28: 575 | F28: 0 | G28: 2 | H28: 0 | I28: 0 | J28: 2 | K28: 29 | L28: 0 | M28: 0.34782609 | N28: 0 | O28: 0 | P28: 0.34782609 | Q28: 5.0434783 | R28: 0 | S28: 14.5
D29: G40 | E29: 266 | F29: 0 | G29: 0 | H29: 1 | I29: 4 | J29: 5 | K29: 0 | L29: 69 | M29: 0 | N29: 0.37593985 | O29: 1.5037594 | P29: 1.8796992 | Q29: 0 | R29: 25.93985 | S29: 0
D30: G50 | E30: 19 | F30: 0 | G30: 0 | H30: 0 | I30: 0 | J30: 0 | K30: 0 | L30: 0 | M30: 0 | N30: 0 | O30: 0 | P30: 0 | Q30: 0 | R30: 0 | S30: 0
D31: G55 | E31: 10 | F31: 0 | G31: 1 | H31: 0 | I31: 0 | J31: 1 | K31: 0 | L31: 0 | M31: 10 | N31: 0 | O31: 0 | P31: 10 | Q31: 0 | R31: 0 | S31: 0
D32: G60 | E32: 1 | F32: 0 | G32: 0 | H32: 0 | I32: 0 | J32: 0 | K32: 0 | L32: 0 | M32: 0 | N32: 0 | O32: 0 | P32: 0 | Q32: 0 | R32: 0 | S32: 0
D33: Group | E33: 2165.35 | F33: 0 | G33: 14 | H33: 6 | I33: 12 | J33: 32 | K33: 86 | L33: 77 | M33: 0.64654675 | N33: 0.27709146 | O33: 0.55418293 | P33: 1.4778211 | Q33: 3.9716443 | R33: 3.5560071 | S33: 6.1428571
D34: Industry | E34: 11998.67 | F34: 0 | G34: 89 | H34: 50 | I34: 61 | J34: 200 | K34: 813 | L34: 700.5 | M34: 0.74174888 | N34: 0.41671285 | O34: 0.50838968 | P34: 1.6668514 | Q34: 6.775751 | R34: 5.8381471 | S34: 9.1348315
B36: Gen YE June 2021 | D36: Code | E36: FTEs | F36: Fatalities | G36: LTIs | H36: RWIs | I36: MTIs | J36: TRIs | K36: LTI Days Lost | L36: RW Days | M36: LTIFR | N36: RWIFR | O36: MTIFR | P36: TRIFR | Q36: LTISR | R36: RWISR | S36: ATLR to LTIs
D37: G10 | E37: 160 | F37: 0 | G37: 6 | H37: 1 | I37: 4 | J37: 11 | K37: 75 | L37: 10 | M37: 3.75 | N37: 0.625 | O37: 2.5 | P37: 6.875 | Q37: 46.875 | R37: 6.25 | S37: 12.5
D38: G12 | E38: 1 | F38: 0 | G38: 0 | H38: 0 | I38: 0 | J38: 0 | K38: 0 | L38: 0 | M38: 0 | N38: 0 | O38: 0 | P38: 0 | Q38: 0 | R38: 0 | S38: 0
D39: G15 | E39: 148.85 | F39: 0 | G39: 0 | H39: 0 | I39: 2 | J39: 2 | K39: 5 | L39: 0 | M39: 0 | N39: 0 | O39: 1.3436345 | P39: 1.3436345 | Q39: 3.3590863 | R39: 0 | S39: 0
D40: G20 | E40: 18 | F40: 0 | G40: 1 | H40: 0 | I40: 5 | J40: 6 | K40: 102 | L40: 0 | M40: 5.5555556 | N40: 0 | O40: 27.777778 | P40: 33.333333 | Q40: 566.66667 | R40: 0 | S40: 102
D41: G25 | E41: 699 | F41: 0 | G41: 4 | H41: 1 | I41: 1 | J41: 6 | K41: 21 | L41: 2 | M41: 0.57224607 | N41: 0.14306152 | O41: 0.14306152 | P41: 0.8583691 | Q41: 3.0042918 | R41: 0.28612303 | S41: 5.25
D42: G35 | E42: 892 | F42: 0 | G42: 7 | H42: 1 | I42: 4 | J42: 12 | K42: 68 | L42: 3 | M42: 0.78475336 | N42: 0.11210762 | O42: 0.44843049 | P42: 1.3452915 | Q42: 7.6233184 | R42: 0.33632287 | S42: 9.7142857
D43: G40 | E43: 246 | F43: 0 | G43: 6 | H43: 5 | I43: 2 | J43: 13 | K43: 176 | L43: 81 | M43: 2.4390244 | N43: 2.0325203 | O43: 0.81300813 | P43: 5.2845528 | Q43: 71.544715 | R43: 32.926829 | S43: 29.333333
D44: G50 | E44: 72 | F44: 0 | G44: 0 | H44: 1 | I44: 40 | J44: 41 | K44: 0 | L44: 0 | M44: 0 | N44: 1.3888889 | O44: 55.555556 | P44: 56.944444 | Q44: 0 | R44: 0 | S44: 0
...

Sheet Generation graphs
B2: Total Recordable Injury Frequency Rate | K2: Lost Time Injury Frequency Rate | T2: Lost Time Injury Severity Rate
B3: TRIFR - 5-year results - Generation peer group | D3: Year Ended | K3: LTIFR - 5-year results - Generation peer group | M3: Year Ended | T3: LTISR - 5-year results - Generation peer group | V3: Year Ended
D4: 2020 | E4: 2021 | F4: 2022 | G4: 2023 | H4: 2024 | M4: 2020 | N4: 2021 | O4: 2022 | P4: 2023 | Q4: 2024 | V4: 2020 | W4: 2021 | X4: 2022 | Y4: 2023 | Z4: 2024
B5: Respondent code | C5: G10 | D5: =IFERROR(VLOOKUP($C5,'Generation tables'!$D$51:$S$60,13,FALSE),"-") -> 1.1494253 | E5: =IFERROR(VLOOKUP($C5,'Generation tables'!$D$37:$S$46,13,FALSE),"-") -> 6.875 | F5: =IFERROR(VLOOKUP($C5,'Generation tables'!$D$24:$S$32,13,FALSE),"-") -> 2.6086957 | G5: =IFERROR(VLOOKUP($C5,'Generation tables'!$D$12:$S$19,13,FALSE),"-") -> 5.7971014 | H5: =IFERROR(VLOOKUP($C5,'Generation tables'!$D$3:$S$7,13,FALSE),"-") -> 1.8324607 | K5: Respondent code | L5: =C5 -> G10 | M5: =IFERROR(VLOOKUP($L5,'Generation tables'!$D$51:S$60,10,FALSE),"-") -> 0.57471264 | N5: =IFERROR(VLOOKUP($L5,'Generation tables'!$D$37:$S$46,10,FALSE),"-") -> 3.75 | O5: =IFERROR(VLOOKUP($L5,'Generation tables'!$D$24:$S$32,10,FALSE),"-") -> 1.7391304 | P5: =IFERROR(VLOOKUP($L5,'Generation tables'!$D$12:$S$19,10,FALSE),"-") -> 2.8985507 | Q5: =IFERROR(VLOOKUP($L5,'Generation tables'!$D$3:$S$7,10,FALSE),"-") -> 1.5706806 | T5: Respondent code | U5: =L5 -> G10 | V5: =IFERROR(VLOOKUP($U5,'Generation tables'!$D$50:$SS61,14,FALSE),"-") -> 10.632184 | W5: =IFERROR(VLOOKUP($U5,'Generation tables'!$D$37:$S$46,14,FALSE),"-") -> 46.875 | X5: =IFERROR(VLOOKUP($U5,'Generation tables'!$D$24:$S$32,14,FALSE),"-") -> 7.6086957 | Y5: =IFERROR(VLOOKUP($U5,'Generation tables'!$D$12:$S$19,14,FALSE),"-") -> 85.144928 | Z5: =IFERROR(VLOOKUP($U5,'Generation tables'!$D$3:$S$7,14,FALSE),"-") -> 16.230366
C6: G15 | D6: =IFERROR(VLOOKUP($C6,'Generation tables'!$D$51:$S$60,13,FALSE),"-") -> 1.3793103 | E6: =IFERROR(VLOOKUP($C6,'Generation tables'!$D$37:$S$46,13,FALSE),"-") -> 1.3436345 | F6: =IFERROR(VLOOKUP($C6,'Generation tables'!$D$24:$S$32,13,FALSE),"-") -> 0.80369701 | G6: =IFERROR(VLOOKUP($C6,'Generation tables'!$D$12:$S$19,13,FALSE),"-") -> 2.567504 | H6: =IFERROR(VLOOKUP($C6,'Generation tables'!$D$3:$S$7,13,FALSE),"-") -> - | L6: =C6 -> G15 | M6: =IFERROR(VLOOKUP($L6,'Generation tables'!$D$51:S$60,10,FALSE),"-") -> 0 | N6: =IFERROR(VLOOKUP($L6,'Generation tables'!$D$37:$S$46,10,FALSE),"-") -> 0 | O6: =IFERROR(VLOOKUP($L6,'Generation tables'!$D$24:$S$32,10,FALSE),"-") -> 0 | P6: =IFERROR(VLOOKUP($L6,'Generation tables'!$D$12:$S$19,10,FALSE),"-") -> 1.283752 | Q6: =IFERROR(VLOOKUP($L6,'Generation tables'!$D$3:$S$7,10,FALSE),"-") -> - | U6: =L6 -> G15 | V6: =IFERROR(VLOOKUP($U6,'Generation tables'!$D$50:$SS62,14,FALSE),"-") -> 0 | W6: =IFERROR(VLOOKUP($U6,'Generation tables'!$D$37:$S$46,14,FALSE),"-") -> 3.3590863 | X6: =IFERROR(VLOOKUP($U6,'Generation tables'!$D$24:$S$32,14,FALSE),"-") -> 2.0092425 | Y6: =IFERROR(VLOOKUP($U6,'Generation tables'!$D$12:$S$19,14,FALSE),"-") -> 34.233386 | Z6: =IFERROR(VLOOKUP($U6,'Generation tables'!$D$3:$S$7,14,FALSE),"-") -> -
C7: G20 | D7: =IFERROR(VLOOKUP($C7,'Generation tables'!$D$51:$S$60,13,FALSE),"-") -> 3.0487805 | E7: =IFERROR(VLOOKUP($C7,'Generation tables'!$D$37:$S$46,13,FALSE),"-") -> 33.333333 | F7: =IFERROR(VLOOKUP($C7,'Generation tables'!$D$24:$S$32,13,FALSE),"-") -> 5.2631579 | G7: =IFERROR(VLOOKUP($C7,'Generation tables'!$D$12:$S$19,13,FALSE),"-") -> 0 | H7: =IFERROR(VLOOKUP($C7,'Generation tables'!$D$3:$S$7,13,FALSE),"-") -> - | L7: =C7 -> G20 | M7: =IFERROR(VLOOKUP($L7,'Generation tables'!$D$51:S$60,10,FALSE),"-") -> 0 | N7: =IFERROR(VLOOKUP($L7,'Generation tables'!$D$37:$S$46,10,FALSE),"-") -> 5.5555556 | O7: =IFERROR(VLOOKUP($L7,'Generation tables'!$D$24:$S$32,10,FALSE),"-") -> 0 | P7: =IFERROR(VLOOKUP($L7,'Generation tables'!$D$12:$S$19,10,FALSE),"-") -> 0 | Q7: =IFERROR(VLOOKUP($L7,'Generation tables'!$D$3:$S$7,10,FALSE),"-") -> - | U7: =L7 -> G20 | V7: =IFERROR(VLOOKUP($U7,'Generation tables'!$D$50:$SS63,14,FALSE),"-") -> 0 | W7: =IFERROR(VLOOKUP($U7,'Generation tables'!$D$37:$S$46,14,FALSE),"-") -> 566.66667 | X7: =IFERROR(VLOOKUP($U7,'Generation tables'!$D$24:$S$32,14,FALSE),"-") -> 0 | Y7: =IFERROR(VLOOKUP($U7,'Generation tables'!$D$12:$S$19,14,FALSE),"-") -> 0 | Z7: =IFERROR(VLOOKUP($U7,'Generation tables'!$D$3:$S$7,14,FALSE),"-") -> -
C8: G25 | D8: =IFERROR(VLOOKUP($C8,'Generation tables'!$D$51:$S$60,13,FALSE),"-") -> 1.6949153 | E8: =IFERROR(VLOOKUP($C8,'Generation tables'!$D$37:$S$46,13,FALSE),"-") -> 0.8583691 | F8: =IFERROR(VLOOKUP($C8,'Generation tables'!$D$24:$S$32,13,FALSE),"-") -> 1.5887026 | G8: =IFERROR(VLOOKUP($C8,'Generation tables'!$D$12:$S$19,13,FALSE),"-") -> 0.86455331 | H8: =IFERROR(VLOOKUP($C8,'Generation tables'!$D$3:$S$7,13,FALSE),"-") -> 0.93896714 | L8: =C8 -> G25 | M8: =IFERROR(VLOOKUP($L8,'Generation tables'!$D$51:S$60,10,FALSE),"-") -> 0.63559322 | N8: =IFERROR(VLOOKUP($L8,'Generation tables'!$D$37:$S$46,10,FALSE),"-") -> 0.57224607 | O8: =IFERROR(VLOOKUP($L8,'Generation tables'!$D$24:$S$32,10,FALSE),"-") -> 0.52956752 | P8: =IFERROR(VLOOKUP($L8,'Generation tables'!$D$12:$S$19,10,FALSE),"-") -> 0.57636888 | Q8: =IFERROR(VLOOKUP($L8,'Generation tables'!$D$3:$S$7,10,FALSE),"-") -> 0.78247261 | U8: =L8 -> G25 | V8: =IFERROR(VLOOKUP($U8,'Generation tables'!$D$50:$SS64,14,FALSE),"-") -> 3.8135593 | W8: =IFERROR(VLOOKUP($U8,'Generation tables'!$D$37:$S$46,14,FALSE),"-") -> 3.0042918 | X8: =IFERROR(VLOOKUP($U8,'Generation tables'!$D$24:$S$32,14,FALSE),"-") -> 3.0008826 | Y8: =IFERROR(VLOOKUP($U8,'Generation tables'!$D$12:$S$19,14,FALSE),"-") -> 2.5936599 | Z8: =IFERROR(VLOOKUP($U8,'Generation tables'!$D$3:$S$7,14,FALSE),"-") -> 8.7636933
C9: G35 | D9: =IFERROR(VLOOKUP($C9,'Generation tables'!$D$51:$S$60,13,FALSE),"-") -> 0.97465887 | E9: =IFERROR(VLOOKUP($C9,'Generation tables'!$D$37:$S$46,13,FALSE),"-") -> 1.3452915 | F9: =IFERROR(VLOOKUP($C9,'Generation tables'!$D$24:$S$32,13,FALSE),"-") -> 0.34782609 | G9: =IFERROR(VLOOKUP($C9,'Generation tables'!$D$12:$S$19,13,FALSE),"-") -> 0.38461538 | H9: =IFERROR(VLOOKUP($C9,'Generation tables'!$D$3:$S$7,13,FALSE),"-") -> 0.080128205 | L9: =C9 -> G35 | M9: =IFERROR(VLOOKUP($L9,'Generation tables'!$D$51:S$60,10,FALSE),"-") -> 0.38986355 | N9: =IFERROR(VLOOKUP($L9,'Generation tables'!$D$37:$S$46,10,FALSE),"-") -> 0.78475336 | O9: =IFERROR(VLOOKUP($L9,'Generation tables'!$D$24:$S$32,10,FALSE),"-") -> 0.34782609 | P9: =IFERROR(VLOOKUP($L9,'Generation tables'!$D$12:$S$19,10,FALSE),"-") -> 0.19230769 | Q9: =IFERROR(VLOOKUP($L9,'Generation tables'!$D$3:$S$7,10,FALSE),"-") -> 0.080128205 | U9: =L9 -> G35 | V9: =IFERROR(VLOOKUP($U9,'Generation tables'!$D$50:$SS65,14,FALSE),"-") -> 4.0935673 | W9: =IFERROR(VLOOKUP($U9,'Generation tables'!$D$37:$S$46,14,FALSE),"-") -> 7.6233184 | X9: =IFERROR(VLOOKUP($U9,'Generation tables'!$D$24:$S$32,14,FALSE),"-") -> 5.0434783 | Y9: =IFERROR(VLOOKUP($U9,'Generation tables'!$D$12:$S$19,14,FALSE),"-") -> 0 | Z9: =IFERROR(VLOOKUP($U9,'Generation tables'!$D$3:$S$7,14,FALSE),"-") -> 1.1217949
C10: G40 | D10: =IFERROR(VLOOKUP($C10,'Generation tables'!$D$51:$S$60,13,FALSE),"-") -> 1.1029412 | E10: =IFERROR(VLOOKUP($C10,'Generation tables'!$D$37:$S$46,13,FALSE),"-") -> 5.2845528 | F10: =IFERROR(VLOOKUP($C10,'Generation tables'!$D$24:$S$32,13,FALSE),"-") -> 1.8796992 | G10: =IFERROR(VLOOKUP($C10,'Generation tables'!$D$12:$S$19,13,FALSE),"-") -> 4.5801527 | H10: =IFERROR(VLOOKUP($C10,'Generation tables'!$D$3:$S$7,13,FALSE),"-") -> - | L10: =C10 -> G40 | M10: =IFERROR(VLOOKUP($L10,'Generation tables'!$D$51:S$60,10,FALSE),"-") -> 0.73529412 | N10: =IFERROR(VLOOKUP($L10,'Generation tables'!$D$37:$S$46,10,FALSE),"-") -> 2.4390244 | O10: =IFERROR(VLOOKUP($L10,'Generation tables'!$D$24:$S$32,10,FALSE),"-") -> 0 | P10: =IFERROR(VLOOKUP($L10,'Generation tables'!$D$12:$S$19,10,FALSE),"-") -> 1.9083969 | Q10: =IFERROR(VLOOKUP($L10,'Generation tables'!$D$3:$S$7,10,FALSE),"-") -> - | U10: =L10 -> G40 | V10: =IFERROR(VLOOKUP($U10,'Generation tables'!$D$50:$SS66,14,FALSE),"-") -> 45.220588 | W10: =IFERROR(VLOOKUP($U10,'Generation tables'!$D$37:$S$46,14,FALSE),"-") -> 71.544715 | X10: =IFERROR(VLOOKUP($U10,'Generation tables'!$D$24:$S$32,14,FALSE),"-") -> 0 | Y10: =IFERROR(VLOOKUP($U10,'Generation tables'!$D$12:$S$19,14,FALSE),"-") -> 30.152672 | Z10: =IFERROR(VLOOKUP($U10,'Generation tables'!$D$3:$S$7,14,FALSE),"-") -> -
C11: G50 | D11: =IFERROR(VLOOKUP($C11,'Generation tables'!$D$51:$S$60,13,FALSE),"-") -> 7.6923077 | E11: =IFERROR(VLOOKUP($C11,'Generation tables'!$D$37:$S$46,13,FALSE),"-") -> 56.944444 | F11: =IFERROR(VLOOKUP($C11,'Generation tables'!$D$24:$S$32,13,FALSE),"-") -> 0 | G11: =IFERROR(VLOOKUP($C11,'Generation tables'!$D$12:$S$19,13,FALSE),"-") -> 0 | H11: =IFERROR(VLOOKUP($C11,'Generation tables'!$D$3:$S$7,13,FALSE),"-") -> 0 | L11: =C11 -> G50 | M11: =IFERROR(VLOOKUP($L11,'Generation tables'!$D$51:S$60,10,FALSE),"-") -> 3.8461538 | N11: =IFERROR(VLOOKUP($L11,'Generation tables'!$D$37:$S$46,10,FALSE),"-") -> 0 | O11: =IFERROR(VLOOKUP($L11,'Generation tables'!$D$24:$S$32,10,FALSE),"-") -> 0 | P11: =IFERROR(VLOOKUP($L11,'Generation tables'!$D$12:$S$19,10,FALSE),"-") -> 0 | Q11: =IFERROR(VLOOKUP($L11,'Generation tables'!$D$3:$S$7,10,FALSE),"-") -> 0 | U11: =L11 -> G50 | V11: =IFERROR(VLOOKUP($U11,'Generation tables'!$D$50:$SS67,14,FALSE),"-") -> 3.8461538 | W11: =IFERROR(VLOOKUP($U11,'Generation tables'!$D$37:$S$46,14,FALSE),"-") -> 0 | X11: =IFERROR(VLOOKUP($U11,'Generation tables'!$D$24:$S$32,14,FALSE),"-") -> 0 | Y11: =IFERROR(VLOOKUP($U11,'Generation tables'!$D$12:$S$19,14,FALSE),"-") -> 0 | Z11: =IFERROR(VLOOKUP($U11,'Generation tables'!$D$3:$S$7,14,FALSE),"-") -> 0
C12: G55 | D12: =IFERROR(VLOOKUP($C12,'Generation tables'!$D$51:$S$60,13,FALSE),"-") -> 0 | E12: =IFERROR(VLOOKUP($C12,'Generation tables'!$D$37:$S$46,13,FALSE),"-") -> 0 | F12: =IFERROR(VLOOKUP($C12,'Generation tables'!$D$24:$S$32,13,FALSE),"-") -> 10 | G12: =IFERROR(VLOOKUP($C12,'Generation tables'!$D$12:$S$19,13,FALSE),"-") -> 0 | H12: =IFERROR(VLOOKUP($C12,'Generation tables'!$D$3:$S$7,13,FALSE),"-") -> - | L12: =C12 -> G55 | M12: =IFERROR(VLOOKUP($L12,'Generation tables'!$D$51:S$60,10,FALSE),"-") -> 0 | N12: =IFERROR(VLOOKUP($L12,'Generation tables'!$D$37:$S$46,10,FALSE),"-") -> 0 | O12: =IFERROR(VLOOKUP($L12,'Generation tables'!$D$24:$S$32,10,FALSE),"-") -> 10 | P12: =IFERROR(VLOOKUP($L12,'Generation tables'!$D$12:$S$19,10,FALSE),"-") -> 0 | Q12: =IFERROR(VLOOKUP($L12,'Generation tables'!$D$3:$S$7,10,FALSE),"-") -> - | U12: =L12 -> G55 | V12: =IFERROR(VLOOKUP($U12,'Generation tables'!$D$50:$SS68,14,FALSE),"-") -> 0 | W12: =IFERROR(VLOOKUP($U12,'Generation tables'!$D$37:$S$46,14,FALSE),"-") -> 0 | X12: =IFERROR(VLOOKUP($U12,'Generation tables'!$D$24:$S$32,14,FALSE),"-") -> 0 | Y12: =IFERROR(VLOOKUP($U12,'Generation tables'!$D$12:$S$19,14,FALSE),"-") -> 0 | Z12: =IFERROR(VLOOKUP($U12,'Generation tables'!$D$3:$S$7,14,FALSE),"-") -> -
C13: G60 | D13: =IFERROR(VLOOKUP($C13,'Generation tables'!$D$51:$S$60,13,FALSE),"-") -> 0 | E13: =IFERROR(VLOOKUP($C13,'Generation tables'!$D$37:$S$46,13,FALSE),"-") -> 0 | F13: =IFERROR(VLOOKUP($C13,'Generation tables'!$D$24:$S$32,13,FALSE),"-") -> 0 | G13: =IFERROR(VLOOKUP($C13,'Generation tables'!$D$12:$S$19,13,FALSE),"-") -> - | H13: =IFERROR(VLOOKUP($C13,'Generation tables'!$D$3:$S$7,13,FALSE),"-") -> - | L13: G60 | M13: =IFERROR(VLOOKUP($L13,'Generation tables'!$D$51:S$60,10,FALSE),"-") -> 0 | N13: =IFERROR(VLOOKUP($L13,'Generation tables'!$D$37:$S$46,10,FALSE),"-") -> 0 | O13: =IFERROR(VLOOKUP($L13,'Generation tables'!$D$24:$S$32,10,FALSE),"-") -> 0 | P13: =IFERROR(VLOOKUP($L13,'Generation tables'!$D$12:$S$19,10,FALSE),"-") -> - | Q13: =IFERROR(VLOOKUP($L13,'Generation tables'!$D$3:$S$7,10,FALSE),"-") -> - | U13: G60 | V13: =IFERROR(VLOOKUP($U13,'Generation tables'!$D$50:$SS69,14,FALSE),"-") -> 0 | W13: =IFERROR(VLOOKUP($U13,'Generation tables'!$D$37:$S$46,14,FALSE),"-") -> 0 | X13: =IFERROR(VLOOKUP($U13,'Generation tables'!$D$24:$S$32,14,FALSE),"-") -> 0 | Y13: =IFERROR(VLOOKUP($U13,'Generation tables'!$D$12:$S$19,14,FALSE),"-") -> - | Z13: =IFERROR(VLOOKUP($U13,'Generation tables'!$D$3:$S$7,14,FALSE),"-") -> -
C14: G65 | D14: =IFERROR(VLOOKUP($C14,'Generation tables'!$D$51:$S$60,13,FALSE),"-") -> - | E14: =IFERROR(VLOOKUP($C14,'Generation tables'!$D$37:$S$46,13,FALSE),"-") -> - | F14: =IFERROR(VLOOKUP($C14,'Generation tables'!$D$24:$S$32,13,FALSE),"-") -> - | G14: =IFERROR(VLOOKUP($C14,'Generation tables'!$D$12:$S$19,13,FALSE),"-") -> - | H14: =IFERROR(VLOOKUP($C14,'Generation tables'!$D$3:$S$7,13,FALSE),"-") -> 0 | L14: =C14 -> G65 | M14: =IFERROR(VLOOKUP($L14,'Generation tables'!$D$51:S$60,10,FALSE),"-") -> - | N14: =IFERROR(VLOOKUP($L14,'Generation tables'!$D$37:$S$46,10,FALSE),"-") -> - | O14: =IFERROR(VLOOKUP($L14,'Generation tables'!$D$24:$S$32,10,FALSE),"-") -> - | P14: =IFERROR(VLOOKUP($L14,'Generation tables'!$D$12:$S$19,10,FALSE),"-") -> - | Q14: =IFERROR(VLOOKUP($L14,'Generation tables'!$D$3:$S$7,10,FALSE),"-") -> 0 | U14: =L14 -> G65 | V14: =IFERROR(VLOOKUP($U14,'Generation tables'!$D$50:$SS69,14,FALSE),"-") -> - | W14: =IFERROR(VLOOKUP($U14,'Generation tables'!$D$37:$S$46,14,FALSE),"-") -> - | X14: =IFERROR(VLOOKUP($U14,'Generation tables'!$D$24:$S$32,14,FALSE),"-") -> - | Y14: =IFERROR(VLOOKUP($U14,'Generation tables'!$D$12:$S$19,14,FALSE),"-") -> - | Z14: =IFERROR(VLOOKUP($U14,'Generation tables'!$D$3:$S$7,14,FALSE),"-") -> 0
B15: Generation | D15: ='Generation tables'!P61 -> 1.4230272 | E15: ='Generation tables'!P47 -> 4.0501146 | F15: ='Generation tables'!P33 -> 1.4778211 | G15: ='Generation tables'!P20 -> 1.7236719 | H15: ='Generation tables'!P8 -> 0.60344828 | K15: Generation | M15: ='Generation tables'!M61 -> 0.51746442 | N15: ='Generation tables'!$M47 -> 1.0686377 | O15: ='Generation tables'!$M33 -> 0.64654675 | P15: ='Generation tables'!$M20 -> 0.86183595 | Q15: ='Generation tables'!$M8 -> 0.51724138 | T15: Generation | V15: ='Generation tables'!$Q61 -> 19.75 | W15: ='Generation tables'!$Q47 -> 18.625 | X15: ='Generation tables'!$Q33 -> 3.9716443 | Y15: ='Generation tables'!$Q20 -> 16.139837 | Z15: ='Generation tables'!$Q8 -> 5.6896552
B16: Industry Total | D16: ='Generation tables'!P62 -> 2.2594618 | E16: ='Generation tables'!P48 -> 3.6798943 | F16: ='Generation tables'!P34 -> 1.6668514 | G16: ='Generation tables'!P21 -> 1.8646728 | H16: ='Generation tables'!P9 -> 1.6817799 | K16: Industry Total | M16: ='Generation tables'!M62 -> 0.92021717 | N16: ='Generation tables'!$M48 -> 1.3640142 | O16: ='Generation tables'!$M34 -> 0.74174888 | P16: ='Generation tables'!$M21 -> 0.84030318 | Q16: ='Generation tables'!$M9 -> 0.82651578 | T16: Industry Total | V16: ='Generation tables'!$Q62 -> 17.34445 | W16: ='Generation tables'!$Q48 -> 16.905435 | X16: ='Generation tables'!$Q34 -> 6.775751 | Y16: ='Generation tables'!$Q21 -> 9.2033206 | Z16: ='Generation tables'!$Q9 -> 9.2929122
C18: Select your respondent code -> | G18: 1 | L18: Select your respondent code -> | P18: 1 | U18: Select your respondent code -> | Y18: 1
D19: 1 | E19: 2 | F19: 3 | G19: 4 | H19: 5 | M19: 1 | N19: 2 | O19: 3 | P19: 4 | Q19: 5 | V19: 1 | W19: 2 | X19: 3 | Y19: 4
B21: TRIFR Respondent | D21: =D4 -> 2020 | E21: =E4 -> 2021 | F21: =F4 -> 2022 | G21: =G4 -> 2023 | H21: =H4 -> 2024 | K21: LTIFR Respondent | M21: =M4 -> 2020 | N21: =N4 -> 2021 | O21: =O4 -> 2022 | P21: =P4 -> 2023 | Q21: =Q4 -> 2024 | T21: LTISR Respondent | V21: =V4 -> 2020 | W21: =W4 -> 2021 | X21: =X4 -> 2022 | Y21: =Y4 -> 2023 | Z21: =Z4 -> 2024
B22: =INDEX($C$5:$C$14,$G$18,1) -> G10 | D22: =INDEX($D$5:$H$14,$G$18,D$19) -> 1.1494253 | E22: =INDEX($D$5:$H$14,$G$18,E$19) -> 6.875 | F22: =INDEX($D$5:$H$14,$G$18,F$19) -> 2.6086957 | G22: =INDEX($D$5:$H$14,$G$18,G$19) -> 5.7971014 | H22: =INDEX($D$5:$H$14,$G$18,H$19) -> 1.8324607 | K22: =INDEX($L$5:$L$14,$P$18,1) -> G10 | M22: =INDEX($M$5:$Q$14,$P$18,M$19) -> 0.57471264 | N22: =INDEX($M$5:$Q$14,$P$18,N$19) -> 3.75 | O22: =INDEX($M$5:$Q$14,$P$18,O$19) -> 1.7391304 | P22: =INDEX($M$5:$Q$14,$P$18,P$19) -> 2.8985507 | Q22: =INDEX($M$5:$Q$14,$P$18,Q$19) -> 1.5706806 | T22: =INDEX($C$5:$C$14,$Y$18,1) -> G10 | V22: =INDEX($V$5:$Z$14,$Y$18,V$19) -> 10.632184 | W22: =INDEX($V$5:$Z$14,$Y$18,W$19) -> 46.875 | X22: =INDEX($V$5:$Z$14,$Y$18,X$19) -> 7.6086957 | Y22: =INDEX($V$5:$Z$14,$Y$18,Y$19) -> 85.144928 | Z22: =INDEX($V$5:$Z$14,$Y$18,Z$19) -> 16.230366
B23: Generation | D23: =D15 -> 1.4230272 | E23: =E15 -> 4.0501146 | F23: =F15 -> 1.4778211 | G23: =G15 -> 1.7236719 | H23: =H15 -> 0.60344828 | K23: Generation | M23: =M15 -> 0.51746442 | N23: =N15 -> 1.0686377 | O23: =O15 -> 0.64654675 | P23: =P15 -> 0.86183595 | Q23: =Q15 -> 0.51724138 | T23: Generation | V23: =V15 -> 19.75 | W23: =W15 -> 18.625 | X23: =X15 -> 3.9716443 | Y23: =Y15 -> 16.139837 | Z23: =Z15 -> 5.6896552
B24: Industry Total | D24: =D16 -> 2.2594618 | E24: =E16 -> 3.6798943 | F24: =F16 -> 1.6668514 | G24: =G16 -> 1.8646728 | H24: =H16 -> 1.6817799 | K24: Industry Total | M24: =M16 -> 0.92021717 | N24: =N16 -> 1.3640142 | O24: =O16 -> 0.74174888 | P24: =P16 -> 0.84030318 | Q24: =Q16 -> 0.82651578 | T24: Industry Total | V24: =V16 -> 17.34445 | W24: =W16 -> 16.905435 | X24: =X16 -> 6.775751 | Y24: =Y16 -> 9.2033206 | Z24: =Z16 -> 9.2929122

Sheet Transmission tables
B2: Tran YE June 2024 | D2: Code | E2: FTEs | F2: Fatalities | G2: LTIs | H2: RWIs | I2: MTIs | J2: TRIs | K2: LTI Days Lost | L2: RW Days (Est) | M2: LTIFR | N2: RWIFR | O2: MTIFR | P2: TRIFR | Q2: LTISR | R2: RWISR (Est) | S2: ATLR to LTIs
D3: T45 | E3: 2074 | F3: 0 | G3: 8 | H3: 5 | I3: 18 | J3: 31 | K3: 131 | L3: 65 | M3: 0.38575968 | N3: 0.2410998 | O3: 0.86795928 | P3: 1.4948188 | Q3: 6.3168148 | R3: 3.1342974 | S3: 16.375
D4: Group | E4: 2073.83 | F4: 0 | G4: 8 | H4: 5 | I4: 18 | J4: 31 | K4: 131 | L4: 65 | M4: 0.38575968 | N4: 0.2410998 | O4: 0.86795928 | P4: 1.4948188 | Q4: 6.3168148 | R4: 3.1342974 | S4: 16.375
D5: Industry | E5: 13913.83 | F5: 1 | G5: 115 | H5: 82 | I5: 36 | J5: 234 | K5: 1293 | L5: 1066 | M5: 0.82651578 | N5: 0.58934168 | O5: 0.25873537 | P5: 1.6817799 | Q5: 9.2929122 | R5: 7.6614419 | S5: 9.7218045
B7: Tran YE June 2023 | D7: Code | E7: FTEs | F7: Fatalities | G7: LTIs | H7: RWIs | I7: MTIs | J7: TRIs | K7: LTI Days Lost | L7: RW Days | M7: LTIFR | N7: RWIFR | O7: MTIFR | P7: TRIFR | Q7: LTISR | R7: RWISR | S7: ATLR to LTIs
D8: T45 | E8: 1997.8 | F8: 0 | G8: 8 | H8: 5 | I8: 9 | J8: 22 | K8: 53 | L8: 68 | M8: 0.40044048 | N8: 0.2502753 | O8: 0.45049555 | P8: 1.1012113 | Q8: 2.6529182 | R8: 3.4037441 | S8: 6.625
D9: Group | E9: 1997.8 | F9: 0 | G9: 8 | H9: 5 | I9: 9 | J9: 22 | K9: 53 | L9: 68 | M9: 0.40044048 | N9: 0.2502753 | O9: 0.45049555 | P9: 1.1012113 | Q9: 2.6529182 | R9: 3.4037441 | S9: 6.625
D10: Industry | E10: 12495.49 | F10: 0 | G10: 105 | H10: 53 | I10: 75 | J10: 233 | K10: 1150 | L10: 656 | M10: 0.84030318 | N10: 0.42415303 | O10: 0.60021656 | P10: 1.8646728 | Q10: 9.2033206 | R10: 5.2498942 | S10: 10.952381
B12: Tran YE June 2022 | D12: Code | E12: FTEs | F12: Fatalities | G12: LTIs | H12: RWIs | I12: MTIs | J12: TRIs | K12: LTI Days Lost | L12: RW Days | M12: LTIFR | N12: RWIFR | O12: MTIFR | P12: TRIFR | Q12: LTISR | R12: RWISR | S12: ATLR to LTIs
D13: T45 | E13: 1785 | F13: 0 | G13: 6 | H13: 6 | I13: 3 | J13: 15 | K13: 174 | L13: 84 | M13: 0.33613445 | N13: 0.33613445 | O13: 0.16806723 | P13: 0.84033613 | Q13: 9.7478992 | R13: 4.7058824 | S13: 29
D14: Group | E14: 1785 | F14: 0 | G14: 6 | H14: 6 | I14: 3 | J14: 15 | K14: 174 | L14: 84 | M14: 0.33613445 | N14: 0.33613445 | O14: 0.16806723 | P14: 0.84033613 | Q14: 9.7478992 | R14: 4.7058824 | S14: 29
D15: Industry | E15: 11998.67 | F15: 0 | G15: 89 | H15: 50 | I15: 61 | J15: 200 | K15: 813 | L15: 700.5 | M15: 0.74174888 | N15: 0.41671285 | O15: 0.50838968 | P15: 1.6668514 | Q15: 6.775751 | R15: 5.8381471 | S15: 9.1348315
B17: Tran YE June 2021 | D17: Code | E17: FTEs | F17: Fatalities | G17: LTIs | H17: RWIs | I17: MTIs | J17: TRIs | K17: LTI Days Lost | L17: RW Days | M17: LTIFR | N17: RWIFR | O17: MTIFR | P17: TRIFR | Q17: LTISR | R17: RWISR | S17: ATLR to LTIs
D18: T45 | E18: 1862.16 | F18: 1 | G18: 9 | H18: 14 | I18: 9 | J18: 33 | K18: 54 | L18: 68 | M18: 0.4833097 | N18: 0.7518151 | O18: 0.4833097 | P18: 1.7721356 | Q18: 2.8998582 | R18: 3.6516733 | S18: 6
D19: Group | E19: 1862.16 | F19: 1 | G19: 9 | H19: 14 | I19: 9 | J19: 33 | K19: 54 | L19: 68 | M19: 0.4833097 | N19: 0.7518151 | O19: 0.4833097 | P19: 1.7721356 | Q19: 2.8998582 | R19: 3.6516733 | S19: 6
D20: Industry | E20: 10190.51 | F20: 1 | G20: 139 | H20: 80 | I20: 155 | J20: 375 | K20: 1722.75 | L20: 1213 | M20: 1.3640142 | N20: 0.78504412 | O20: 1.521023 | P20: 3.6798943 | Q20: 16.905435 | R20: 11.903232 | S20: 12.393885
B22: Tran YE June 2020 | D22: Code | E22: FTEs | F22: Fatalities | G22: LTIs | H22: RWIs | I22: MTIs | J22: TRIs | K22: LTI Days Lost | L22: RW Days | M22: LTIFR | N22: RWIFR | O22: MTIFR | P22: TRIFR | Q22: LTISR | R22: RWISR | S22: ATLR to LTIs
D23: T45 | E23: 1850.92 | F23: 0 | G23: 5 | H23: 9 | I23: 10 | J23: 24 | K23: 24 | L23: 66 | M23: 0.27013593 | N23: 0.48624468 | O23: 0.54027186 | P23: 1.2966525 | Q23: 1.2966525 | R23: 3.5657943 | S23: 4.8
D24: Group | E24: 1850.92 | F24: 0 | G24: 5 | H24: 9 | I24: 10 | J24: 24 | K24: 24 | L24: 66 | M24: 0.27013593 | N24: 0.48624468 | O24: 0.54027186 | P24: 1.2966525 | Q24: 1.2966525 | R24: 3.5657943 | S24: 4.8
D25: Industry | E25: 12171.04 | F25: 0 | G25: 112 | H25: 64 | I25: 99 | J25: 275 | K25: 2111 | L25: 779 | M25: 0.92021717 | N25: 0.52583838 | O25: 0.81340625 | P25: 2.2594618 | Q25: 17.34445 | R25: 6.4004391 | S25: 18.848214

Sheet Transmission graphs
B2: Total Recordable Injury Frequency Rate | J2: Lost Time Injury Frequency Rate | R2: Lost Time Injury Severity Rate
B3: TRIFR - 5-year results - Transmission peer group | C3: Year Ended | J3: LTIFR - 5-year results - Transmission peer group | K3: Year Ended | R3: LTISR - 5-year results - Transmission peer group | S3: Year Ended
C4: 2020 | D4: 2021 | E4: 2022 | F4: 2023 | G4: 2024 | K4: 2020 | L4: 2021 | M4: 2022 | N4: 2023 | O4: 2024 | S4: 2020 | T4: 2021 | U4: 2022 | V4: 2023 | W4: 2024
B5: T45 / Transmission | C5: ='Transmission tables'!$P23 -> 1.2966525 | D5: ='Transmission tables'!$P18 -> 1.7721356 | E5: ='Transmission tables'!$P13 -> 0.84033613 | F5: ='Transmission tables'!$P8 -> 1.1012113 | G5: ='Transmission tables'!$P3 -> 1.4948188 | J5: T45 / Transmission | K5: ='Transmission tables'!$M23 -> 0.27013593 | L5: ='Transmission tables'!$M18 -> 0.4833097 | M5: ='Transmission tables'!$M13 -> 0.33613445 | N5: ='Transmission tables'!$M8 -> 0.40044048 | O5: ='Transmission tables'!$M3 -> 0.38575968 | R5: T45 / Transmission | S5: ='Transmission tables'!$Q23 -> 1.2966525 | T5: ='Transmission tables'!$Q18 -> 2.8998582 | U5: ='Transmission tables'!$Q13 -> 9.7478992 | V5: ='Transmission tables'!$Q8 -> 2.6529182 | W5: ='Transmission tables'!$Q3 -> 6.3168148
B6: Transmission | C6: ='Transmission tables'!$P24 -> 1.2966525 | D6: ='Transmission tables'!$P19 -> 1.7721356 | E6: ='Transmission tables'!$P14 -> 0.84033613 | F6: ='Transmission tables'!$P9 -> 1.1012113 | G6: ='Transmission tables'!$P4 -> 1.4948188 | J6: Transmission | K6: ='Transmission tables'!$M24 -> 0.27013593 | L6: ='Transmission tables'!$M19 -> 0.4833097 | M6: ='Transmission tables'!$M14 -> 0.33613445 | N6: ='Transmission tables'!$M9 -> 0.40044048 | O6: ='Transmission tables'!$M4 -> 0.38575968 | R6: Transmission | S6: ='Transmission tables'!$Q24 -> 1.2966525 | T6: ='Transmission tables'!$Q19 -> 2.8998582 | U6: ='Transmission tables'!$Q14 -> 9.7478992 | V6: ='Transmission tables'!$Q9 -> 2.6529182 | W6: ='Transmission tables'!$Q4 -> 6.3168148
B7: Industry Total | C7: ='Transmission tables'!$P25 -> 2.2594618 | D7: ='Transmission tables'!$P20 -> 3.6798943 | E7: ='Transmission tables'!$P15 -> 1.6668514 | F7: ='Transmission tables'!$P10 -> 1.8646728 | G7: ='Transmission tables'!$P5 -> 1.6817799 | J7: Industry Total | K7: ='Transmission tables'!$M25 -> 0.92021717 | L7: ='Transmission tables'!$M20 -> 1.3640142 | M7: ='Transmission tables'!$M15 -> 0.74174888 | N7: ='Transmission tables'!$M10 -> 0.84030318 | O7: ='Transmission tables'!$M5 -> 0.82651578 | R7: Industry Total | S7: ='Transmission tables'!$Q25 -> 17.34445 | T7: ='Transmission tables'!$Q20 -> 16.905435 | U7: ='Transmission tables'!$Q15 -> 6.775751 | V7: ='Transmission tables'!$Q10 -> 9.2033206 | W7: ='Transmission tables'!$Q5 -> 9.2929122

Sheet Distribution (small) tables
B2: D<100 YE June 2024 | D2: Code | E2: FTEs | F2: Fatalities | G2: LTIs | H2: RWIs | I2: MTIs | J2: TRIs | K2: LTI Days Lost | L2: RW Days (Est) | M2: LTIFR | N2: RWIFR | O2: MTIFR | P2: TRIFR | Q2: LTISR | R2: RWISR (Est) | S2: ATLR to LTIs
D3: D65 | E3: 72.5 | F3: 0 | G3: 1 | H3: 0 | I3: 0 | J3: 1 | K3: 6 | L3: 0 | M3: 1.3793103 | N3: 0 | O3: 0 | P3: 1.3793103 | Q3: 8.2758621 | R3: 0 | S3: 6
D4: D105 | E4: 85 | F4: 0 | G4: 4 | H4: 0 | I4: 0 | J4: 4 | K4: 18 | L4: 0 | M4: 4.7058824 | N4: 0 | O4: 0 | P4: 4.7058824 | Q4: 21.176471 | R4: 0 | S4: 4.5
D5: D130 | E5: 9 | F5: 0 | G5: 0 | H5: 2 | I5: 0 | J5: 2 | K5: 0 | L5: 26 | M5: 0 | N5: 22.222222 | O5: 0 | P5: 22.222222 | Q5: 0 | R5: 288.88889 | S5: 0
D6: D135 | E6: 47.8 | F6: 0 | G6: 1 | H6: 0 | I6: 0 | J6: 1 | K6: 157 | L6: 0 | M6: 2.0920502 | N6: 0 | O6: 0 | P6: 2.0920502 | Q6: 328.45188 | R6: 0 | S6: 157
D7: D168 | E7: 59 | F7: 0 | G7: 0 | H7: 0 | I7: 0 | J7: 0 | K7: 0 | L7: 0 | M7: 0 | N7: 0 | O7: 0 | P7: 0 | Q7: 0 | R7: 0 | S7: 0
D8: Group | E8: 273.3 | F8: 0 | G8: 6 | H8: 2 | I8: 0 | J8: 8 | K8: 181 | L8: 26 | M8: 2.1953897 | N8: 0.73179656 | O8: 0 | P8: 2.9271862 | Q8: 66.227589 | R8: 9.5133553 | S8: 7.5416667
D9: Dist | E9: 9520 | F9: 1 | G9: 95 | H9: 76 | I9: 17 | J9: 189 | K9: 1030 | L9: 988 | M9: 0.99789916 | N9: 0.79831933 | O9: 0.17857143 | P9: 1.9852941 | Q9: 10.819328 | R9: 10.378151 | S9: 9.1150442
D10: Industry | E10: 13913.83 | F10: 1 | G10: 115 | H10: 82 | I10: 36 | J10: 234 | K10: 1293 | L10: 1066 | M10: 0.82651578 | N10: 0.58934168 | O10: 0.25873537 | P10: 1.6817799 | Q10: 9.2929122 | R10: 7.6614419 | S10: 9.7218045
B12: D<100 YE June 2023 | D12: Code | E12: FTEs | F12: Fatalities | G12: LTIs | H12: RWIs | I12: MTIs | J12: TRIs | K12: LTI Days Lost | L12: RW Days | M12: LTIFR | N12: RWIFR | O12: MTIFR | P12: TRIFR | Q12: LTISR | R12: RWISR | S12: ATLR to LTIs
D13: D50 | E13: 85 | F13: 0 | G13: 0 | H13: 0 | I13: 5 | J13: 5 | K13: 0 | L13: 0 | M13: 0 | N13: 0 | O13: 5.8823529 | P13: 5.8823529 | Q13: 0 | R13: 0 | S13: 0
D14: D65 | E14: 72 | F14: 0 | G14: 0 | H14: 0 | I14: 0 | J14: 0 | K14: 0 | L14: 0 | M14: 0 | N14: 0 | O14: 0 | P14: 0 | Q14: 0 | R14: 0 | S14: 0
D15: D70 | E15: 104 | F15: 0 | G15: 1 | H15: 2 | I15: 0 | J15: 3 | K15: 7 | L15: 7 | M15: 0.96153846 | N15: 1.9230769 | O15: 0 | P15: 2.8846154 | Q15: 6.7307692 | R15: 6.7307692 | S15: 7
D16: D105 | E16: 120 | F16: 0 | G16: 1 | H16: 0 | I16: 0 | J16: 1 | K16: 3 | L16: 0 | M16: 0.83333333 | N16: 0 | O16: 0 | P16: 0.83333333 | Q16: 2.5 | R16: 0 | S16: 3
D17: D135 | E17: 35 | F17: 0 | G17: 2 | H17: 0 | I17: 0 | J17: 2 | K17: 21 | L17: 0 | M17: 5.7142857 | N17: 0 | O17: 0 | P17: 5.7142857 | Q17: 60 | R17: 0 | S17: 10.5
D18: D168 | E18: 66 | F18: 0 | G18: 1 | H18: 1 | I18: 2 | J18: 4 | K18: 49 | L18: 187 | M18: 1.5151515 | N18: 1.5151515 | O18: 3.030303 | P18: 6.0606061 | Q18: 74.242424 | R18: 283.33333 | S18: 49
D19: Group | E19: 258 | F19: 0 | G19: 3 | H19: 1 | I19: 7 | J19: 11 | K19: 70 | L19: 187 | M19: 1.1627907 | N19: 0.3875969 | O19: 2.7131783 | P19: 4.2635659 | Q19: 27.131783 | R19: 72.48062 | S19: 23.333333
D20: Dist | E20: 7945 | F20: 0 | G20: 75 | H20: 38 | I20: 54 | J20: 167 | K20: 685 | L20: 521 | M20: 0.94398993 | N20: 0.47828823 | O20: 0.67967275 | P20: 2.1019509 | Q20: 8.6217747 | R20: 6.5575834 | S20: 9.1333333
D21: Industry | E21: 12495.49 | F21: 0 | G21: 105 | H21: 53 | I21: 75 | J21: 233 | K21: 1150 | L21: 656 | M21: 0.84030318 | N21: 0.42415303 | O21: 0.60021656 | P21: 1.8646728 | Q21: 9.2033206 | R21: 5.2498942 | S21: 10.952381
B23: D<100 YE June 2022 | D23: Code | E23: FTEs | F23: Fatalities | G23: LTIs | H23: RWIs | I23: MTIs | J23: TRIs | K23: LTI Days Lost | L23: RW Days | M23: LTIFR | N23: RWIFR | O23: MTIFR | P23: TRIFR | Q23: LTISR | R23: RWISR | S23: ATLR to LTIs
D24: D50 | E24: 85 | F24: 0 | G24: 4 | H24: 0 | I24: 1 | J24: 5 | K24: 63 | L24: 0 | M24: 4.7058824 | N24: 0 | O24: 1.1764706 | P24: 5.8823529 | Q24: 74.117647 | R24: 0 | S24: 15.75
D25: D65 | E25: 68 | F25: 0 | G25: 0 | H25: 0 | I25: 0 | J25: 0 | K25: 0 | L25: 0 | M25: 0 | N25: 0 | O25: 0 | P25: 0 | Q25: 0 | R25: 0 | S25: 0
D26: D70 | E26: 82 | F26: 0 | G26: 0 | H26: 0 | I26: 0 | J26: 0 | K26: 0 | L26: 0 | M26: 0 | N26: 0 | O26: 0 | P26: 0 | Q26: 0 | R26: 0 | S26: 0
D27: D105 | E27: 77 | F27: 0 | G27: 2 | H27: 0 | I27: 0 | J27: 2 | K27: 15 | L27: 0 | M27: 2.5974026 | N27: 0 | O27: 0 | P27: 2.5974026 | Q27: 19.480519 | R27: 0 | S27: 7.5
D28: D130 | E28: 10 | F28: 0 | G28: 0 | H28: 0 | I28: 1 | J28: 1 | K28: 0 | L28: 0 | M28: 0 | N28: 0 | O28: 10 | P28: 10 | Q28: 0 | R28: 0 | S28: 0
D29: D135 | E29: 52 | F29: 0 | G29: 1 | H29: 0 | I29: 0 | J29: 1 | K29: 1 | L29: 0 | M29: 1.9230769 | N29: 0 | O29: 0 | P29: 1.9230769 | Q29: 1.9230769 | R29: 0 | S29: 1
D30: D168 | E30: 62 | F30: 0 | G30: 0 | H30: 1 | I30: 0 | J30: 1 | K30: 0 | L30: 65.5 | M30: 0 | N30: 1.6129032 | O30: 0 | P30: 1.6129032 | Q30: 0 | R30: 105.64516 | S30: 0
D31: Group | E31: 436 | F31: 0 | G31: 7 | H31: 1 | I31: 2 | J31: 10 | K31: 79 | L31: 65.5 | M31: 1.6055046 | N31: 0.2293578 | O31: 0.4587156 | P31: 2.293578 | Q31: 18.119266 | R31: 15.022936 | S31: 11.285714
D32: Dist | E32: 8048.32 | F32: 0 | G32: 69 | H32: 38 | I32: 46 | J32: 153 | K32: 553 | L32: 539.5 | M32: 0.85732178 | N32: 0.47214822 | O32: 0.57154785 | P32: 1.9010179 | Q32: 6.8709992 | R32: 6.7032623 | S32: 8.0144928
D33: Industry | E33: 11998.67 | F33: 0 | G33: 89 | H33: 50 | I33: 61 | J33: 200 | K33: 813 | L33: 700.5 | M33: 0.74174888 | N33: 0.41671285 | O33: 0.50838968 | P33: 1.6668514 | Q33: 6.775751 | R33: 5.8381471 | S33: 9.1348315
B35: D<100 YE June 2021 | D35: Code | E35: FTEs | F35: Fatalities | G35: LTIs | H35: RWIs | I35: MTIs | J35: TRIs | K35: LTI Days Lost | L35: RW Days | M35: LTIFR | N35: RWIFR | O35: MTIFR | P35: TRIFR | Q35: LTISR | R35: RWISR | S35: ATLR to LTIs
D36: D50 | E36: 71 | F36: 0 | G36: 6 | H36: 0 | I36: 0 | J36: 6 | K36: 49.25 | L36: 0 | M36: 8.4507042 | N36: 0 | O36: 0 | P36: 8.4507042 | Q36: 69.366197 | R36: 0 | S36: 8.2083333
D37: D65 | E37: 62 | F37: 0 | G37: 2 | H37: 0 | I37: 0 | J37: 2 | K37: 37 | L37: 0 | M37: 3.2258065 | N37: 0 | O37: 0 | P37: 3.2258065 | Q37: 59.677419 | R37: 0 | S37: 18.5
D38: D70 | E38: 82 | F38: 0 | G38: 1 | H38: 1 | I38: 0 | J38: 2 | K38: 10 | L38: 10 | M38: 1.2195122 | N38: 1.2195122 | O38: 0 | P38: 2.4390244 | Q38: 12.195122 | R38: 12.195122 | S38: 10
D39: D105 | E39: 76 | F39: 0 | G39: 0 | H39: 0 | I39: 1 | J39: 1 | K39: 0 | L39: 0 | M39: 0 | N39: 0 | O39: 1.3157895 | P39: 1.3157895 | Q39: 0 | R39: 0 | S39: 0
D40: D110 | E40: 67 | F40: 0 | G40: 2 | H40: 0 | I40: 2 | J40: 4 | K40: 52 | L40: 36 | M40: 2.9850746 | N40: 0 | O40: 2.9850746 | P40: 5.9701493 | Q40: 77.61194 | R40: 53.731343 | S40: 26
D41: D130 | E41: 61 | F41: 0 | G41: 0 | H41: 1 | I41: 1 | J41: 2 | K41: 0 | L41: 30 | M41: 0 | N41: 1.6393443 | O41: 1.6393443 | P41: 3.2786885 | Q41: 0 | R41: 49.180328 | S41: 0
D42: D135 | E42: 42 | F42: 0 | G42: 1 | H42: 0 | I42: 0 | J42: 1 | K42: 0 | L42: 5 | M42: 2.3809524 | N42: 0 | O42: 0 | P42: 2.3809524 | Q42: 0 | R42: 11.904762 | S42: 0
D43: D168 | E43: 45 | F43: 0 | G43: 1 | H43: 2 | I43: 0 | J43: 3 | K43: 1.5 | L43: 3 | M43: 2.2222222 | N43: 4.4444444 | O43: 0 | P43: 6.6666667 | Q43: 3.3333333 | R43: 6.6666667 | S43: 1.5
D44: Group | E44: 506 | F44: 0 | G44: 13 | H44: 4 | I44: 4 | J44: 21 | K44: 149.75 | L44: 84 | M44: 2.56917 | N44: 0.79051383 | O44: 0.79051383 | P44: 4.1501976 | Q44: 29.594862 | R44: 16.600791 | S44: 11.519231
...

Sheet Distribution (small) graphs
B2: Total Recordable Injury Frequency Rate | K2: Lost Time Injury Frequency Rate | T2: Lost Time Injury Severity Rate
B3: TRIFR - 5-year results - Small-size distribustion peer group | D3: Year Ended | K3: LTIFR - 5-year results - Small-size distribustion peer group | M3: =D3 -> Year Ended | T3: LTISR - 5-year results - Small-size distribution peer group | V3: =D3 -> Year Ended
D4: 2020 | E4: 2021 | F4: 2022 | G4: 2023 | H4: 2024 | M4: 2020 | N4: 2021 | O4: 2022 | P4: 2023 | Q4: 2024 | V4: 2020 | W4: 2021 | X4: 2022 | Y4: 2023 | Z4: 2024
B5: Respondent code | C5: D50 | D5: =IFERROR(VLOOKUP($C5,'Distribution (small) tables'!$D$49:$S$55,13,FALSE),"-") -> 10.344828 | E5: =IFERROR(VLOOKUP($C5,'Distribution (small) tables'!$D$36:$S$43,13,FALSE),"-") -> 8.4507042 | F5: =IFERROR(VLOOKUP($C5,'Distribution (small) tables'!$D$24:$S$30,13,FALSE),"") -> 5.8823529 | G5: =IFERROR(VLOOKUP($C5,'Distribution (small) tables'!$D$13:$S$18,13,FALSE),"-") -> 5.8823529 | H5: =IFERROR(VLOOKUP($C5,'Distribution (small) tables'!$D$3:$S$7,13,FALSE),"-") -> - | K5: Respondent code | L5: =C5 -> D50 | M5: =IFERROR(VLOOKUP($L5,'Distribution (small) tables'!$D$49:$S$55,10,FALSE),"-") -> 10.344828 | N5: =IFERROR(VLOOKUP($L5,'Distribution (small) tables'!$D$36:$S$43,10,FALSE),"-") -> 8.4507042 | O5: =IFERROR(VLOOKUP($L5,'Distribution (small) tables'!$D$24:$S$30,10,FALSE),"-") -> 4.7058824 | P5: =IFERROR(VLOOKUP($L5,'Distribution (small) tables'!$D$13:$S$18,10,FALSE),"-") -> 0 | Q5: =IFERROR(VLOOKUP($L5,'Distribution (small) tables'!$D$3:$S$7,10,FALSE),"-") -> - | T5: Respondent code | U5: =L5 -> D50 | V5: =IFERROR(VLOOKUP($U5,'Distribution (small) tables'!$D$49:$S$55,14,FALSE),"-") -> 117.24138 | W5: =IFERROR(VLOOKUP($U5,'Distribution (small) tables'!$D$36:$S$43,14,FALSE),"-") -> 69.366197 | X5: =IFERROR(VLOOKUP($U5,'Distribution (small) tables'!$D$24:$S$30,14,FALSE),"-") -> 74.117647 | Y5: =IFERROR(VLOOKUP($U5,'Distribution (small) tables'!$D$13:$S$18,14,FALSE),"-") -> 0 | Z5: =IFERROR(VLOOKUP($U5,'Distribution (small) tables'!$D$3:$S$7,14,FALSE),"-") -> -
C6: D65 | D6: =IFERROR(VLOOKUP($C6,'Distribution (small) tables'!$D$49:$S$55,13,FALSE),"-") -> 9.6774194 | E6: =IFERROR(VLOOKUP($C6,'Distribution (small) tables'!$D$36:$S$43,13,FALSE),"-") -> 3.2258065 | F6: =IFERROR(VLOOKUP($C6,'Distribution (small) tables'!$D$24:$S$30,13,FALSE),"") -> 0 | G6: =IFERROR(VLOOKUP($C6,'Distribution (small) tables'!$D$13:$S$18,13,FALSE),"-") -> 0 | H6: =IFERROR(VLOOKUP($C6,'Distribution (small) tables'!$D$3:$S$7,13,FALSE),"-") -> 1.3793103 | L6: =C6 -> D65 | M6: =IFERROR(VLOOKUP($L6,'Distribution (small) tables'!$D$49:$S$55,10,FALSE),"-") -> 4.8387097 | N6: =IFERROR(VLOOKUP($L6,'Distribution (small) tables'!$D$36:$S$43,10,FALSE),"-") -> 3.2258065 | O6: =IFERROR(VLOOKUP($L6,'Distribution (small) tables'!$D$24:$S$30,10,FALSE),"-") -> 0 | P6: =IFERROR(VLOOKUP($L6,'Distribution (small) tables'!$D$13:$S$18,10,FALSE),"-") -> 0 | Q6: =IFERROR(VLOOKUP($L6,'Distribution (small) tables'!$D$3:$S$7,10,FALSE),"-") -> 1.3793103 | U6: =L6 -> D65 | V6: =IFERROR(VLOOKUP($U6,'Distribution (small) tables'!$D$49:$S$55,14,FALSE),"-") -> 50 | W6: =IFERROR(VLOOKUP($U6,'Distribution (small) tables'!$D$36:$S$43,14,FALSE),"-") -> 59.677419 | X6: =IFERROR(VLOOKUP($U6,'Distribution (small) tables'!$D$24:$S$30,14,FALSE),"-") -> 0 | Y6: =IFERROR(VLOOKUP($U6,'Distribution (small) tables'!$D$13:$S$18,14,FALSE),"-") -> 0 | Z6: =IFERROR(VLOOKUP($U6,'Distribution (small) tables'!$D$3:$S$7,14,FALSE),"-") -> 8.2758621
C7: D70 | D7: =IFERROR(VLOOKUP($C7,'Distribution (small) tables'!$D$49:$S$55,13,FALSE),"-") -> 3.8961039 | E7: =IFERROR(VLOOKUP($C7,'Distribution (small) tables'!$D$36:$S$43,13,FALSE),"-") -> 2.4390244 | F7: =IFERROR(VLOOKUP($C7,'Distribution (small) tables'!$D$24:$S$30,13,FALSE),"") -> 0 | G7: =IFERROR(VLOOKUP($C7,'Distribution (small) tables'!$D$13:$S$18,13,FALSE),"-") -> 2.8846154 | H7: =IFERROR(VLOOKUP($C7,'Distribution (small) tables'!$D$3:$S$7,13,FALSE),"-") -> - | L7: =C7 -> D70 | M7: =IFERROR(VLOOKUP($L7,'Distribution (small) tables'!$D$49:$S$55,10,FALSE),"-") -> 2.5974026 | N7: =IFERROR(VLOOKUP($L7,'Distribution (small) tables'!$D$36:$S$43,10,FALSE),"-") -> 1.2195122 | O7: =IFERROR(VLOOKUP($L7,'Distribution (small) tables'!$D$24:$S$30,10,FALSE),"-") -> 0 | P7: =IFERROR(VLOOKUP($L7,'Distribution (small) tables'!$D$13:$S$18,10,FALSE),"-") -> 0.96153846 | Q7: =IFERROR(VLOOKUP($L7,'Distribution (small) tables'!$D$3:$S$7,10,FALSE),"-") -> - | U7: =L7 -> D70 | V7: =IFERROR(VLOOKUP($U7,'Distribution (small) tables'!$D$49:$S$55,14,FALSE),"-") -> 67.532468 | W7: =IFERROR(VLOOKUP($U7,'Distribution (small) tables'!$D$36:$S$43,14,FALSE),"-") -> 12.195122 | X7: =IFERROR(VLOOKUP($U7,'Distribution (small) tables'!$D$24:$S$30,14,FALSE),"-") -> 0 | Y7: =IFERROR(VLOOKUP($U7,'Distribution (small) tables'!$D$13:$S$18,14,FALSE),"-") -> 6.7307692 | Z7: =IFERROR(VLOOKUP($U7,'Distribution (small) tables'!$D$3:$S$7,14,FALSE),"-") -> -
C8: D105 | D8: =IFERROR(VLOOKUP($C8,'Distribution (small) tables'!$D$49:$S$55,13,FALSE),"-") -> 0 | E8: =IFERROR(VLOOKUP($C8,'Distribution (small) tables'!$D$36:$S$43,13,FALSE),"-") -> 1.3157895 | F8: =IFERROR(VLOOKUP($C8,'Distribution (small) tables'!$D$24:$S$30,13,FALSE),"") -> 2.5974026 | G8: =IFERROR(VLOOKUP($C8,'Distribution (small) tables'!$D$13:$S$18,13,FALSE),"-") -> 0.83333333 | H8: =IFERROR(VLOOKUP($C8,'Distribution (small) tables'!$D$3:$S$7,13,FALSE),"-") -> 4.7058824 | L8: =C8 -> D105 | M8: =IFERROR(VLOOKUP($L8,'Distribution (small) tables'!$D$49:$S$55,10,FALSE),"-") -> 0 | N8: =IFERROR(VLOOKUP($L8,'Distribution (small) tables'!$D$36:$S$43,10,FALSE),"-") -> 0 | O8: =IFERROR(VLOOKUP($L8,'Distribution (small) tables'!$D$24:$S$30,10,FALSE),"-") -> 2.5974026 | P8: =IFERROR(VLOOKUP($L8,'Distribution (small) tables'!$D$13:$S$18,10,FALSE),"-") -> 0.83333333 | Q8: =IFERROR(VLOOKUP($L8,'Distribution (small) tables'!$D$3:$S$7,10,FALSE),"-") -> 4.7058824 | U8: =L8 -> D105 | V8: =IFERROR(VLOOKUP($U8,'Distribution (small) tables'!$D$49:$S$55,14,FALSE),"-") -> 0 | W8: =IFERROR(VLOOKUP($U8,'Distribution (small) tables'!$D$36:$S$43,14,FALSE),"-") -> 0 | X8: =IFERROR(VLOOKUP($U8,'Distribution (small) tables'!$D$24:$S$30,14,FALSE),"-") -> 19.480519 | Y8: =IFERROR(VLOOKUP($U8,'Distribution (small) tables'!$D$13:$S$18,14,FALSE),"-") -> 2.5 | Z8: =IFERROR(VLOOKUP($U8,'Distribution (small) tables'!$D$3:$S$7,14,FALSE),"-") -> 21.176471
C9: D130 | D9: =IFERROR(VLOOKUP($C9,'Distribution (small) tables'!$D$49:$S$55,13,FALSE),"-") -> 0 | E9: =IFERROR(VLOOKUP($C9,'Distribution (small) tables'!$D$36:$S$43,13,FALSE),"-") -> 3.2786885 | F9: =IFERROR(VLOOKUP($C9,'Distribution (small) tables'!$D$24:$S$30,13,FALSE),"") -> 10 | G9: =IFERROR(VLOOKUP($C9,'Distribution (small) tables'!$D$13:$S$18,13,FALSE),"-") -> - | H9: =IFERROR(VLOOKUP($C9,'Distribution (small) tables'!$D$3:$S$7,13,FALSE),"-") -> 22.222222 | L9: =C9 -> D130 | M9: =IFERROR(VLOOKUP($L9,'Distribution (small) tables'!$D$49:$S$55,10,FALSE),"-") -> 0 | N9: =IFERROR(VLOOKUP($L9,'Distribution (small) tables'!$D$36:$S$43,10,FALSE),"-") -> 0 | O9: =IFERROR(VLOOKUP($L9,'Distribution (small) tables'!$D$24:$S$30,10,FALSE),"-") -> 0 | P9: =IFERROR(VLOOKUP($L9,'Distribution (small) tables'!$D$13:$S$18,10,FALSE),"-") -> - | Q9: =IFERROR(VLOOKUP($L9,'Distribution (small) tables'!$D$3:$S$7,10,FALSE),"-") -> 0 | U9: =L9 -> D130 | V9: =IFERROR(VLOOKUP($U9,'Distribution (small) tables'!$D$49:$S$55,14,FALSE),"-") -> 0 | W9: =IFERROR(VLOOKUP($U9,'Distribution (small) tables'!$D$36:$S$43,14,FALSE),"-") -> 0 | X9: =IFERROR(VLOOKUP($U9,'Distribution (small) tables'!$D$24:$S$30,14,FALSE),"-") -> 0 | Y9: =IFERROR(VLOOKUP($U9,'Distribution (small) tables'!$D$13:$S$18,14,FALSE),"-") -> - | Z9: =IFERROR(VLOOKUP($U9,'Distribution (small) tables'!$D$3:$S$7,14,FALSE),"-") -> 0
C10: D135 | D10: =IFERROR(VLOOKUP($C10,'Distribution (small) tables'!$D$49:$S$55,13,FALSE),"-") -> 0 | E10: =IFERROR(VLOOKUP($C10,'Distribution (small) tables'!$D$36:$S$43,13,FALSE),"-") -> 2.3809524 | F10: =IFERROR(VLOOKUP($C10,'Distribution (small) tables'!$D$24:$S$30,13,FALSE),"") -> 1.9230769 | G10: =IFERROR(VLOOKUP($C10,'Distribution (small) tables'!$D$13:$S$18,13,FALSE),"-") -> 5.7142857 | H10: =IFERROR(VLOOKUP($C10,'Distribution (small) tables'!$D$3:$S$7,13,FALSE),"-") -> 2.0920502 | L10: =C10 -> D135 | M10: =IFERROR(VLOOKUP($L10,'Distribution (small) tables'!$D$49:$S$55,10,FALSE),"-") -> 0 | N10: =IFERROR(VLOOKUP($L10,'Distribution (small) tables'!$D$36:$S$43,10,FALSE),"-") -> 2.3809524 | O10: =IFERROR(VLOOKUP($L10,'Distribution (small) tables'!$D$24:$S$30,10,FALSE),"-") -> 1.9230769 | P10: =IFERROR(VLOOKUP($L10,'Distribution (small) tables'!$D$13:$S$18,10,FALSE),"-") -> 5.7142857 | Q10: =IFERROR(VLOOKUP($L10,'Distribution (small) tables'!$D$3:$S$7,10,FALSE),"-") -> 2.0920502 | U10: =L10 -> D135 | V10: =IFERROR(VLOOKUP($U10,'Distribution (small) tables'!$D$49:$S$55,14,FALSE),"-") -> 0 | W10: =IFERROR(VLOOKUP($U10,'Distribution (small) tables'!$D$36:$S$43,14,FALSE),"-") -> 0 | X10: =IFERROR(VLOOKUP($U10,'Distribution (small) tables'!$D$24:$S$30,14,FALSE),"-") -> 1.9230769 | Y10: =IFERROR(VLOOKUP($U10,'Distribution (small) tables'!$D$13:$S$18,14,FALSE),"-") -> 60 | Z10: =IFERROR(VLOOKUP($U10,'Distribution (small) tables'!$D$3:$S$7,14,FALSE),"-") -> 328.45188
