Workbook
Name InputOrgGroupingByYear: [1]Input!$AR$2:$AR$1031
Name LTIFRBySector: OFFSET('[1]Tables by Sector'!$BS$3,0,0,COUNTA('[1]Tables by Sector'!$BS:$BS)-1,6)
Name LTISRBySector: OFFSET('[1]Tables by Sector'!$DS$4,0,0,COUNTA('[1]Tables by Sector'!$DS:$DS)-1,6)
Name MTIFRBySector: OFFSET('[1]Tables by Sector'!$BE$3,0,0,COUNTA('[1]Tables by Sector'!$BE:$BE)-1,6)
Name RWIFRBySector: OFFSET('[2]Tables by Sector'!$BK$3,0,0,COUNTA('[2]Tables by Sector'!$BK:$BK)-1,6)
Name RWISRBySector: OFFSET('[2]Tables by Sector'!$CW$4,0,0,COUNTA('[2]Tables by Sector'!$CW:$CW)-1,6)
Name TRIFRBySector: OFFSET('[1]Tables by Sector'!$BZ$3,0,0,COUNTA('[1]Tables by Sector'!$BZ:$BZ)-1,6)

Sheet Industry Tables
B2: YE June 2024 | C2: FTEs | D2: Fatalities | E2: LTIs | F2: RWIs | G2: MTIs | H2: TRIs | I2: LTI Days Lost | J2: RW Days (est) | K2: LTIFR | L2: RWIFR | M2: MTIFR | N2: TRIFR | O2: LTISR | P2: RWISR (est) | Q2: ATLR to LTIs | R2: AVE RWI days | S2: RW days (est) | T2: RWISR (est)
B3: Industry Total | C3: 13913.83 | D3: 1 | E3: 115 | F3: 82 | G3: 36 | H3: 234 | I3: 1293 | J3: 1066 | K3: 0.82651578 | L3: 0.58934168 | M3: 0.25873537 | N3: 1.6817799 | O3: 9.2929122 | P3: 7.6614419 | Q3: 9.7218045 | R3: 13 | S3: =F3*$R$3 -> 1066 | T3: =(J3*200000)/(C3*2000) -> 7.6614419
B4: Generation Total | C4: 2320 | D4: 0 | E4: 12 | F4: 1 | G4: 1 | H4: 14 | I4: 132 | J4: 13 | K4: 0.51724138 | L4: 0.043103448 | M4: 0.043103448 | N4: 0.60344828 | O4: 5.6896552 | P4: 0.56034483 | Q4: 11 | S4: =F4*$R$3 -> 13 | T4: =(J4*200000)/(C4*2000) -> 0.56034483
B5: Transmission Total | C5: 2073.83 | D5: 0 | E5: 8 | F5: 5 | G5: 18 | H5: 31 | I5: 131 | J5: 65 | K5: 0.38575968 | L5: 0.2410998 | M5: 0.86795928 | N5: 1.4948188 | O5: 6.3168148 | P5: 3.1342974 | Q5: 16.375 | S5: =F5*$R$3 -> 65 | T5: =(J5*200000)/(C5*2000) -> 3.1342974
B6: Distribution Total | C6: 9520 | D6: 1 | E6: 95 | F6: 76 | G6: 17 | H6: 189 | I6: 1030 | J6: 988 | K6: 0.99789916 | L6: 0.79831933 | M6: 0.17857143 | N6: 1.9852941 | O6: 10.819328 | P6: 10.378151 | Q6: 9.1150442 | S6: =F6*$R$3 -> 988 | T6: =(J6*200000)/(C6*2000) -> 10.378151
B7: Distribution <100 | C7: 273.3 | D7: 0 | E7: 6 | F7: 2 | G7: 0 | H7: 8 | I7: 181 | J7: 26 | K7: 2.1953897 | L7: 0.73179656 | M7: 0 | N7: 2.9271862 | O7: 66.227589 | P7: 9.5133553 | Q7: 7.5416667 | S7: =F7*$R$3 -> 26 | T7: =(J7*200000)/(C7*2000) -> 9.5133553
B8: Distribution <250 | C8: 1894.6 | D8: 0 | E8: 33 | F8: 11 | G8: 6 | H8: 50 | I8: 170.5 | J8: 143 | K8: 1.7417925 | L8: 0.58059749 | M8: 0.31668954 | N8: 2.6390795 | O8: 8.9992611 | P8: 7.5477673 | Q8: 5.1666667 | S8: =F8*$R$3 -> 143 | T8: =(J8*200000)/(C8*2000) -> 7.5477673
B9: Distribution =250+ | C9: 7352.1 | D9: 1 | E9: 56 | F9: 63 | G9: 11 | H9: 131 | I9: 678.5 | J9: 819 | K9: 0.76168714 | L9: 0.85689803 | M9: 0.14961712 | N9: 1.7818038 | O9: 9.2286558 | P9: 11.139674 | Q9: 12.116071 | S9: =F9*$R$3 -> 819 | T9: =(J9*200000)/(C9*2000) -> 11.139674
B11: YE June 2023 | C11: FTEs | D11: Fatalities | E11: LTIs | F11: RWIs | G11: MTIs | H11: TRIs | I11: LTI Days Lost | J11: RW Days | K11: LTIFR | L11: RWIFR | M11: MTIFR | N11: TRIFR | O11: LTISR | P11: RWISR | Q11: ATLR to LTIs
B12: Industry Total | C12: 12495.49 | D12: 0 | E12: 105 | F12: 53 | G12: 75 | H12: 233 | I12: 813 | J12: 656 | K12: 0.84030318 | L12: 0.42415303 | M12: 0.60021656 | N12: 1.8646728 | O12: 9.2033206 | P12: 5.2498942 | Q12: 10.952381 | R12: =J12/F12 -> 12.377358
B13: Generation Total | C13: 2552.69 | D13: 0 | E13: 22 | F13: 10 | G13: 12 | H13: 44 | I13: 412 | J13: 67 | K13: 0.86183595 | L13: 0.39174361 | M13: 0.47009233 | N13: 1.7236719 | O13: 16.139837 | P13: 2.6246822 | Q13: 18.727273
B14: Transmission Total | C14: 1997.8 | D14: 0 | E14: 8 | F14: 5 | G14: 9 | H14: 22 | I14: 53 | J14: 68 | K14: 0.40044048 | L14: 0.2502753 | M14: 0.45049555 | N14: 1.1012113 | O14: 2.6529182 | P14: 3.4037441 | Q14: 6.625
B15: Distribution Total | C15: 7945 | D15: 0 | E15: 75 | F15: 38 | G15: 54 | H15: 167 | I15: 685 | J15: 521 | K15: 0.94398993 | L15: 0.47828823 | M15: 0.67967275 | N15: 2.1019509 | O15: 8.6217747 | P15: 6.5575834 | Q15: 9.1333333
B16: Distribution <100 | C16: 258 | D16: 0 | E16: 3 | F16: 1 | G16: 7 | H16: 11 | I16: 70 | J16: 187 | K16: 1.1627907 | L16: 0.3875969 | M16: 2.7131783 | N16: 4.2635659 | O16: 27.131783 | P16: 72.48062 | Q16: 23.333333
B17: Distribution <250 | C17: 1324 | D17: 0 | E17: 23 | F17: 9 | G17: 11 | H17: 43 | I17: 133 | J17: 167 | K17: 1.7371601 | L17: 0.67975831 | M17: 0.83081571 | N17: 3.2477341 | O17: 10.045317 | P17: 12.613293 | Q17: 5.7826087
B18: Distribution =250+ | C18: 6363 | D18: 0 | E18: 49 | F18: 28 | G18: 36 | H18: 113 | I18: 482 | J18: 167 | K18: 0.77007701 | L18: 0.440044 | M18: 0.56577086 | N18: 1.7758919 | O18: 7.5750432 | P18: 2.6245482 | Q18: 9.8367347
B20: YE June 2022 | C20: FTEs | D20: Fatalities | E20: LTIs | F20: RWIs | G20: MTIs | H20: TRIs | I20: LTI Days Lost | J20: RW Days | K20: LTIFR | L20: RWIFR | M20: MTIFR | N20: TRIFR | O20: LTISR | P20: RWISR | Q20: ATLR to LTIs
B21: Industry Total | C21: 11998.67 | D21: 0 | E21: 89 | F21: 50 | G21: 61 | H21: 200 | I21: 813 | J21: 700.5 | K21: 0.74174888 | L21: 0.41671285 | M21: 0.50838968 | N21: 1.6668514 | O21: 6.775751 | P21: 5.8381471 | Q21: 9.1348315 | R21: =J21/F21 -> 14.01
B22: Generation Total | C22: 2165.35 | D22: 0 | E22: 14 | F22: 6 | G22: 12 | H22: 32 | I22: 86 | J22: 77 | K22: 0.64654675 | L22: 0.27709146 | M22: 0.55418293 | N22: 1.4778211 | O22: 3.9716443 | P22: 3.5560071 | Q22: 6.1428571
B23: Transmission Total | C23: 1785 | D23: 0 | E23: 6 | F23: 6 | G23: 3 | H23: 15 | I23: 174 | J23: 84 | K23: 0.33613445 | L23: 0.33613445 | M23: 0.16806723 | N23: 0.84033613 | O23: 9.7478992 | P23: 4.7058824 | Q23: 29
B24: Distribution Total | C24: 8048.32 | D24: 0 | E24: 69 | F24: 38 | G24: 46 | H24: 153 | I24: 553 | J24: 539.5 | K24: 0.85732178 | L24: 0.47214822 | M24: 0.57154785 | N24: 1.9010179 | O24: 6.8709992 | P24: 6.7032623 | Q24: 8.0144928
B25: Distribution <100 | C25: 436 | D25: 0 | E25: 7 | F25: 1 | G25: 2 | H25: 10 | I25: 79 | J25: 65.5 | K25: 1.6055046 | L25: 0.2293578 | M25: 0.4587156 | N25: 2.293578 | O25: 18.119266 | P25: 15.022936 | Q25: 11.285714
B26: Distribution <250 | C26: 1680 | D26: 0 | E26: 21 | F26: 7 | G26: 6 | H26: 34 | I26: 134 | J26: 74 | K26: 1.25 | L26: 0.41666667 | M26: 0.35714286 | N26: 2.0238095 | O26: 7.9761905 | P26: 4.4047619 | Q26: 6.3809524
B27: Distribution =250+ | C27: 5932.32 | D27: 0 | E27: 41 | F27: 30 | G27: 38 | H27: 109 | I27: 340 | J27: 400 | K27: 0.69112927 | L27: 0.50570435 | M27: 0.64055884 | N27: 1.8373925 | O27: 5.7313159 | P27: 6.7427246 | Q27: 8.2926829
B29: YE June 2021 | C29: FTEs | D29: Fatalities | E29: LTIs | F29: RWIs | G29: MTIs | H29: TRIs | I29: LTI Days Lost | J29: RW Days | K29: LTIFR | L29: RWIFR | M29: MTIFR | N29: TRIFR | O29: LTISR | P29: RWISR | Q29: ATLR to LTIs
B30: Industry Total | C30: 10191.51 | D30: 1 | E30: 139 | F30: 80 | G30: 155 | H30: 375 | I30: 1722.75 | J30: 1213 | K30: 1.3638803 | L30: 0.7849671 | M30: 1.5208737 | N30: 3.6795333 | O30: 16.903776 | P30: 11.902064 | Q30: 12.393885 | R30: =J30/F30 -> 15.1625
B31: Generation Total | C31: 2246.85 | D31: 0 | E31: 24 | F31: 9 | G31: 58 | H31: 91 | I31: 447 | J31: 96 | K31: 1.0681621 | L31: 0.40056079 | M31: 2.5813917 | N31: 4.0501146 | O31: 19.894519 | P31: 4.2726484 | Q31: 18.625
B32: Transmission Total | C32: 1862.16 | D32: 1 | E32: 9 | F32: 14 | G32: 9 | H32: 33 | I32: 54 | J32: 68 | K32: 0.4833097 | L32: 0.7518151 | M32: 0.4833097 | N32: 1.7721356 | O32: 2.8998582 | P32: 3.6516733 | Q32: 6
B33: Distribution Total | C33: 6082.5 | D33: 0 | E33: 106 | F33: 57 | G33: 88 | H33: 251 | I33: 1221.75 | J33: 1049 | K33: 1.7427045 | L33: 0.93711467 | M33: 1.4467735 | N33: 4.1265927 | O33: 20.086313 | P33: 17.246198 | Q33: 11.525943
B34: Distribution <100 | C34: 506 | D34: 0 | E34: 13 | F34: 4 | G34: 4 | H34: 21 | I34: 149.75 | J34: 84 | K34: 2.56917 | L34: 0.79051383 | M34: 0.79051383 | N34: 4.1501976 | O34: 29.594862 | P34: 16.600791 | Q34: 11.519231
B35: Distribution <250 | C35: 2056.5 | D35: 0 | E35: 40 | F35: 9 | G35: 36 | H35: 85 | I35: 194 | J35: 26 | K35: 1.9450523 | L35: 0.43763676 | M35: 1.750547 | N35: 4.1332361 | O35: 9.4335035 | P35: 1.264284 | Q35: 4.85
B36: Distribution =250+ | C36: 3520 | D36: 0 | E36: 53 | F36: 44 | G36: 48 | H36: 145 | I36: 878 | J36: 939 | K36: 1.5056818 | L36: 1.25 | M36: 1.3636364 | N36: 4.1193182 | O36: 24.943182 | P36: 26.676136 | Q36: 16.566038
B38: YE June 2020 | C38: FTEs | D38: Fatalities | E38: LTIs | F38: RWIs | G38: MTIs | H38: TRIs | I38: LTI Days Lost | J38: RW Days | K38: LTIFR | L38: RWIFR | M38: MTIFR | N38: TRIFR | O38: LTISR | P38: RWISR | Q38: ATLR to LTIs
B39: Industry Total | C39: 12171.04 | D39: 0 | E39: 112 | F39: 64 | G39: 99 | H39: 275 | I39: 2111 | J39: 779 | K39: 0.92021717 | L39: 0.52583838 | M39: 0.81340625 | N39: 2.2594618 | O39: 17.34445 | P39: 6.4004391 | Q39: 18.848214 | R39: =J39/F39 -> 12.171875
B40: Generation Total | C40: 2319 | D40: 0 | E40: 12 | F40: 5 | G40: 16 | H40: 33 | I40: 237 | J40: 149 | K40: 0.51746442 | L40: 0.21561018 | M40: 0.68995257 | N40: 1.4230272 | O40: 10.219922 | P40: 6.4251833 | Q40: 19.75
B41: Transmission Total | C41: 1850.92 | D41: 0 | E41: 5 | F41: 9 | G41: 10 | H41: 24 | I41: 24 | J41: 66 | K41: 0.27013593 | L41: 0.48624468 | M41: 0.54027186 | N41: 1.2966525 | O41: 1.2966525 | P41: 3.5657943 | Q41: 4.8
B42: Distribution Total | C42: 8001.12 | D42: 0 | E42: 95 | F42: 50 | G42: 73 | H42: 218 | I42: 1850 | J42: 564 | K42: 1.1873338 | L42: 0.62491251 | M42: 0.91237227 | N42: 2.7246186 | O42: 23.121763 | P42: 7.0490131 | Q42: 19.473684
B43: Distribution <100 | C43: 377 | D43: 0 | E43: 12 | F43: 2 | G43: 3 | H43: 17 | I43: 152 | J43: 13 | K43: 3.1830239 | L43: 0.53050398 | M43: 0.79575597 | N43: 4.5092838 | O43: 40.318302 | P43: 3.4482759 | Q43: 12.666667
B44: Distribution <250 | C44: 1792 | D44: 0 | E44: 17 | F44: 6 | G44: 18 | H44: 41 | I44: 382 | J44: 131 | K44: 0.94866071 | L44: 0.33482143 | M44: 1.0044643 | N44: 2.2879464 | O44: 21.316964 | P44: 7.3102679 | Q44: 22.470588
B45: Distribution =250+ | C45: 5832.12 | D45: 0 | E45: 66 | F45: 42 | G45: 52 | H45: 160 | I45: 1316 | J45: 420 | K45: 1.131664 | L45: 0.72014979 | M45: 0.89161403 | N45: 2.7434278 | O45: 22.564693 | P45: 7.2014979 | Q45: 19.939394

Sheet Generation tables
B2: Gen YE June 2024 | D2: Code | E2: FTEs | F2: Fatalities | G2: LTIs | H2: RWIs | I2: MTIs | J2: TRIs | K2: LTI Days Lost | L2: RW Days (Est) | M2: LTIFR | N2: RWIFR | O2: MTIFR | P2: TRIFR | Q2: LTISR | R2: RWISR (Est) | S2: ATLR to LTIs
D3: G10 | E3: 382 | F3: 0 | G3: 6 | H3: 1 | I3: 0 | J3: 7 | K3: 62 | L3: 13 | M3: 1.5706806 | N3: 0.2617801 | O3: 0 | P3: 1.8324607 | Q3: 16.230366 | R3: 3.4031414 | S3: 10.333333
D4: G25 | E4: 639 | F4: 0 | G4: 5 | H4: 0 | I4: 1 | J4: 6 | K4: 56 | L4: 0 | M4: 0.78247261 | N4: 0 | O4: 0.15649452 | P4: 0.93896714 | Q4: 8.7636933 | R4: 0 | S4: 11.2
D5: G35 | E5: 1248 | F5: 0 | G5: 1 | H5: 0 | I5: 0 | J5: 1 | K5: 14 | L5: 0 | M5: 0.080128205 | N5: 0 | O5: 0 | P5: 0.080128205 | Q5: 1.1217949 | R5: 0 | S5: 14
D6: G50 | E6: 34 | F6: 0 | G6: 0 | H6: 0 | I6: 0 | J6: 0 | K6: 0 | L6: 0 | M6: 0 | N6: 0 | O6: 0 | P6: 0 | Q6: 0 | R6: 0 | S6: 0
D7: G65 | E7: 17 | F7: 0 | G7: 0 | H7: 0 | I7: 0 | J7: 0 | K7: 0 | L7: 0 | M7: 0 | N7: 0 | O7: 0 | P7: 0 | Q7: 0 | R7: 0 | S7: 0
D8: Group | E8: 2320 | F8: 0 | G8: 12 | H8: 1 | I8: 1 | J8: 14 | K8: 132 | L8: 13 | M8: 0.51724138 | N8: 0.043103448 | O8: 0.043103448 | P8: 0.60344828 | Q8: 5.6896552 | R8: 0.56034483 | S8: 11
D9: Industry | E9: 13913.83 | F9: 1 | G9: 115 | H9: 82 | I9: 36 | J9: 234 | K9: 1293 | L9: 1066 | M9: 0.82651578 | N9: 0.58934168 | O9: 0.25873537 | P9: 1.6817799 | Q9: 9.2929122 | R9: 7.6614419 | S9: 9.7218045
B11: Gen YE June 2023 | D11: Code | E11: FTEs | F11: Fatalities | G11: LTIs | H11: RWIs | I11: MTIs | J11: TRIs | K11: LTI Days Lost | L11: RW Days | M11: LTIFR | N11: RWIFR | O11: MTIFR | P11: TRIFR | Q11: LTISR | R11: RWISR | S11: ATLR to LTIs
D12: G10 | E12: 276 | F12: 0 | G12: 8 | H12: 4 | I12: 4 | J12: 16 | K12: 235 | L12: 13 | M12: 2.8985507 | N12: 1.4492754 | O12: 1.4492754 | P12: 5.7971014 | Q12: 85.144928 | R12: 4.7101449 | S12: 29.375
D13: G15 | E13: 233.69 | F13: 0 | G13: 3 | H13: 0 | I13: 3 | J13: 6 | K13: 80 | L13: 0 | M13: 1.283752 | N13: 0 | O13: 1.283752 | P13: 2.567504 | Q13: 34.233386 | R13: 0 | S13: 26.666667
D14: G20 | E14: 12 | F14: 0 | G14: 0 | H14: 0 | I14: 0 | J14: 0 | K14: 0 | L14: 0 | M14: 0 | N14: 0 | O14: 0 | P14: 0 | Q14: 0 | R14: 0 | S14: 0
D15: G25 | E15: 694 | F15: 0 | G15: 4 | H15: 0 | I15: 2 | J15: 6 | K15: 18 | L15: 0 | M15: 0.57636888 | N15: 0 | O15: 0.28818444 | P15: 0.86455331 | Q15: 2.5936599 | R15: 0 | S15: 4.5
D16: G35 | E16: 1040 | F16: 0 | G16: 2 | H16: 0 | I16: 2 | J16: 4 | K16: 0 | L16: 0 | M16: 0.19230769 | N16: 0 | O16: 0.19230769 | P16: 0.38461538 | Q16: 0 | R16: 0 | S16: 0
D17: G40 | E17: 262 | F17: 0 | G17: 5 | H17: 6 | I17: 1 | J17: 12 | K17: 79 | L17: 54 | M17: 1.9083969 | N17: 2.2900763 | O17: 0.38167939 | P17: 4.5801527 | Q17: 30.152672 | R17: 20.610687 | S17: 15.8
D18: G50 | E18: 25 | F18: 0 | G18: 0 | H18: 0 | I18: 0 | J18: 0 | K18: 0 | L18: 0 | M18: 0 | N18: 0 | O18: 0 | P18: 0 | Q18: 0 | R18: 0 | S18: 0
D19: G55 | E19: 10 | F19: 0 | G19: 0 | H19: 0 | I19: 0 | J19: 0 | K19: 0 | L19: 0 | M19: 0 | N19: 0 | O19: 0 | P19: 0 | Q19: 0 | R19: 0 | S19: 0
D20: Group | E20: 2552.69 | F20: 0 | G20: 22 | H20: 10 | I20: 12 | J20: 44 | K20: 412 | L20: 67 | M20: 0.86183595 | N20: 0.39174361 | O20: 0.47009233 | P20: 1.7236719 | Q20: 16.139837 | R20: 2.6246822 | S20: 18.727273
D21: Industry | E21: 12495.49 | F21: 0 | G21: 105 | H21: 53 | I21: 75 | J21: 233 | K21: 1150 | L21: 656 | M21: 0.84030318 | N21: 0.42415303 | O21: 0.60021656 | P21: 1.8646728 | Q21: 9.2033206 | R21: 5.2498942 | S21: 10.952381
B23: Gen YE June 2022 | D23: Code | E23: FTEs | F23: Fatalities | G23: LTIs | H23: RWIs | I23: MTIs | J23: TRIs | K23: LTI Days Lost | L23: RW Days | M23: LTIFR | N23: RWIFR | O23: MTIFR | P23: TRIFR | Q23: LTISR | R23: RWISR | S23: ATLR to LTIs
D24: G10 | E24: 460 | F24: 0 | G24: 8 | H24: 3 | I24: 1 | J24: 12 | K24: 35 | L24: 0 | M24: 1.7391304 | N24: 0.65217391 | O24: 0.2173913 | P24: 2.6086957 | Q24: 7.6086957 | R24: 0 | S24: 4.375
D25: G15 | E25: 248.85 | F25: 0 | G25: 0 | H25: 0 | I25: 2 | J25: 2 | K25: 5 | L25: 0 | M25: 0 | N25: 0 | O25: 0.80369701 | P25: 0.80369701 | Q25: 2.0092425 | R25: 0 | S25: 0
D26: G20 | E26: 19 | F26: 0 | G26: 0 | H26: 1 | I26: 0 | J26: 1 | K26: 0 | L26: 5 | M26: 0 | N26: 5.2631579 | O26: 0 | P26: 5.2631579 | Q26: 0 | R26: 26.315789 | S26: 0
D27: G25 | E27: 566.5 | F27: 0 | G27: 3 | H27: 1 | I27: 5 | J27: 9 | K27: 17 | L27: 3 | M27: 0.52956752 | N27: 0.17652251 | O27: 0.88261253 | P27: 1.5887026 | Q27: 3.0008826 | R27: 0.52956752 | S27: 5.6666667
D28: G35 | E28: 575 | F28: 0 | G28: 2 | H28: 0 | I28: 0 | J28: 2 | K28: 29 | L28: 0 | M28: 0.34782609 | N28: 0 | O28: 0 | P28: 0.34782609 | Q28: 5.0434783 | R28: 0 | S28: 14.5
D29: G40 | E29: 266 | F29: 0 | G29: 0 | H29: 1 | I29: 4 | J29: 5 | K29: 0 | L29: 69 | M29: 0 | N29: 0.37593985 | O29: 1.5037594 | P29: 1.8796992 | Q29: 0 | R29: 25.93985 | S29: 0
D30: G50 | E30: 19 | F30: 0 | G30: 0 | H30: 0 | I30: 0 | J30: 0 | K30: 0 | L30: 0 | M30: 0 | N30: 0 | O30: 0 | P30: 0 | Q30: 0 | R30: 0 | S30: 0
D31: G55 | E31: 10 | F31: 0 | G31: 1 | H31: 0 | I31: 0 | J31: 1 | K31: 0 | L31: 0 | M31: 10 | N31: 0 | O31: 0 | P31: 10 | Q31: 0 | R31: 0 | S31: 0
D32: G60 | E32: 1 | F32: 0 | G32: 0 | H32: 0 | I32: 0 | J32: 0 | K32: 0 | L32: 0 | M32: 0 | N32: 0 | O32: 0 | P32: 0 | Q32: 0 | R32: 0 | S32: 0
D33: Group | E33: 2165.35 | F33: 0 | G33: 14 | H33: 6 | I33: 12 | J33: 32 | K33: 86 | L33: 77 | M33: 0.64654675 | N33: 0.27709146 | O33: 0.55418293 | P33: 1.4778211 | Q33: 3.9716443 | R33: 3.5560071 | S33: 6.1428571
D34: Industry | E34: 11998.67 | F34: 0 | G34: 89 | H34: 50 | I34: 61 | J34: 200 | K34: 813 | L34: 700.5 | M34: 0.74174888 | N34: 0.41671285 | O34: 0.50838968 | P34: 1.6668514 | Q34: 6.775751 | R34: 5.8381471 | S34: 9.1348315
B36: Gen YE June 2021 | D36: Code | E36: FTEs | F36: Fatalities | G36: LTIs | H36: RWIs | I36: MTIs | J36: TRIs | K36: LTI Days Lost | L36: RW Days | M36: LTIFR | N36: RWIFR | O36: MTIFR | P36: TRIFR | Q36: LTISR | R36: RWISR | S36: ATLR to LTIs
D37: G10 | E37: 160 | F37: 0 | G37: 6 | H37: 1 | I37: 4 | J37: 11 | K37: 75 | L37: 10 | M37: 3.75 | N37: 0.625 | O37: 2.5 | P37: 6.875 | Q37: 46.875 | R37: 6.25 | S37: 12.5
D38: G12 | E38: 1 | F38: 0 | G38: 0 | H38: 0 | I38: 0 | J38: 0 | K38: 0 | L38: 0 | M38: 0 | N38: 0 | O38: 0 | P38: 0 | Q38: 0 | R38: 0 | S38: 0
D39: G15 | E39: 148.85 | F39: 0 | G39: 0 | H39: 0 | I39: 2 | J39: 2 | K39: 5 | L39: 0 | M39: 0 | N39: 0 | O39: 1.3436345 | P39: 1.3436345 | Q39: 3.3590863 | R39: 0 | S39: 0
D40: G20 | E40: 18 | F40: 0 | G40: 1 | H40: 0 | I40: 5 | J40: 6 | K40: 102 | L40: 0 | M40: 5.5555556 | N40: 0 | O40: 27.777778 | P40: 33.333333 | Q40: 566.66667 | R40: 0 | S40: 102
D41: G25 | E41: 699 | F41: 0 | G41: 4 | H41: 1 | I41: 1 | J41: 6 | K41: 21 | L41: 2 | M41: 0.57224607 | N41: 0.14306152 | O41: 0.14306152 | P41: 0.8583691 | Q41: 3.0042918 | R41: 0.28612303 | S41: 5.25
D42: G35 | E42: 892 | F42: 0 | G42: 7 | H42: 1 | I42: 4 | J42: 12 | K42: 68 | L42: 3 | M42: 0.78475336 | N42: 0.11210762 | O42: 0.44843049 | P42: 1.3452915 | Q42: 7.6233184 | R42: 0.33632287 | S42: 9.7142857
D43: G40 | E43: 246 | F43: 0 | G43: 6 | H43: 5 | I43: 2 | J43: 13 | K43: 176 | L43: 81 | M43: 2.4390244 | N43: 2.0325203 | O43: 0.81300813 | P43: 5.2845528 | Q43: 71.544715 | R43: 32.926829 | S43: 29.333333
D44: G50 | E44: 72 | F44: 0 | G44: 0 | H44: 1 | I44: 40 | J44: 41 | K44: 0 | L44: 0 | M44: 0 | N44: 1.3888889 | O44: 55.555556 | P44: 56.944444 | Q44: 0 | R44: 0 | S44: 0
D45: G55 | E45: 9 | F45: 0 | G45: 0 | H45: 0 | I45: 0 | J45: 0 | K45: 0 | L45: 0 | M45: 0 | N45: 0 | O45: 0 | P45: 0 | Q45: 0 | R45: 0 | S45: 0
D46: G60 | E46: 1 | F46: 0 | G46: 0 | H46: 0 | I46: 0 | J46: 0 | K46: 0 | L46: 0 | M46: 0 | N46: 0 | O46: 0 | P46: 0 | Q46: 0 | R46: 0 | S46: 0
D47: Group | E47: 2246.85 | F47: 0 | G47: 24 | H47: 9 | I47: 58 | J47: 91 | K47: 447 | L47: 96 | M47: 1.0686377 | N47: 0.40056079 | O47: 0.40056079 | P47: 4.0501146 | Q47: 18.625 | R47: 4.2726484 | S47: 18.625
D48: Industry | E48: 10190.51 | F48: 1 | G48: 139 | H48: 80 | I48: 155 | J48: 375 | K48: 1722.75 | L48: 1213 | M48: 1.3640142 | N48: 0.78504412 | O48: 1.521023 | P48: 3.6798943 | Q48: 16.905435 | R48: 11.903232 | S48: 12.393885
B50: Gen YE June 2020 | D50: Code | E50: FTEs | F50: Fatalities | G50: LTIs | H50: RWIs | I50: MTIs | J50: TRIs | K50: LTI Days Lost | L50: RW Days | M50: LTIFR | N50: RWIFR | O50: MTIFR | P50: TRIFR | Q50: LTISR | R50: RWISR | S50: ATLR to LTIs
D51: G10 | E51: 696 | F51: 0 | G51: 4 | H51: 0 | I51: 4 | J51: 8 | K51: 74 | L51: 0 | M51: 0.57471264 | N51: 0 | O51: 0.57471264 | P51: 1.1494253 | Q51: 10.632184 | R51: 0 | S51: 18.5
D52: G12 | E52: 21 | F52: 0 | G52: 0 | H52: 0 | I52: 0 | J52: 0 | K52: 0 | L52: 0 | M52: 0 | N52: 0 | O52: 0 | P52: 0 | Q52: 0 | R52: 0 | S52: 0
D53: G15 | E53: 145 | F53: 0 | G53: 0 | H53: 0 | I53: 2 | J53: 2 | K53: 0 | L53: 0 | M53: 0 | N53: 0 | O53: 1.3793103 | P53: 1.3793103 | Q53: 0 | R53: 0 | S53: 0
D54: G20 | E54: 164 | F54: 0 | G54: 0 | H54: 0 | I54: 5 | J54: 5 | K54: 0 | L54: 0 | M54: 0 | N54: 0 | O54: 3.0487805 | P54: 3.0487805 | Q54: 0 | R54: 0 | S54: 0
D55: G25 | E55: 472 | F55: 0 | G55: 3 | H55: 2 | I55: 3 | J55: 8 | K55: 18 | L55: 68 | M55: 0.63559322 | N55: 0.42372881 | O55: 0.63559322 | P55: 1.6949153 | Q55: 3.8135593 | R55: 14.40678 | S55: 6
D56: G35 | E56: 513 | F56: 0 | G56: 2 | H56: 2 | I56: 1 | J56: 5 | K56: 21 | L56: 5 | M56: 0.38986355 | N56: 0.38986355 | O56: 0.19493177 | P56: 0.97465887 | Q56: 4.0935673 | R56: 0.97465887 | S56: 10.5
D57: G40 | E57: 272 | F57: 0 | G57: 2 | H57: 1 | I57: 0 | J57: 3 | K57: 123 | L57: 76 | M57: 0.73529412 | N57: 0.36764706 | O57: 0 | P57: 1.1029412 | Q57: 45.220588 | R57: 27.941176 | S57: 61.5
D58: G50 | E58: 26 | F58: 0 | G58: 1 | H58: 0 | I58: 1 | J58: 2 | K58: 1 | L58: 0 | M58: 3.8461538 | N58: 0 | O58: 3.8461538 | P58: 7.6923077 | Q58: 3.8461538 | R58: 0 | S58: 1
D59: G55 | E59: 9 | F59: 0 | G59: 0 | H59: 0 | I59: 0 | J59: 0 | K59: 0 | L59: 0 | M59: 0 | N59: 0 | O59: 0 | P59: 0 | Q59: 0 | R59: 0 | S59: 0
D60: G60 | E60: 1 | F60: 0 | G60: 0 | H60: 0 | I60: 0 | J60: 0 | K60: 0 | L60: 0 | M60: 0 | N60: 0 | O60: 0 | P60: 0 | Q60: 0 | R60: 0 | S60: 0
D61: Group | E61: 2319 | F61: 0 | G61: 12 | H61: 5 | I61: 16 | J61: 33 | K61: 237 | L61: 149 | M61: 0.51746442 | N61: 0.21561018 | O61: 0.21561018 | P61: 1.4230272 | Q61: 19.75 | R61: 6.4251833 | S61: 19.75
D62: Industry | E62: 12171.04 | F62: 0 | G62: 112 | H62: 64 | I62: 99 | J62: 275 | K62: 2111 | L62: 779 | M62: 0.92021717 | N62: 0.52583838 | O62: 0.81340625 | P62: 2.2594618 | Q62: 17.34445 | R62: 6.4004391 | S62: 18.848214

Sheet Generation graphs
B2: Total Recordable Injury Frequency Rate | K2: Lost Time Injury Frequency Rate | T2: Lost Time Injury Severity Rate
B3: TRIFR - 5-year results - Generation peer group | D3: Year Ended | K3: LTIFR - 5-year results - Generation peer group | M3: Year Ended | T3: LTISR - 5-year results - Generation peer group | V3: Year Ended
D4: 2020 | E4: 2021 | F4: 2022 | G4: 2023 | H4: 2024 | M4: 2020 | N4: 2021 | O4: 2022 | P4: 2023 | Q4: 2024 | V4: 2020 | W4: 2021 | X4: 2022 | Y4: 2023 | Z4: 2024
B5: Respondent code | C5: G10 | D5: =IFERROR(VLOOKUP($C5,'Generation tables'!$D$51:$S$60,13,FALSE),"-") -> 1.1494253 | E5: =IFERROR(VLOOKUP($C5,'Generation tables'!$D$37:$S$46,13,FALSE),"-") -> 6.875 | F5: =IFERROR(VLOOKUP($C5,'Generation tables'!$D$24:$S$32,13,FALSE),"-") -> 2.6086957 | G5: =IFERROR(VLOOKUP($C5,'Generation tables'!$D$12:$S$19,13,FALSE),"-") -> 5.7971014 | H5: =IFERROR(VLOOKUP($C5,'Generation tables'!$D$3:$S$7,13,FALSE),"-") -> 1.8324607 | K5: Respondent code | L5: =C5 -> G10 | M5: =IFERROR(VLOOKUP($L5,'Generation tables'!$D$51:S$60,10,FALSE),"-") -> 0.57471264 | N5: =IFERROR(VLOOKUP($L5,'Generation tables'!$D$37:$S$46,10,FALSE),"-") -> 3.75 | O5: =IFERROR(VLOOKUP($L5,'Generation tables'!$D$24:$S$32,10,FALSE),"-") -> 1.7391304 | P5: =IFERROR(VLOOKUP($L5,'Generation tables'!$D$12:$S$19,10,FALSE),"-") -> 2.8985507 | Q5: =IFERROR(VLOOKUP($L5,'Generation tables'!$D$3:$S$7,10,FALSE),"-") -> 1.5706806 | T5: Respondent code | U5: =L5 -> G10 | V5: =IFERROR(VLOOKUP($U5,'Generation tables'!$D$50:$SS61,14,FALSE),"-") -> 10.632184 | W5: =IFERROR(VLOOKUP($U5,'Generation tables'!$D$37:$S$46,14,FALSE),"-") -> 46.875 | X5: =IFERROR(VLOOKUP($U5,'Generation tables'!$D$24:$S$32,14,FALSE),"-") -> 7.6086957 | Y5: =IFERROR(VLOOKUP($U5,'Generation tables'!$D$12:$S$19,14,FALSE),"-") -> 85.144928 | Z5: =IFERROR(VLOOKUP($U5,'Generation tables'!$D$3:$S$7,14,FALSE),"-") -> 16.230366
C6: G15 | D6: =IFERROR(VLOOKUP($C6,'Generation tables'!$D$51:$S$60,13,FALSE),"-") -> 1.3793103 | E6: =IFERROR(VLOOKUP($C6,'Generation tables'!$D$37:$S$46,13,FALSE),"-") -> 1.3436345 | F6: =IFERROR(VLOOKUP($C6,'Generation tables'!$D$24:$S$32,13,FALSE),"-") -> 0.80369701 | G6: =IFERROR(VLOOKUP($C6,'Generation tables'!$D$12:$S$19,13,FALSE),"-") -> 2.567504 | H6: =IFERROR(VLOOKUP($C6,'Generation tables'!$D$3:$S$7,13,FALSE),"-") -> - | L6: =C6 -> G15 | M6: =IFERROR(VLOOKUP($L6,'Generation tables'!$D$51:S$60,10,FALSE),"-") -> 0 | N6: =IFERROR(VLOOKUP($L6,'Generation tables'!$D$37:$S$46,10,FALSE),"-") -> 0 | O6: =IFERROR(VLOOKUP($L6,'Generation tables'!$D$24:$S$32,10,FALSE),"-") -> 0 | P6: =IFERROR(VLOOKUP($L6,'Generation tables'!$D$12:$S$19,10,FALSE),"-") -> 1.283752 | Q6: =IFERROR(VLOOKUP($L6,'Generation tables'!$D$3:$S$7,10,FALSE),"-") -> - | U6: =L6 -> G15 | V6: =IFERROR(VLOOKUP($U6,'Generation tables'!$D$50:$SS62,14,FALSE),"-") -> 0 | W6: =IFERROR(VLOOKUP($U6,'Generation tables'!$D$37:$S$46,14,FALSE),"-") -> 3.3590863 | X6: =IFERROR(VLOOKUP($U6,'Generation tables'!$D$24:$S$32,14,FALSE),"-") -> 2.0092425 | Y6: =IFERROR(VLOOKUP($U6,'Generation tables'!$D$12:$S$19,14,FALSE),"-") -> 34.233386 | Z6: =IFERROR(VLOOKUP($U6,'Generation tables'!$D$3:$S$7,14,FALSE),"-") -> -
C7: G20 | D7: =IFERROR(VLOOKUP($C7,'Generation tables'!$D$51:$S$60,13,FALSE),"-") -> 3.0487805 | E7: =IFERROR(VLOOKUP($C7,'Generation tables'!$D$37:$S$46,13,FALSE),"-") -> 33.333333 | F7: =IFERROR(VLOOKUP($C7,'Generation tables'!$D$24:$S$32,13,FALSE),"-") -> 5.2631579 | G7: =IFERROR(VLOOKUP($C7,'Generation tables'!$D$12:$S$19,13,FALSE),"-") -> 0 | H7: =IFERROR(VLOOKUP($C7,'Generation tables'!$D$3:$S$7,13,FALSE),"-") -> - | L7: =C7 -> G20 | M7: =IFERROR(VLOOKUP($L7,'Generation tables'!$D$51:S$60,10,FALSE),"-") -> 0 | N7: =IFERROR(VLOOKUP($L7,'Generation tables'!$D$37:$S$46,10,FALSE),"-") -> 5.5555556 | O7: =IFERROR(VLOOKUP($L7,'Generation tables'!$D$24:$S$32,10,FALSE),"-") -> 0 | P7: =IFERROR(VLOOKUP($L7,'Generation tables'!$D$12:$S$19,10,FALSE),"-") -> 0 | Q7: =IFERROR(VLOOKUP($L7,'Generation tables'!$D$3:$S$7,10,FALSE),"-") -> - | U7: =L7 -> G20 | V7: =IFERROR(VLOOKUP($U7,'Generation tables'!$D$50:$SS63,14,FALSE),"-") -> 0 | W7: =IFERROR(VLOOKUP($U7,'Generation tables'!$D$37:$S$46,14,FALSE),"-") -> 566.66667 | X7: =IFERROR(VLOOKUP($U7,'Generation tables'!$D$24:$S$32,14,FALSE),"-") -> 0 | Y7: =IFERROR(VLOOKUP($U7,'Generation tables'!$D$12:$S$19,14,FALSE),"-") -> 0 | Z7: =IFERROR(VLOOKUP($U7,'Generation tables'!$D$3:$S$7,14,FALSE),"-") -> -
C8: G25 | D8: =IFERROR(VLOOKUP($C8,'Generation tables'!$D$51:$S$60,13,FALSE),"-") -> 1.6949153 | E8: =IFERROR(VLOOKUP($C8,'Generation tables'!$D$37:$S$46,13,FALSE),"-") -> 0.8583691 | F8: =IFERROR(VLOOKUP($C8,'Generation tables'!$D$24:$S$32,13,FALSE),"-") -> 1.5887026 | G8: =IFERROR(VLOOKUP($C8,'Generation tables'!$D$12:$S$19,13,FALSE),"-") -> 0.86455331 | H8: =IFERROR(VLOOKUP($C8,'Generation tables'!$D$3:$S$7,13,FALSE),"-") -> 0.93896714 | L8: =C8 -> G25 | M8: =IFERROR(VLOOKUP($L8,'Generation tables'!$D$51:S$60,10,FALSE),"-") -> 0.63559322 | N8: =IFERROR(VLOOKUP($L8,'Generation tables'!$D$37:$S$46,10,FALSE),"-") -> 0.57224607 | O8: =IFERROR(VLOOKUP($L8,'Generation tables'!$D$24:$S$32,10,FALSE),"-") -> 0.52956752 | P8: =IFERROR(VLOOKUP($L8,'Generation tables'!$D$12:$S$19,10,FALSE),"-") -> 0.57636888 | Q8: =IFERROR(VLOOKUP($L8,'Generation tables'!$D$3:$S$7,10,FALSE),"-") -> 0.78247261 | U8: =L8 -> G25 | V8: =IFERROR(VLOOKUP($U8,'Generation tables'!$D$50:$SS64,14,FALSE),"-") -> 3.8135593 | W8: =IFERROR(VLOOKUP($U8,'Generation tables'!$D$37:$S$46,14,FALSE),"-") -> 3.0042918 | X8: =IFERROR(VLOOKUP($U8,'Generation tables'!$D$24:$S$32,14,FALSE),"-") -> 3.0008826 | Y8: =IFERROR(VLOOKUP($U8,'Generation tables'!$D$12:$S$19,14,FALSE),"-") -> 2.5936599 | Z8: =IFERROR(VLOOKUP($U8,'Generation tables'!$D$3:$S$7,14,FALSE),"-") -> 8.7636933
C9: G35 | D9: =IFERROR(VLOOKUP($C9,'Generation tables'!$D$51:$S$60,13,FALSE),"-") -> 0.97465887 | E9: =IFERROR(VLOOKUP($C9,'Generation tables'!$D$37:$S$46,13,FALSE),"-") -> 1.3452915 | F9: =IFERROR(VLOOKUP($C9,'Generation tables'!$D$24:$S$32,13,FALSE),"-") -> 0.34782609 | G9: =IFERROR(VLOOKUP($C9,'Generation tables'!$D$12:$S$19,13,FALSE),"-") -> 0.38461538 | H9: =IFERROR(VLOOKUP($C9,'Generation tables'!$D$3:$S$7,13,FALSE),"-") -> 0.080128205 | L9: =C9 -> G35 | M9: =IFERROR(VLOOKUP($L9,'Generation tables'!$D$51:S$60,10,FALSE),"-") -> 0.38986355 | N9: =IFERROR(VLOOKUP($L9,'Generation tables'!$D$37:$S$46,10,FALSE),"-") -> 0.78475336 | O9: =IFERROR(VLOOKUP($L9,'Generation tables'!$D$24:$S$32,10,FALSE),"-") -> 0.34782609 | P9: =IFERROR(VLOOKUP($L9,'Generation tables'!$D$12:$S$19,10,FALSE),"-") -> 0.19230769 | Q9: =IFERROR(VLOOKUP($L9,'Generation tables'!$D$3:$S$7,10,FALSE),"-") -> 0.080128205 | U9: =L9 -> G35 | V9: =IFERROR(VLOOKUP($U9,'Generation tables'!$D$50:$SS65,14,FALSE),"-") -> 4.0935673 | W9: =IFERROR(VLOOKUP($U9,'Generation tables'!$D$37:$S$46,14,FALSE),"-") -> 7.6233184 | X9: =IFERROR(VLOOKUP($U9,'Generation tables'!$D$24:$S$32,14,FALSE),"-") -> 5.0434783 | Y9: =IFERROR(VLOOKUP($U9,'Generation tables'!$D$12:$S$19,14,FALSE),"-") -> 0 | Z9: =IFERROR(VLOOKUP($U9,'Generation tables'!$D$3:$S$7,14,FALSE),"-") -> 1.1217949
C10: G40 | D10: =IFERROR(VLOOKUP($C10,'Generation tables'!$D$51:$S$60,13,FALSE),"-") -> 1.1029412 | E10: =IFERROR(VLOOKUP($C10,'Generation tables'!$D$37:$S$46,13,FALSE),"-") -> 5.2845528 | F10: =IFERROR(VLOOKUP($C10,'Generation tables'!$D$24:$S$32,13,FALSE),"-") -> 1.8796992 | G10: =IFERROR(VLOOKUP($C10,'Generation tables'!$D$12:$S$19,13,FALSE),"-") -> 4.5801527 | H10: =IFERROR(VLOOKUP($C10,'Generation tables'!$D$3:$S$7,13,FALSE),"-") -> - | L10: =C10 -> G40 | M10: =IFERROR(VLOOKUP($L10,'Generation tables'!$D$51:S$60,10,FALSE),"-") -> 0.73529412 | N10: =IFERROR(VLOOKUP($L10,'Generation tables'!$D$37:$S$46,10,FALSE),"-") -> 2.4390244 | O10: =IFERROR(VLOOKUP($L10,'Generation tables'!$D$24:$S$32,10,FALSE),"-") -> 0 | P10: =IFERROR(VLOOKUP($L10,'Generation tables'!$D$12:$S$19,10,FALSE),"-") -> 1.9083969 | Q10: =IFERROR(VLOOKUP($L10,'Generation tables'!$D$3:$S$7,10,FALSE),"-") -> - | U10: =L10 -> G40 | V10: =IFERROR(VLOOKUP($U10,'Generation tables'!$D$50:$SS66,14,FALSE),"-") -> 45.220588 | W10: =IFERROR(VLOOKUP($U10,'Generation tables'!$D$37:$S$46,14,FALSE),"-") -> 71.544715 | X10: =IFERROR(VLOOKUP($U10,'Generation tables'!$D$24:$S$32,14,FALSE),"-") -> 0 | Y10: =IFERROR(VLOOKUP($U10,'Generation tables'!$D$12:$S$19,14,FALSE),"-") -> 30.152672 | Z10: =IFERROR(VLOOKUP($U10,'Generation tables'!$D$3:$S$7,14,FALSE),"-") -> -
C11: G50 | D11: =IFERROR(VLOOKUP($C11,'Generation tables'!$D$51:$S$60,13,FALSE),"-") -> 7.6923077 | E11: =IFERROR(VLOOKUP($C11,'Generation tables'!$D$37:$S$46,13,FALSE),"-") -> 56.944444 | F11: =IFERROR(VLOOKUP($C11,'Generation tables'!$D$24:$S$32,13,FALSE),"-") -> 0 | G11: =IFERROR(VLOOKUP($C11,'Generation tables'!$D$12:$S$19,13,FALSE),"-") -> 0 | H11: =IFERROR(VLOOKUP($C11,'Generation tables'!$D$3:$S$7,13,FALSE),"-") -> 0 | L11: =C11 -> G50 | M11: =IFERROR(VLOOKUP($L11,'Generation tables'!$D$51:S$60,10,FALSE),"-") -> 3.8461538 | N11: =IFERROR(VLOOKUP($L11,'Generation tables'!$D$37:$S$46,10,FALSE),"-") -> 0 | O11: =IFERROR(VLOOKUP($L11,'Generation tables'!$D$24:$S$32,10,FALSE),"-") -> 0 | P11: =IFERROR(VLOOKUP($L11,'Generation tables'!$D$12:$S$19,10,FALSE),"-") -> 0 | Q11: =IFERROR(VLOOKUP($L11,'Generation tables'!$D$3:$S$7,10,FALSE),"-") -> 0 | U11: =L11 -> G50 | V11: =IFERROR(VLOOKUP($U11,'Generation tables'!$D$50:$SS67,14,FALSE),"-") -> 3.8461538 | W11: =IFERROR(VLOOKUP($U11,'Generation tables'!$D$37:$S$46,14,FALSE),"-") -> 0 | X11: =IFERROR(VLOOKUP($U11,'Generation tables'!$D$24:$S$32,14,FALSE),"-") -> 0 | Y11: =IFERROR(VLOOKUP($U11,'Generation tables'!$D$12:$S$19,14,FALSE),"-") -> 0 | Z11: =IFERROR(VLOOKUP($U11,'Generation tables'!$D$3:$S$7,14,FALSE),"-") -> 0
C12: G55 | D12: =IFERROR(VLOOKUP($C12,'Generation tables'!$D$51:$S$60,13,FALSE),"-") -> 0 | E12: =IFERROR(VLOOKUP($C12,'Generation tables'!$D$37:$S$46,13,FALSE),"-") -> 0 | F12: =IFERROR(VLOOKUP($C12,'Generation tables'!$D$24:$S$32,13,FALSE),"-") -> 10 | G12: =IFERROR(VLOOKUP($C12,'Generation tables'!$D$12:$S$19,13,FALSE),"-") -> 0 | H12: =IFERROR(VLOOKUP($C12,'Generation tables'!$D$3:$S$7,13,FALSE),"-") -> - | L12: =C12 -> G55 | M12: =IFERROR(VLOOKUP($L12,'Generation tables'!$D$51:S$60,10,FALSE),"-") -> 0 | N12: =IFERROR(VLOOKUP($L12,'Generation tables'!$D$37:$S$46,10,FALSE),"-") -> 0 | O12: =IFERROR(VLOOKUP($L12,'Generation tables'!$D$24:$S$32,10,FALSE),"-") -> 10 | P12: =IFERROR(VLOOKUP($L12,'Generation tables'!$D$12:$S$19,10,FALSE),"-") -> 0 | Q12: =IFERROR(VLOOKUP($L12,'Generation tables'!$D$3:$S$7,10,FALSE),"-") -> - | U12: =L12 -> G55 | V12: =IFERROR(VLOOKUP($U12,'Generation tables'!$D$50:$SS68,14,FALSE),"-") -> 0 | W12: =IFERROR(VLOOKUP($U12,'Generation tables'!$D$37:$S$46,14,FALSE),"-") -> 0 | X12: =IFERROR(VLOOKUP($U12,'Generation tables'!$D$24:$S$32,14,FALSE),"-") -> 0 | Y12: =IFERROR(VLOOKUP($U12,'Generation tables'!$D$12:$S$19,14,FALSE),"-") -> 0 | Z12: =IFERROR(VLOOKUP($U12,'Generation tables'!$D$3:$S$7,14,FALSE),"-") -> -
C13: G60 | D13: =IFERROR(VLOOKUP($C13,'Generation tables'!$D$51:$S$60,13,FALSE),"-") -> 0 | E13: =IFERROR(VLOOKUP($C13,'Generation tables'!$D$37:$S$46,13,FALSE),"-") -> 0 | F13: =IFERROR(VLOOKUP($C13,'Generation tables'!$D$24:$S$32,13,FALSE),"-") -> 0 | G13: =IFERROR(VLOOKUP($C13,'Generation tables'!$D$12:$S$19,13,FALSE),"-") -> - | H13: =IFERROR(VLOOKUP($C13,'Generation tables'!$D$3:$S$7,13,FALSE),"-") -> - | L13: G60 | M13: =IFERROR(VLOOKUP($L13,'Generation tables'!$D$51:S$60,10,FALSE),"-") -> 0 | N13: =IFERROR(VLOOKUP($L13,'Generation tables'!$D$37:$S$46,10,FALSE),"-") -> 0 | O13: =IFERROR(VLOOKUP($L13,'Generation tables'!$D$24:$S$32,10,FALSE),"-") -> 0 | P13: =IFERROR(VLOOKUP($L13,'Generation tables'!$D$12:$S$19,10,FALSE),"-") -> - | Q13: =IFERROR(VLOOKUP($L13,'Generation tables'!$D$3:$S$7,10,FALSE),"-") -> - | U13: G60 | V13: =IFERROR(VLOOKUP($U13,'Generation tables'!$D$50:$SS69,14,FALSE),"-") -> 0 | W13: =IFERROR(VLOOKUP($U13,'Generation tables'!$D$37:$S$46,14,FALSE),"-") -> 0 | X13: =IFERROR(VLOOKUP($U13,'Generation tables'!$D$24:$S$32,14,FALSE),"-") -> 0 | Y13: =IFERROR(VLOOKUP($U13,'Generation tables'!$D$12:$S$19,14,FALSE),"-") -> - | Z13: =IFERROR(VLOOKUP($U13,'Generation tables'!$D$3:$S$7,14,FALSE),"-") -> -
C14: G65 | D14: =IFERROR(VLOOKUP($C14,'Generation tables'!$D$51:$S$60,13,FALSE),"-") -> - | E14: =IFERROR(VLOOKUP($C14,'Generation tables'!$D$37:$S$46,13,FALSE),"-") -> - | F14: =IFERROR(VLOOKUP($C14,'Generation tables'!$D$24:$S$32,13,FALSE),"-") -> - | G14: =IFERROR(VLOOKUP($C14,'Generation tables'!$D$12:$S$19,13,FALSE),"-") -> - | H14: =IFERROR(VLOOKUP($C14,'Generation tables'!$D$3:$S$7,13,FALSE),"-") -> 0 | L14: =C14 -> G65 | M14: =IFERROR(VLOOKUP($L14,'Generation tables'!$D$51:S$60,10,FALSE),"-") -> - | N14: =IFERROR(VLOOKUP($L14,'Generation tables'!$D$37:$S$46,10,FALSE),"-") -> - | O14: =IFERROR(VLOOKUP($L14,'Generation tables'!$D$24:$S$32,10,FALSE),"-") -> - | P14: =IFERROR(VLOOKUP($L14,'Generation tables'!$D$12:$S$19,10,FALSE),"-") -> - | Q14: =IFERROR(VLOOKUP($L14,'Generation tables'!$D$3:$S$7,10,FALSE),"-") -> 0 | U14: =L14 -> G65 | V14: =IFERROR(VLOOKUP($U14,'Generation tables'!$D$50:$SS69,14,FALSE),"-") -> - | W14: =IFERROR(VLOOKUP($U14,'Generation tables'!$D$37:$S$46,14,FALSE),"-") -> - | X14: =IFERROR(VLOOKUP($U14,'Generation tables'!$D$24:$S$32,14,FALSE),"-") -> - | Y14: =IFERROR(VLOOKUP($U14,'Generation tables'!$D$12:$S$19,14,FALSE),"-") -> - | Z14: =IFERROR(VLOOKUP($U14,'Generation tables'!$D$3:$S$7,14,FALSE),"-") -> 0
B15: Generation | D15: ='Generation tables'!P61 -> 1.4230272 | E15: ='Generation tables'!P47 -> 4.0501146 | F15: ='Generation tables'!P33 -> 1.4778211 | G15: ='Generation tables'!P20 -> 1.7236719 | H15: ='Generation tables'!P8 -> 0.60344828 | K15: Generation | M15: ='Generation tables'!M61 -> 0.51746442 | N15: ='Generation tables'!$M47 -> 1.0686377 | O15: ='Generation tables'!$M33 -> 0.64654675 | P15: ='Generation tables'!$M20 -> 0.86183595 | Q15: ='Generation tables'!$M8 -> 0.51724138 | T15: Generation | V15: ='Generation tables'!$Q61 -> 19.75 | W15: ='Generation tables'!$Q47 -> 18.625 | X15: ='Generation tables'!$Q33 -> 3.9716443 | Y15: ='Generation tables'!$Q20 -> 16.139837 | Z15: ='Generation tables'!$Q8 -> 5.6896552
B16: Industry Total | D16: ='Generation tables'!P62 -> 2.2594618 | E16: ='Generation tables'!P48 -> 3.6798943 | F16: ='Generation tables'!P34 -> 1.6668514 | G16: ='Generation tables'!P21 -> 1.8646728 | H16: ='Generation tables'!P9 -> 1.6817799 | K16: Industry Total | M16: ='Generation tables'!M62 -> 0.92021717 | N16: ='Generation tables'!$M48 -> 1.3640142 | O16: ='Generation tables'!$M34 -> 0.74174888 | P16: ='Generation tables'!$M21 -> 0.84030318 | Q16: ='Generation tables'!$M9 -> 0.82651578 | T16: Industry Total | V16: ='Generation tables'!$Q62 -> 17.34445 | W16: ='Generation tables'!$Q48 -> 16.905435 | X16: ='Generation tables'!$Q34 -> 6.775751 | Y16: ='Generation tables'!$Q21 -> 9.2033206 | Z16: ='Generation tables'!$Q9 -> 9.2929122
C18: Select your respondent code -> | G18: 1 | L18: Select your respondent code -> | P18: 1 | U18: Select your respondent code -> | Y18: 1
D19: 1 | E19: 2 | F19: 3 | G19: 4 | H19: 5 | M19: 1 | N19: 2 | O19: 3 | P19: 4 | Q19: 5 | V19: 1 | W19: 2 | X19: 3 | Y19: 4
B21: TRIFR Respondent | D21: =D4 -> 2020 | E21: =E4 -> 2021 | F21: =F4 -> 2022 | G21: =G4 -> 2023 | H21: =H4 -> 2024 | K21: LTIFR Respondent | M21: =M4 -> 2020 | N21: =N4 -> 2021 | O21: =O4 -> 2022 | P21: =P4 -> 2023 | Q21: =Q4 -> 2024 | T21: LTISR Respondent | V21: =V4 -> 2020 | W21: =W4 -> 2021 | X21: =X4 -> 2022 | Y21: =Y4 -> 2023 | Z21: =Z4 -> 2024
B22: =INDEX($C$5:$C$14,$G$18,1) -> G10 | D22: =INDEX($D$5:$H$14,$G$18,D$19) -> 1.1494253 | E22: =INDEX($D$5:$H$14,$G$18,E$19) -> 6.875 | F22: =INDEX($D$5:$H$14,$G$18,F$19) -> 2.6086957 | G22: =INDEX($D$5:$H$14,$G$18,G$19) -> 5.7971014 | H22: =INDEX($D$5:$H$14,$G$18,H$19) -> 1.8324607 | K22: =INDEX($L$5:$L$14,$P$18,1) -> G10 | M22: =INDEX($M$5:$Q$14,$P$18,M$19) -> 0.57471264 | N22: =INDEX($M$5:$Q$14,$P$18,N$19) -> 3.75 | O22: =INDEX($M$5:$Q$14,$P$18,O$19) -> 1.7391304 | P22: =INDEX($M$5:$Q$14,$P$18,P$19) -> 2.8985507 | Q22: =INDEX($M$5:$Q$14,$P$18,Q$19) -> 1.5706806 | T22: =INDEX($C$5:$C$14,$Y$18,1) -> G10 | V22: =INDEX($V$5:$Z$14,$Y$18,V$19) -> 10.632184 | W22: =INDEX($V$5:$Z$14,$Y$18,W$19) -> 46.875 | X22: =INDEX($V$5:$Z$14,$Y$18,X$19) -> 7.6086957 | Y22: =INDEX($V$5:$Z$14,$Y$18,Y$19) -> 85.144928 | Z22: =INDEX($V$5:$Z$14,$Y$18,Z$19) -> 16.230366
B23: Generation | D23: =D15 -> 1.4230272 | E23: =E15 -> 4.0501146 | F23: =F15 -> 1.4778211 | G23: =G15 -> 1.7236719 | H23: =H15 -> 0.60344828 | K23: Generation | M23: =M15 -> 0.51746442 | N23: =N15 -> 1.0686377 | O23: =O15 -> 0.64654675 | P23: =P15 -> 0.86183595 | Q23: =Q15 -> 0.51724138 | T23: Generation | V23: =V15 -> 19.75 | W23: =W15 -> 18.625 | X23: =X15 -> 3.9716443 | Y23: =Y15 -> 16.139837 | Z23: =Z15 -> 5.6896552
B24: Industry Total | D24: =D16 -> 2.2594618 | E24: =E16 -> 3.6798943 | F24: =F16 -> 1.6668514 | G24: =G16 -> 1.8646728 | H24: =H16 -> 1.6817799 | K24: Industry Total | M24: =M16 -> 0.92021717 | N24: =N16 -> 1.3640142 | O24: =O16 -> 0.74174888 | P24: =P16 -> 0.84030318 | Q24: =Q16 -> 0.82651578 | T24: Industry Total | V24: =V16 -> 17.34445 | W24: =W16 -> 16.905435 | X24: =X16 -> 6.775751 | Y24: =Y16 -> 9.2033206 | Z24: =Z16 -> 9.2929122

Sheet Transmission tables
B2: Tran YE June 2024 | D2: Code | E2: FTEs | F2: Fatalities | G2: LTIs | H2: RWIs | I2: MTIs | J2: TRIs | K2: LTI Days Lost | L2: RW Days (Est) | M2: LTIFR | N2: RWIFR | O2: MTIFR | P2: TRIFR | Q2: LTISR | R2: RWISR (Est) | S2: ATLR to LTIs
D3: T45 | E3: 2074 | F3: 0 | G3: 8 | H3: 5 | I3: 18 | J3: 31 | K3: 131 | L3: 65 | M3: 0.38575968 | N3: 0.2410998 | O3: 0.86795928 | P3: 1.4948188 | Q3: 6.3168148 | R3: 3.1342974 | S3: 16.375
D4: Group | E4: 2073.83 | F4: 0 | G4: 8 | H4: 5 | I4: 18 | J4: 31 | K4: 131 | L4: 65 | M4: 0.38575968 | N4: 0.2410998 | O4: 0.86795928 | P4: 1.4948188 | Q4: 6.3168148 | R4: 3.1342974 | S4: 16.375
D5: Industry | E5: 13913.83 | F5: 1 | G5: 115 | H5: 82 | I5: 36 | J5: 234 | K5: 1293 | L5: 1066 | M5: 0.82651578 | N5: 0.58934168 | O5: 0.25873537 | P5: 1.6817799 | Q5: 9.2929122 | R5: 7.6614419 | S5: 9.7218045
B7: Tran YE June 2023 | D7: Code | E7: FTEs | F7: Fatalities | G7: LTIs | H7: RWIs | I7: MTIs | J7: TRIs | K7: LTI Days Lost | L7: RW Days | M7: LTIFR | N7: RWIFR | O7: MTIFR | P7: TRIFR | Q7: LTISR | R7: RWISR | S7: ATLR to LTIs
D8: T45 | E8: 1997.8 | F8: 0 | G8: 8 | H8: 5 | I8: 9 | J8: 22 | K8: 53 | L8: 68 | M8: 0.40044048 | N8: 0.2502753 | O8: 0.45049555 | P8: 1.1012113 | Q8: 2.6529182 | R8: 3.4037441 | S8: 6.625
D9: Group | E9: 1997.8 | F9: 0 | G9: 8 | H9: 5 | I9: 9 | J9: 22 | K9: 53 | L9: 68 | M9: 0.40044048 | N9: 0.2502753 | O9: 0.45049555 | P9: 1.1012113 | Q9: 2.6529182 | R9: 3.4037441 | S9: 6.625
D10: Industry | E10: 12495.49 | F10: 0 | G10: 105 | H10: 53 | I10: 75 | J10: 233 | K10: 1150 | L10: 656 | M10: 0.84030318 | N10: 0.42415303 | O10: 0.60021656 | P10: 1.8646728 | Q10: 9.2033206 | R10: 5.2498942 | S10: 10.952381
B12: Tran YE June 2022 | D12: Code | E12: FTEs | F12: Fatalities | G12: LTIs | H12: RWIs | I12: MTIs | J12: TRIs | K12: LTI Days Lost | L12: RW Days | M12: LTIFR | N12: RWIFR | O12: MTIFR | P12: TRIFR | Q12: LTISR | R12: RWISR | S12: ATLR to LTIs
D13: T45 | E13: 1785 | F13: 0 | G13: 6 | H13: 6 | I13: 3 | J13: 15 | K13: 174 | L13: 84 | M13: 0.33613445 | N13: 0.33613445 | O13: 0.16806723 | P13: 0.84033613 | Q13: 9.7478992 | R13: 4.7058824 | S13: 29
D14: Group | E14: 1785 | F14: 0 | G14: 6 | H14: 6 | I14: 3 | J14: 15 | K14: 174 | L14: 84 | M14: 0.33613445 | N14: 0.33613445 | O14: 0.16806723 | P14: 0.84033613 | Q14: 9.7478992 | R14: 4.7058824 | S14: 29
D15: Industry | E15: 11998.67 | F15: 0 | G15: 89 | H15: 50 | I15: 61 | J15: 200 | K15: 813 | L15: 700.5 | M15: 0.74174888 | N15: 0.41671285 | O15: 0.50838968 | P15: 1.6668514 | Q15: 6.775751 | R15: 5.8381471 | S15: 9.1348315
B17: Tran YE June 2021 | D17: Code | E17: FTEs | F17: Fatalities | G17: LTIs | H17: RWIs | I17: MTIs | J17: TRIs | K17: LTI Days Lost | L17: RW Days | M17: LTIFR | N17: RWIFR | O17: MTIFR | P17: TRIFR | Q17: LTISR | R17: RWISR | S17: ATLR to LTIs
D18: T45 | E18: 1862.16 | F18: 1 | G18: 9 | H18: 14 | I18: 9 | J18: 33 | K18: 54 | L18: 68 | M18: 0.4833097 | N18: 0.7518151 | O18: 0.4833097 | P18: 1.7721356 | Q18: 2.8998582 | R18: 3.6516733 | S18: 6
D19: Group | E19: 1862.16 | F19: 1 | G19: 9 | H19: 14 | I19: 9 | J19: 33 | K19: 54 | L19: 68 | M19: 0.4833097 | N19: 0.7518151 | O19: 0.4833097 | P19: 1.7721356 | Q19: 2.8998582 | R19: 3.6516733 | S19: 6
D20: Industry | E20: 10190.51 | F20: 1 | G20: 139 | H20: 80 | I20: 155 | J20: 375 | K20: 1722.75 | L20: 1213 | M20: 1.3640142 | N20: 0.78504412 | O20: 1.521023 | P20: 3.6798943 | Q20: 16.905435 | R20: 11.903232 | S20: 12.393885
B22: Tran YE June 2020 | D22: Code | E22: FTEs | F22: Fatalities | G22: LTIs | H22: RWIs | I22: MTIs | J22: TRIs | K22: LTI Days Lost | L22: RW Days | M22: LTIFR | N22: RWIFR | O22: MTIFR | P22: TRIFR | Q22: LTISR | R22: RWISR | S22: ATLR to LTIs
D23: T45 | E23: 1850.92 | F23: 0 | G23: 5 | H23: 9 | I23: 10 | J23: 24 | K23: 24 | L23: 66 | M23: 0.27013593 | N23: 0.48624468 | O23: 0.54027186 | P23: 1.2966525 | Q23: 1.2966525 | R23: 3.5657943 | S23: 4.8
D24: Group | E24: 1850.92 | F24: 0 | G24: 5 | H24: 9 | I24: 10 | J24: 24 | K24: 24 | L24: 66 | M24: 0.27013593 | N24: 0.48624468 | O24: 0.54027186 | P24: 1.2966525 | Q24: 1.2966525 | R24: 3.5657943 | S24: 4.8
D25: Industry | E25: 12171.04 | F25: 0 | G25: 112 | H25: 64 | I25: 99 | J25: 275 | K25: 2111 | L25: 779 | M25: 0.92021717 | N25: 0.52583838 | O25: 0.81340625 | P25: 2.2594618 | Q25: 17.34445 | R25: 6.4004391 | S25: 18.848214

Sheet Transmission graphs
B2: Total Recordable Injury Frequency Rate | J2: Lost Time Injury Frequency Rate | R2: Lost Time Injury Severity Rate
B3: TRIFR - 5-year results - Transmission peer group | C3: Year Ended | J3: LTIFR - 5-year results - Transmission peer group | K3: Year Ended | R3: LTISR - 5-year results - Transmission peer group | S3: Year Ended
C4: 2020 | D4: 2021 | E4: 2022 | F4: 2023 | G4: 2024 | K4: 2020 | L4: 2021 | M4: 2022 | N4: 2023 | O4: 2024 | S4: 2020 | T4: 2021 | U4: 2022 | V4: 2023 | W4: 2024
B5: T45 / Transmission | C5: ='Transmission tables'!$P23 -> 1.2966525 | D5: ='Transmission tables'!$P18 -> 1.7721356 | E5: ='Transmission tables'!$P13 -> 0.84033613 | F5: ='Transmission tables'!$P8 -> 1.1012113 | G5: ='Transmission tables'!$P3 -> 1.4948188 | J5: T45 / Transmission | K5: ='Transmission tables'!$M23 -> 0.27013593 | L5: ='Transmission tables'!$M18 -> 0.4833097 | M5: ='Transmission tables'!$M13 -> 0.33613445 | N5: ='Transmission tables'!$M8 -> 0.40044048 | O5: ='Transmission tables'!$M3 -> 0.38575968 | R5: T45 / Transmission | S5: ='Transmission tables'!$Q23 -> 1.2966525 | T5: ='Transmission tables'!$Q18 -> 2.8998582 | U5: ='Transmission tables'!$Q13 -> 9.7478992 | V5: ='Transmission tables'!$Q8 -> 2.6529182 | W5: ='Transmission tables'!$Q3 -> 6.3168148
B6: Transmission | C6: ='Transmission tables'!$P24 -> 1.2966525 | D6: ='Transmission tables'!$P19 -> 1.7721356 | E6: ='Transmission tables'!$P14 -> 0.84033613 | F6: ='Transmission tables'!$P9 -> 1.1012113 | G6: ='Transmission tables'!$P4 -> 1.4948188 | J6: Transmission | K6: ='Transmission tables'!$M24 -> 0.27013593 | L6: ='Transmission tables'!$M19 -> 0.4833097 | M6: ='Transmission tables'!$M14 -> 0.33613445 | N6: ='Transmission tables'!$M9 -> 0.40044048 | O6: ='Transmission tables'!$M4 -> 0.38575968 | R6: Transmission | S6: ='Transmission tables'!$Q24 -> 1.2966525 | T6: ='Transmission tables'!$Q19 -> 2.8998582 | U6: ='Transmission tables'!$Q14 -> 9.7478992 | V6: ='Transmission tables'!$Q9 -> 2.6529182 | W6: ='Transmission tables'!$Q4 -> 6.3168148
B7: Industry Total | C7: ='Transmission tables'!$P25 -> 2.2594618 | D7: ='Transmission tables'!$P20 -> 3.6798943 | E7: ='Transmission tables'!$P15 -> 1.6668514 | F7: ='Transmission tables'!$P10 -> 1.8646728 | G7: ='Transmission tables'!$P5 -> 1.6817799 | J7: Industry Total | K7: ='Transmission tables'!$M25 -> 0.92021717 | L7: ='Transmission tables'!$M20 -> 1.3640142 | M7: ='Transmission tables'!$M15 -> 0.74174888 | N7: ='Transmission tables'!$M10 -> 0.84030318 | O7: ='Transmission tables'!$M5 -> 0.82651578 | R7: Industry Total | S7: ='Transmission tables'!$Q25 -> 17.34445 | T7: ='Transmission tables'!$Q20 -> 16.905435 | U7: ='Transmission tables'!$Q15 -> 6.775751 | V7: ='Transmission tables'!$Q10 -> 9.2033206 | W7: ='Transmission tables'!$Q5 -> 9.2929122

Sheet Distribution (small) tables
B2: D<100 YE June 2024 | D2: Code | E2: FTEs | F2: Fatalities | G2: LTIs | H2: RWIs | I2: MTIs | J2: TRIs | K2: LTI Days Lost | L2: RW Days (Est) | M2: LTIFR | N2: RWIFR | O2: MTIFR | P2: TRIFR | Q2: LTISR | R2: RWISR (Est) | S2: ATLR to LTIs
D3: D65 | E3: 72.5 | F3: 0 | G3: 1 | H3: 0 | I3: 0 | J3: 1 | K3: 6 | L3: 0 | M3: 1.3793103 | N3: 0 | O3: 0 | P3: 1.3793103 | Q3: 8.2758621 | R3: 0 | S3: 6
D4: D105 | E4: 85 | F4: 0 | G4: 4 | H4: 0 | I4: 0 | J4: 4 | K4: 18 | L4: 0 | M4: 4.7058824 | N4: 0 | O4: 0 | P4: 4.7058824 | Q4: 21.176471 | R4: 0 | S4: 4.5
D5: D130 | E5: 9 | F5: 0 | G5: 0 | H5: 2 | I5: 0 | J5: 2 | K5: 0 | L5: 26 | M5: 0 | N5: 22.222222 | O5: 0 | P5: 22.222222 | Q5: 0 | R5: 288.88889 | S5: 0
D6: D135 | E6: 47.8 | F6: 0 | G6: 1 | H6: 0 | I6: 0 | J6: 1 | K6: 157 | L6: 0 | M6: 2.0920502 | N6: 0 | O6: 0 | P6: 2.0920502 | Q6: 328.45188 | R6: 0 | S6: 157
D7: D168 | E7: 59 | F7: 0 | G7: 0 | H7: 0 | I7: 0 | J7: 0 | K7: 0 | L7: 0 | M7: 0 | N7: 0 | O7: 0 | P7: 0 | Q7: 0 | R7: 0 | S7: 0
D8: Group | E8: 273.3 | F8: 0 | G8: 6 | H8: 2 | I8: 0 | J8: 8 | K8: 181 | L8: 26 | M8: 2.1953897 | N8: 0.73179656 | O8: 0 | P8: 2.9271862 | Q8: 66.227589 | R8: 9.5133553 | S8: 7.5416667
D9: Dist | E9: 9520 | F9: 1 | G9: 95 | H9: 76 | I9: 17 | J9: 189 | K9: 1030 | L9: 988 | M9: 0.99789916 | N9: 0.79831933 | O9: 0.17857143 | P9: 1.9852941 | Q9: 10.819328 | R9: 10.378151 | S9: 9.1150442
D10: Industry | E10: 13913.83 | F10: 1 | G10: 115 | H10: 82 | I10: 36 | J10: 234 | K10: 1293 | L10: 1066 | M10: 0.82651578 | N10: 0.58934168 | O10: 0.25873537 | P10: 1.6817799 | Q10: 9.2929122 | R10: 7.6614419 | S10: 9.7218045
B12: D<100 YE June 2023 | D12: Code | E12: FTEs | F12: Fatalities | G12: LTIs | H12: RWIs | I12: MTIs | J12: TRIs | K12: LTI Days Lost | L12: RW Days | M12: LTIFR | N12: RWIFR | O12: MTIFR | P12: TRIFR | Q12: LTISR | R12: RWISR | S12: ATLR to LTIs
D13: D50 | E13: 85 | F13: 0 | G13: 0 | H13: 0 | I13: 5 | J13: 5 | K13: 0 | L13: 0 | M13: 0 | N13: 0 | O13: 5.8823529 | P13: 5.8823529 | Q13: 0 | R13: 0 | S13: 0
D14: D65 | E14: 72 | F14: 0 | G14: 0 | H14: 0 | I14: 0 | J14: 0 | K14: 0 | L14: 0 | M14: 0 | N14: 0 | O14: 0 | P14: 0 | Q14: 0 | R14: 0 | S14: 0
D15: D70 | E15: 104 | F15: 0 | G15: 1 | H15: 2 | I15: 0 | J15: 3 | K15: 7 | L15: 7 | M15: 0.96153846 | N15: 1.9230769 | O15: 0 | P15: 2.8846154 | Q15: 6.7307692 | R15: 6.7307692 | S15: 7
D16: D105 | E16: 120 | F16: 0 | G16: 1 | H16: 0 | I16: 0 | J16: 1 | K16: 3 | L16: 0 | M16: 0.83333333 | N16: 0 | O16: 0 | P16: 0.83333333 | Q16: 2.5 | R16: 0 | S16: 3
D17: D135 | E17: 35 | F17: 0 | G17: 2 | H17: 0 | I17: 0 | J17: 2 | K17: 21 | L17: 0 | M17: 5.7142857 | N17: 0 | O17: 0 | P17: 5.7142857 | Q17: 60 | R17: 0 | S17: 10.5
D18: D168 | E18: 66 | F18: 0 | G18: 1 | H18: 1 | I18: 2 | J18: 4 | K18: 49 | L18: 187 | M18: 1.5151515 | N18: 1.5151515 | O18: 3.030303 | P18: 6.0606061 | Q18: 74.242424 | R18: 283.33333 | S18: 49
D19: Group | E19: 258 | F19: 0 | G19: 3 | H19: 1 | I19: 7 | J19: 11 | K19: 70 | L19: 187 | M19: 1.1627907 | N19: 0.3875969 | O19: 2.7131783 | P19: 4.2635659 | Q19: 27.131783 | R19: 72.48062 | S19: 23.333333
D20: Dist | E20: 7945 | F20: 0 | G20: 75 | H20: 38 | I20: 54 | J20: 167 | K20: 685 | L20: 521 | M20: 0.94398993 | N20: 0.47828823 | O20: 0.67967275 | P20: 2.1019509 | Q20: 8.6217747 | R20: 6.5575834 | S20: 9.1333333
D21: Industry | E21: 12495.49 | F21: 0 | G21: 105 | H21: 53 | I21: 75 | J21: 233 | K21: 1150 | L21: 656 | M21: 0.84030318 | N21: 0.42415303 | O21: 0.60021656 | P21: 1.8646728 | Q21: 9.2033206 | R21: 5.2498942 | S21: 10.952381
B23: D<100 YE June 2022 | D23: Code | E23: FTEs | F23: Fatalities | G23: LTIs | H23: RWIs | I23: MTIs | J23: TRIs | K23: LTI Days Lost | L23: RW Days | M23: LTIFR | N23: RWIFR | O23: MTIFR | P23: TRIFR | Q23: LTISR | R23: RWISR | S23: ATLR to LTIs
D24: D50 | E24: 85 | F24: 0 | G24: 4 | H24: 0 | I24: 1 | J24: 5 | K24: 63 | L24: 0 | M24: 4.7058824 | N24: 0 | O24: 1.1764706 | P24: 5.8823529 | Q24: 74.117647 | R24: 0 | S24: 15.75
D25: D65 | E25: 68 | F25: 0 | G25: 0 | H25: 0 | I25: 0 | J25: 0 | K25: 0 | L25: 0 | M25: 0 | N25: 0 | O25: 0 | P25: 0 | Q25: 0 | R25: 0 | S25: 0
D26: D70 | E26: 82 | F26: 0 | G26: 0 | H26: 0 | I26: 0 | J26: 0 | K26: 0 | L26: 0 | M26: 0 | N26: 0 | O26: 0 | P26: 0 | Q26: 0 | R26: 0 | S26: 0
D27: D105 | E27: 77 | F27: 0 | G27: 2 | H27: 0 | I27: 0 | J27: 2 | K27: 15 | L27: 0 | M27: 2.5974026 | N27: 0 | O27: 0 | P27: 2.5974026 | Q27: 19.480519 | R27: 0 | S27: 7.5
D28: D130 | E28: 10 | F28: 0 | G28: 0 | H28: 0 | I28: 1 | J28: 1 | K28: 0 | L28: 0 | M28: 0 | N28: 0 | O28: 10 | P28: 10 | Q28: 0 | R28: 0 | S28: 0
D29: D135 | E29: 52 | F29: 0 | G29: 1 | H29: 0 | I29: 0 | J29: 1 | K29: 1 | L29: 0 | M29: 1.9230769 | N29: 0 | O29: 0 | P29: 1.9230769 | Q29: 1.9230769 | R29: 0 | S29: 1
D30: D168 | E30: 62 | F30: 0 | G30: 0 | H30: 1 | I30: 0 | J30: 1 | K30: 0 | L30: 65.5 | M30: 0 | N30: 1.6129032 | O30: 0 | P30: 1.6129032 | Q30: 0 | R30: 105.64516 | S30: 0
D31: Group | E31: 436 | F31: 0 | G31: 7 | H31: 1 | I31: 2 | J31: 10 | K31: 79 | L31: 65.5 | M31: 1.6055046 | N31: 0.2293578 | O31: 0.4587156 | P31: 2.293578 | Q31: 18.119266 | R31: 15.022936 | S31: 11.285714
D32: Dist | E32: 8048.32 | F32: 0 | G32: 69 | H32: 38 | I32: 46 | J32: 153 | K32: 553 | L32: 539.5 | M32: 0.85732178 | N32: 0.47214822 | O32: 0.57154785 | P32: 1.9010179 | Q32: 6.8709992 | R32: 6.7032623 | S32: 8.0144928
D33: Industry | E33: 11998.67 | F33: 0 | G33: 89 | H33: 50 | I33: 61 | J33: 200 | K33: 813 | L33: 700.5 | M33: 0.74174888 | N33: 0.41671285 | O33: 0.50838968 | P33: 1.6668514 | Q33: 6.775751 | R33: 5.8381471 | S33: 9.1348315
B35: D<100 YE June 2021 | D35: Code | E35: FTEs | F35: Fatalities | G35: LTIs | H35: RWIs | I35: MTIs | J35: TRIs | K35: LTI Days Lost | L35: RW Days | M35: LTIFR | N35: RWIFR | O35: MTIFR | P35: TRIFR | Q35: LTISR | R35: RWISR | S35: ATLR to LTIs
D36: D50 | E36: 71 | F36: 0 | G36: 6 | H36: 0 | I36: 0 | J36: 6 | K36: 49.25 | L36: 0 | M36: 8.4507042 | N36: 0 | O36: 0 | P36: 8.4507042 | Q36: 69.366197 | R36: 0 | S36: 8.2083333
D37: D65 | E37: 62 | F37: 0 | G37: 2 | H37: 0 | I37: 0 | J37: 2 | K37: 37 | L37: 0 | M37: 3.2258065 | N37: 0 | O37: 0 | P37: 3.2258065 | Q37: 59.677419 | R37: 0 | S37: 18.5
D38: D70 | E38: 82 | F38: 0 | G38: 1 | H38: 1 | I38: 0 | J38: 2 | K38: 10 | L38: 10 | M38: 1.2195122 | N38: 1.2195122 | O38: 0 | P38: 2.4390244 | Q38: 12.195122 | R38: 12.195122 | S38: 10
D39: D105 | E39: 76 | F39: 0 | G39: 0 | H39: 0 | I39: 1 | J39: 1 | K39: 0 | L39: 0 | M39: 0 | N39: 0 | O39: 1.3157895 | P39: 1.3157895 | Q39: 0 | R39: 0 | S39: 0
D40: D110 | E40: 67 | F40: 0 | G40: 2 | H40: 0 | I40: 2 | J40: 4 | K40: 52 | L40: 36 | M40: 2.9850746 | N40: 0 | O40: 2.9850746 | P40: 5.9701493 | Q40: 77.61194 | R40: 53.731343 | S40: 26
D41: D130 | E41: 61 | F41: 0 | G41: 0 | H41: 1 | I41: 1 | J41: 2 | K41: 0 | L41: 30 | M41: 0 | N41: 1.6393443 | O41: 1.6393443 | P41: 3.2786885 | Q41: 0 | R41: 49.180328 | S41: 0
D42: D135 | E42: 42 | F42: 0 | G42: 1 | H42: 0 | I42: 0 | J42: 1 | K42: 0 | L42: 5 | M42: 2.3809524 | N42: 0 | O42: 0 | P42: 2.3809524 | Q42: 0 | R42: 11.904762 | S42: 0
D43: D168 | E43: 45 | F43: 0 | G43: 1 | H43: 2 | I43: 0 | J43: 3 | K43: 1.5 | L43: 3 | M43: 2.2222222 | N43: 4.4444444 | O43: 0 | P43: 6.6666667 | Q43: 3.3333333 | R43: 6.6666667 | S43: 1.5
D44: Group | E44: 506 | F44: 0 | G44: 13 | H44: 4 | I44: 4 | J44: 21 | K44: 149.75 | L44: 84 | M44: 2.56917 | N44: 0.79051383 | O44: 0.79051383 | P44: 4.1501976 | Q44: 29.594862 | R44: 16.600791 | S44: 11.519231
D45: Dist | E45: 6082.5 | F45: 0 | G45: 106 | H45: 57 | I45: 88 | J45: 251 | K45: 1221.75 | L45: 1049 | M45: 1.7427045 | N45: 0.93711467 | O45: 1.4467735 | P45: 4.1265927 | Q45: 20.086313 | R45: 17.246198 | S45: 11.525943
D46: Industry | E46: 10190.51 | F46: 1 | G46: 139 | H46: 80 | I46: 155 | J46: 375 | K46: 1722.75 | L46: 1213 | M46: 1.3640142 | N46: 0.78504412 | O46: 1.521023 | P46: 3.6798943 | Q46: 16.905435 | R46: 11.903232 | S46: 12.393885
B48: D<100 YE June 2020 | D48: Code | E48: FTEs | F48: Fatalities | G48: LTIs | H48: RWIs | I48: MTIs | J48: TRIs | K48: LTI Days Lost | L48: RW Days | M48: LTIFR | N48: RWIFR | O48: MTIFR | P48: TRIFR | Q48: LTISR | R48: RWISR | S48: ATLR to LTIs
D49: D50 | E49: 58 | F49: 0 | G49: 6 | H49: 0 | I49: 0 | J49: 6 | K49: 68 | L49: 0 | M49: 10.344828 | N49: 0 | O49: 0 | P49: 10.344828 | Q49: 117.24138 | R49: 0 | S49: 11.333333
D50: D65 | E50: 62 | F50: 0 | G50: 3 | H50: 1 | I50: 2 | J50: 6 | K50: 31 | L50: 10 | M50: 4.8387097 | N50: 1.6129032 | O50: 3.2258065 | P50: 9.6774194 | Q50: 50 | R50: 16.129032 | S50: 10.333333
D51: D70 | E51: 77 | F51: 0 | G51: 2 | H51: 1 | I51: 0 | J51: 3 | K51: 52 | L51: 3 | M51: 2.5974026 | N51: 1.2987013 | O51: 0 | P51: 3.8961039 | Q51: 67.532468 | R51: 3.8961039 | S51: 26
D52: D105 | E52: 73 | F52: 0 | G52: 0 | H52: 0 | I52: 0 | J52: 0 | K52: 0 | L52: 0 | M52: 0 | N52: 0 | O52: 0 | P52: 0 | Q52: 0 | R52: 0 | S52: 0
D53: D130 | E53: 8 | F53: 0 | G53: 0 | H53: 0 | I53: 0 | J53: 0 | K53: 0 | L53: 0 | M53: 0 | N53: 0 | O53: 0 | P53: 0 | Q53: 0 | R53: 0 | S53: 0
D54: D135 | E54: 39 | F54: 0 | G54: 0 | H54: 0 | I54: 0 | J54: 0 | K54: 0 | L54: 0 | M54: 0 | N54: 0 | O54: 0 | P54: 0 | Q54: 0 | R54: 0 | S54: 0
D55: D168 | E55: 60 | F55: 0 | G55: 1 | H55: 0 | I55: 1 | J55: 2 | K55: 1 | L55: 0 | M55: 1.6666667 | N55: 0 | O55: 1.6666667 | P55: 3.3333333 | Q55: 1.6666667 | R55: 0 | S55: 1
D56: Group | E56: 377 | F56: 0 | G56: 12 | H56: 2 | I56: 3 | J56: 17 | K56: 152 | L56: 13 | M56: 3.1830239 | N56: 0.53050398 | O56: 0.79575597 | P56: 4.5092838 | Q56: 40.318302 | R56: 3.4482759 | S56: 12.666667
D57: Dist | E57: 8001.12 | F57: 0 | G57: 95 | H57: 50 | I57: 73 | J57: 218 | K57: 1850 | L57: 564 | M57: 1.1873338 | N57: 0.62491251 | O57: 0.91237227 | P57: 2.7246186 | Q57: 23.121763 | R57: 7.0490131 | S57: 19.473684
D58: Industry | E58: 12171.04 | F58: 0 | G58: 112 | H58: 64 | I58: 99 | J58: 275 | K58: 2111 | L58: 779 | M58: 0.92021717 | N58: 0.52583838 | O58: 0.81340625 | P58: 2.2594618 | Q58: 17.34445 | R58: 6.4004391 | S58: 18.848214

Sheet Distribution (small) graphs
B2: Total Recordable Injury Frequency Rate | K2: Lost Time Injury Frequency Rate | T2: Lost Time Injury Severity Rate
B3: TRIFR - 5-year results - Small-size distribustion peer group | D3: Year Ended | K3: LTIFR - 5-year results - Small-size distribustion peer group | M3: =D3 -> Year Ended | T3: LTISR - 5-year results - Small-size distribution peer group | V3: =D3 -> Year Ended
D4: 2020 | E4: 2021 | F4: 2022 | G4: 2023 | H4: 2024 | M4: 2020 | N4: 2021 | O4: 2022 | P4: 2023 | Q4: 2024 | V4: 2020 | W4: 2021 | X4: 2022 | Y4: 2023 | Z4: 2024
B5: Respondent code | C5: D50 | D5: =IFERROR(VLOOKUP($C5,'Distribution (small) tables'!$D$49:$S$55,13,FALSE),"-") -> 10.344828 | E5: =IFERROR(VLOOKUP($C5,'Distribution (small) tables'!$D$36:$S$43,13,FALSE),"-") -> 8.4507042 | F5: =IFERROR(VLOOKUP($C5,'Distribution (small) tables'!$D$24:$S$30,13,FALSE),"") -> 5.8823529 | G5: =IFERROR(VLOOKUP($C5,'Distribution (small) tables'!$D$13:$S$18,13,FALSE),"-") -> 5.8823529 | H5: =IFERROR(VLOOKUP($C5,'Distribution (small) tables'!$D$3:$S$7,13,FALSE),"-") -> - | K5: Respondent code | L5: =C5 -> D50 | M5: =IFERROR(VLOOKUP($L5,'Distribution (small) tables'!$D$49:$S$55,10,FALSE),"-") -> 10.344828 | N5: =IFERROR(VLOOKUP($L5,'Distribution (small) tables'!$D$36:$S$43,10,FALSE),"-") -> 8.4507042 | O5: =IFERROR(VLOOKUP($L5,'Distribution (small) tables'!$D$24:$S$30,10,FALSE),"-") -> 4.7058824 | P5: =IFERROR(VLOOKUP($L5,'Distribution (small) tables'!$D$13:$S$18,10,FALSE),"-") -> 0 | Q5: =IFERROR(VLOOKUP($L5,'Distribution (small) tables'!$D$3:$S$7,10,FALSE),"-") -> - | T5: Respondent code | U5: =L5 -> D50 | V5: =IFERROR(VLOOKUP($U5,'Distribution (small) tables'!$D$49:$S$55,14,FALSE),"-") -> 117.24138 | W5: =IFERROR(VLOOKUP($U5,'Distribution (small) tables'!$D$36:$S$43,14,FALSE),"-") -> 69.366197 | X5: =IFERROR(VLOOKUP($U5,'Distribution (small) tables'!$D$24:$S$30,14,FALSE),"-") -> 74.117647 | Y5: =IFERROR(VLOOKUP($U5,'Distribution (small) tables'!$D$13:$S$18,14,FALSE),"-") -> 0 | Z5: =IFERROR(VLOOKUP($U5,'Distribution (small) tables'!$D$3:$S$7,14,FALSE),"-") -> -
C6: D65 | D6: =IFERROR(VLOOKUP($C6,'Distribution (small) tables'!$D$49:$S$55,13,FALSE),"-") -> 9.6774194 | E6: =IFERROR(VLOOKUP($C6,'Distribution (small) tables'!$D$36:$S$43,13,FALSE),"-") -> 3.2258065 | F6: =IFERROR(VLOOKUP($C6,'Distribution (small) tables'!$D$24:$S$30,13,FALSE),"") -> 0 | G6: =IFERROR(VLOOKUP($C6,'Distribution (small) tables'!$D$13:$S$18,13,FALSE),"-") -> 0 | H6: =IFERROR(VLOOKUP($C6,'Distribution (small) tables'!$D$3:$S$7,13,FALSE),"-") -> 1.3793103 | L6: =C6 -> D65 | M6: =IFERROR(VLOOKUP($L6,'Distribution (small) tables'!$D$49:$S$55,10,FALSE),"-") -> 4.8387097 | N6: =IFERROR(VLOOKUP($L6,'Distribution (small) tables'!$D$36:$S$43,10,FALSE),"-") -> 3.2258065 | O6: =IFERROR(VLOOKUP($L6,'Distribution (small) tables'!$D$24:$S$30,10,FALSE),"-") -> 0 | P6: =IFERROR(VLOOKUP($L6,'Distribution (small) tables'!$D$13:$S$18,10,FALSE),"-") -> 0 | Q6: =IFERROR(VLOOKUP($L6,'Distribution (small) tables'!$D$3:$S$7,10,FALSE),"-") -> 1.3793103 | U6: =L6 -> D65 | V6: =IFERROR(VLOOKUP($U6,'Distribution (small) tables'!$D$49:$S$55,14,FALSE),"-") -> 50 | W6: =IFERROR(VLOOKUP($U6,'Distribution (small) tables'!$D$36:$S$43,14,FALSE),"-") -> 59.677419 | X6: =IFERROR(VLOOKUP($U6,'Distribution (small) tables'!$D$24:$S$30,14,FALSE),"-") -> 0 | Y6: =IFERROR(VLOOKUP($U6,'Distribution (small) tables'!$D$13:$S$18,14,FALSE),"-") -> 0 | Z6: =IFERROR(VLOOKUP($U6,'Distribution (small) tables'!$D$3:$S$7,14,FALSE),"-") -> 8.2758621
C7: D70 | D7: =IFERROR(VLOOKUP($C7,'Distribution (small) tables'!$D$49:$S$55,13,FALSE),"-") -> 3.8961039 | E7: =IFERROR(VLOOKUP($C7,'Distribution (small) tables'!$D$36:$S$43,13,FALSE),"-") -> 2.4390244 | F7: =IFERROR(VLOOKUP($C7,'Distribution (small) tables'!$D$24:$S$30,13,FALSE),"") -> 0 | G7: =IFERROR(VLOOKUP($C7,'Distribution (small) tables'!$D$13:$S$18,13,FALSE),"-") -> 2.8846154 | H7: =IFERROR(VLOOKUP($C7,'Distribution (small) tables'!$D$3:$S$7,13,FALSE),"-") -> - | L7: =C7 -> D70 | M7: =IFERROR(VLOOKUP($L7,'Distribution (small) tables'!$D$49:$S$55,10,FALSE),"-") -> 2.5974026 | N7: =IFERROR(VLOOKUP($L7,'Distribution (small) tables'!$D$36:$S$43,10,FALSE),"-") -> 1.2195122 | O7: =IFERROR(VLOOKUP($L7,'Distribution (small) tables'!$D$24:$S$30,10,FALSE),"-") -> 0 | P7: =IFERROR(VLOOKUP($L7,'Distribution (small) tables'!$D$13:$S$18,10,FALSE),"-") -> 0.96153846 | Q7: =IFERROR(VLOOKUP($L7,'Distribution (small) tables'!$D$3:$S$7,10,FALSE),"-") -> - | U7: =L7 -> D70 | V7: =IFERROR(VLOOKUP($U7,'Distribution (small) tables'!$D$49:$S$55,14,FALSE),"-") -> 67.532468 | W7: =IFERROR(VLOOKUP($U7,'Distribution (small) tables'!$D$36:$S$43,14,FALSE),"-") -> 12.195122 | X7: =IFERROR(VLOOKUP($U7,'Distribution (small) tables'!$D$24:$S$30,14,FALSE),"-") -> 0 | Y7: =IFERROR(VLOOKUP($U7,'Distribution (small) tables'!$D$13:$S$18,14,FALSE),"-") -> 6.7307692 | Z7: =IFERROR(VLOOKUP($U7,'Distribution (small) tables'!$D$3:$S$7,14,FALSE),"-") -> -
C8: D105 | D8: =IFERROR(VLOOKUP($C8,'Distribution (small) tables'!$D$49:$S$55,13,FALSE),"-") -> 0 | E8: =IFERROR(VLOOKUP($C8,'Distribution (small) tables'!$D$36:$S$43,13,FALSE),"-") -> 1.3157895 | F8: =IFERROR(VLOOKUP($C8,'Distribution (small) tables'!$D$24:$S$30,13,FALSE),"") -> 2.5974026 | G8: =IFERROR(VLOOKUP($C8,'Distribution (small) tables'!$D$13:$S$18,13,FALSE),"-") -> 0.83333333 | H8: =IFERROR(VLOOKUP($C8,'Distribution (small) tables'!$D$3:$S$7,13,FALSE),"-") -> 4.7058824 | L8: =C8 -> D105 | M8: =IFERROR(VLOOKUP($L8,'Distribution (small) tables'!$D$49:$S$55,10,FALSE),"-") -> 0 | N8: =IFERROR(VLOOKUP($L8,'Distribution (small) tables'!$D$36:$S$43,10,FALSE),"-") -> 0 | O8: =IFERROR(VLOOKUP($L8,'Distribution (small) tables'!$D$24:$S$30,10,FALSE),"-") -> 2.5974026 | P8: =IFERROR(VLOOKUP($L8,'Distribution (small) tables'!$D$13:$S$18,10,FALSE),"-") -> 0.83333333 | Q8: =IFERROR(VLOOKUP($L8,'Distribution (small) tables'!$D$3:$S$7,10,FALSE),"-") -> 4.7058824 | U8: =L8 -> D105 | V8: =IFERROR(VLOOKUP($U8,'Distribution (small) tables'!$D$49:$S$55,14,FALSE),"-") -> 0 | W8: =IFERROR(VLOOKUP($U8,'Distribution (small) tables'!$D$36:$S$43,14,FALSE),"-") -> 0 | X8: =IFERROR(VLOOKUP($U8,'Distribution (small) tables'!$D$24:$S$30,14,FALSE),"-") -> 19.480519 | Y8: =IFERROR(VLOOKUP($U8,'Distribution (small) tables'!$D$13:$S$18,14,FALSE),"-") -> 2.5 | Z8: =IFERROR(VLOOKUP($U8,'Distribution (small) tables'!$D$3:$S$7,14,FALSE),"-") -> 21.176471
C9: D130 | D9: =IFERROR(VLOOKUP($C9,'Distribution (small) tables'!$D$49:$S$55,13,FALSE),"-") -> 0 | E9: =IFERROR(VLOOKUP($C9,'Distribution (small) tables'!$D$36:$S$43,13,FALSE),"-") -> 3.2786885 | F9: =IFERROR(VLOOKUP($C9,'Distribution (small) tables'!$D$24:$S$30,13,FALSE),"") -> 10 | G9: =IFERROR(VLOOKUP($C9,'Distribution (small) tables'!$D$13:$S$18,13,FALSE),"-") -> - | H9: =IFERROR(VLOOKUP($C9,'Distribution (small) tables'!$D$3:$S$7,13,FALSE),"-") -> 22.222222 | L9: =C9 -> D130 | M9: =IFERROR(VLOOKUP($L9,'Distribution (small) tables'!$D$49:$S$55,10,FALSE),"-") -> 0 | N9: =IFERROR(VLOOKUP($L9,'Distribution (small) tables'!$D$36:$S$43,10,FALSE),"-") -> 0 | O9: =IFERROR(VLOOKUP($L9,'Distribution (small) tables'!$D$24:$S$30,10,FALSE),"-") -> 0 | P9: =IFERROR(VLOOKUP($L9,'Distribution (small) tables'!$D$13:$S$18,10,FALSE),"-") -> - | Q9: =IFERROR(VLOOKUP($L9,'Distribution (small) tables'!$D$3:$S$7,10,FALSE),"-") -> 0 | U9: =L9 -> D130 | V9: =IFERROR(VLOOKUP($U9,'Distribution (small) tables'!$D$49:$S$55,14,FALSE),"-") -> 0 | W9: =IFERROR(VLOOKUP($U9,'Distribution (small) tables'!$D$36:$S$43,14,FALSE),"-") -> 0 | X9: =IFERROR(VLOOKUP($U9,'Distribution (small) tables'!$D$24:$S$30,14,FALSE),"-") -> 0 | Y9: =IFERROR(VLOOKUP($U9,'Distribution (small) tables'!$D$13:$S$18,14,FALSE),"-") -> - | Z9: =IFERROR(VLOOKUP($U9,'Distribution (small) tables'!$D$3:$S$7,14,FALSE),"-") -> 0
C10: D135 | D10: =IFERROR(VLOOKUP($C10,'Distribution (small) tables'!$D$49:$S$55,13,FALSE),"-") -> 0 | E10: =IFERROR(VLOOKUP($C10,'Distribution (small) tables'!$D$36:$S$43,13,FALSE),"-") -> 2.3809524 | F10: =IFERROR(VLOOKUP($C10,'Distribution (small) tables'!$D$24:$S$30,13,FALSE),"") -> 1.9230769 | G10: =IFERROR(VLOOKUP($C10,'Distribution (small) tables'!$D$13:$S$18,13,FALSE),"-") -> 5.7142857 | H10: =IFERROR(VLOOKUP($C10,'Distribution (small) tables'!$D$3:$S$7,13,FALSE),"-") -> 2.0920502 | L10: =C10 -> D135 | M10: =IFERROR(VLOOKUP($L10,'Distribution (small) tables'!$D$49:$S$55,10,FALSE),"-") -> 0 | N10: =IFERROR(VLOOKUP($L10,'Distribution (small) tables'!$D$36:$S$43,10,FALSE),"-") -> 2.3809524 | O10: =IFERROR(VLOOKUP($L10,'Distribution (small) tables'!$D$24:$S$30,10,FALSE),"-") -> 1.9230769 | P10: =IFERROR(VLOOKUP($L10,'Distribution (small) tables'!$D$13:$S$18,10,FALSE),"-") -> 5.7142857 | Q10: =IFERROR(VLOOKUP($L10,'Distribution (small) tables'!$D$3:$S$7,10,FALSE),"-") -> 2.0920502 | U10: =L10 -> D135 | V10: =IFERROR(VLOOKUP($U10,'Distribution (small) tables'!$D$49:$S$55,14,FALSE),"-") -> 0 | W10: =IFERROR(VLOOKUP($U10,'Distribution (small) tables'!$D$36:$S$43,14,FALSE),"-") -> 0 | X10: =IFERROR(VLOOKUP($U10,'Distribution (small) tables'!$D$24:$S$30,14,FALSE),"-") -> 1.9230769 | Y10: =IFERROR(VLOOKUP($U10,'Distribution (small) tables'!$D$13:$S$18,14,FALSE),"-") -> 60 | Z10: =IFERROR(VLOOKUP($U10,'Distribution (small) tables'!$D$3:$S$7,14,FALSE),"-") -> 328.45188
C11: D168 | D11: =IFERROR(VLOOKUP($C11,'Distribution (small) tables'!$D$49:$S$55,13,FALSE),"-") -> 3.3333333 | E11: =IFERROR(VLOOKUP($C11,'Distribution (small) tables'!$D$36:$S$43,13,FALSE),"-") -> 6.6666667 | F11: =IFERROR(VLOOKUP($C11,'Distribution (small) tables'!$D$24:$S$30,13,FALSE),"") -> 1.6129032 | G11: =IFERROR(VLOOKUP($C11,'Distribution (small) tables'!$D$13:$S$18,13,FALSE),"-") -> 6.0606061 | H11: =IFERROR(VLOOKUP($C11,'Distribution (small) tables'!$D$3:$S$7,13,FALSE),"-") -> 0 | L11: =C11 -> D168 | M11: =IFERROR(VLOOKUP($L11,'Distribution (small) tables'!$D$49:$S$55,10,FALSE),"-") -> 1.6666667 | N11: =IFERROR(VLOOKUP($L11,'Distribution (small) tables'!$D$36:$S$43,10,FALSE),"-") -> 2.2222222 | O11: =IFERROR(VLOOKUP($L11,'Distribution (small) tables'!$D$24:$S$30,10,FALSE),"-") -> 0 | P11: =IFERROR(VLOOKUP($L11,'Distribution (small) tables'!$D$13:$S$18,10,FALSE),"-") -> 1.5151515 | Q11: =IFERROR(VLOOKUP($L11,'Distribution (small) tables'!$D$3:$S$7,10,FALSE),"-") -> 0 | U11: =L11 -> D168 | V11: =IFERROR(VLOOKUP($U11,'Distribution (small) tables'!$D$49:$S$55,14,FALSE),"-") -> 1.6666667 | W11: =IFERROR(VLOOKUP($U11,'Distribution (small) tables'!$D$36:$S$43,14,FALSE),"-") -> 3.3333333 | X11: =IFERROR(VLOOKUP($U11,'Distribution (small) tables'!$D$24:$S$30,14,FALSE),"-") -> 0 | Y11: =IFERROR(VLOOKUP($U11,'Distribution (small) tables'!$D$13:$S$18,14,FALSE),"-") -> 74.242424 | Z11: =IFERROR(VLOOKUP($U11,'Distribution (small) tables'!$D$3:$S$7,14,FALSE),"-") -> 0
B12: Distribution < 100 FTEs | D12: ='Distribution (small) tables'!$P56 -> 4.5092838 | E12: ='Distribution (small) tables'!$P44 -> 4.1501976 | F12: ='Distribution (small) tables'!$P31 -> 2.293578 | G12: ='Distribution (small) tables'!$P19 -> 4.2635659 | H12: ='Distribution (small) tables'!$P8 -> 2.9271862 | K12: Distribution < 100 FTEs | M12: ='Distribution (small) tables'!$M56 -> 3.1830239 | N12: ='Distribution (small) tables'!$M44 -> 2.56917 | O12: ='Distribution (small) tables'!$M31 -> 1.6055046 | P12: ='Distribution (small) tables'!$M19 -> 1.1627907 | Q12: ='Distribution (small) tables'!$M8 -> 2.1953897 | T12: Distribution < 100 FTEs | V12: ='Distribution (small) tables'!$Q56 -> 40.318302 | W12: ='Distribution (small) tables'!O44 -> 0.79051383 | X12: ='Distribution (small) tables'!$Q31 -> 18.119266 | Y12: ='Distribution (small) tables'!$Q19 -> 27.131783 | Z12: ='Distribution (small) tables'!$Q8 -> 66.227589
B13: Distribution Total | D13: ='Distribution (small) tables'!$P57 -> 2.7246186 | E13: ='Distribution (small) tables'!$P45 -> 4.1265927 | F13: ='Distribution (small) tables'!$P32 -> 1.9010179 | G13: ='Distribution (small) tables'!$P20 -> 2.1019509 | H13: ='Distribution (small) tables'!$P9 -> 1.9852941 | K13: Distribution Total | M13: ='Distribution (small) tables'!$M57 -> 1.1873338 | N13: ='Distribution (small) tables'!$M45 -> 1.7427045 | O13: ='Distribution (small) tables'!$M32 -> 0.85732178 | P13: ='Distribution (small) tables'!$M20 -> 0.94398993 | Q13: ='Distribution (small) tables'!$M9 -> 0.99789916 | T13: Distribution Total | V13: ='Distribution (small) tables'!$Q57 -> 23.121763 | W13: ='Distribution (small) tables'!$Q45 -> 20.086313 | X13: ='Distribution (small) tables'!$Q32 -> 6.8709992 | Y13: ='Distribution (small) tables'!$Q20 -> 8.6217747 | Z13: ='Distribution (small) tables'!$Q9 -> 10.819328
B14: Industry Total | D14: ='Distribution (small) tables'!$P58 -> 2.2594618 | E14: ='Distribution (small) tables'!$P46 -> 3.6798943 | F14: ='Distribution (small) tables'!$P33 -> 1.6668514 | G14: ='Distribution (small) tables'!$P21 -> 1.8646728 | H14: ='Distribution (small) tables'!$P10 -> 1.6817799 | K14: Industry Total | M14: ='Distribution (small) tables'!$M58 -> 0.92021717 | N14: ='Distribution (small) tables'!$M46 -> 1.3640142 | O14: ='Distribution (small) tables'!$M33 -> 0.74174888 | P14: ='Distribution (small) tables'!$M21 -> 0.84030318 | Q14: ='Distribution (small) tables'!$M10 -> 0.82651578 | T14: Industry Total | V14: ='Distribution (small) tables'!$Q58 -> 17.34445 | W14: ='Distribution (small) tables'!$Q46 -> 16.905435 | X14: ='Distribution (small) tables'!$Q33 -> 6.775751 | Y14: ='Distribution (small) tables'!$Q21 -> 9.2033206 | Z14: ='Distribution (small) tables'!$Q10 -> 9.2929122
B16: Select your respondent code -> | G16: 1 | K16: Select your respondent code -> | P16: 1 | T16: Select your respondent code -> | Y16: 1
D17: 1 | E17: 2 | F17: 3 | G17: 4 | H17: 5 | M17: 1 | N17: 2 | O17: 3 | P17: 4 | Q17: 5 | V17: 1 | W17: 2 | X17: 3 | Y17: 4 | Z17: 5
B19: TRIFR Respondent | D19: =D4 -> 2020 | E19: =E4 -> 2021 | F19: =F4 -> 2022 | G19: =G4 -> 2023 | H19: =H4 -> 2024 | K19: LTIFR Respondent | M19: =M4 -> 2020 | N19: =N4 -> 2021 | O19: =O4 -> 2022 | P19: =P4 -> 2023 | Q19: =Q4 -> 2024 | T19: LTISR Respondent | V19: =V4 -> 2020 | W19: =W4 -> 2021 | X19: =X4 -> 2022 | Y19: =Y4 -> 2023 | Z19: =Z4 -> 2024
B20: =INDEX($C$5:$C$11,$G$16,1) -> D50 | D20: =INDEX($D$5:$H$11,$G$16,D$17) -> 10.344828 | E20: =INDEX($D$5:$H$11,$G$16,E$17) -> 8.4507042 | F20: =INDEX($D$5:$H$11,$G$16,F$17) -> 5.8823529 | G20: =INDEX($D$5:$H$11,$G$16,G$17) -> 5.8823529 | H20: =INDEX($D$5:$H$11,$G$16,H$17) -> - | K20: =INDEX($L$5:$L$11,$P$16,1) -> D50 | M20: =INDEX($M$5:$Q$11,$P$16,M$17) -> 10.344828 | N20: =INDEX($M$5:$Q$11,$P$16,N$17) -> 8.4507042 | O20: =INDEX($M$5:$Q$11,$P$16,O$17) -> 4.7058824 | P20: =INDEX($M$5:$Q$11,$P$16,P$17) -> 0 | Q20: =INDEX($M$5:$Q$11,$P$16,Q$17) -> - | T20: =INDEX($U$5:$U$11,$Y$16,1) -> D50 | V20: =INDEX($V$5:$Z$11,$Y$16,V$17) -> 117.24138 | W20: =INDEX($V$5:$Z$11,$Y$16,W$17) -> 69.366197 | X20: =INDEX($V$5:$Z$11,$Y$16,X$17) -> 74.117647 | Y20: =INDEX($V$5:$Z$11,$Y$16,Y$17) -> 0 | Z20: =INDEX($V$5:$Z$11,$Y$16,Z$17) -> -
B21: Small-size distribution | D21: =D12 -> 4.5092838 | E21: =E12 -> 4.1501976 | F21: =F12 -> 2.293578 | G21: =G12 -> 4.2635659 | H21: =H12 -> 2.9271862 | K21: Small-size distribution | M21: =M12 -> 3.1830239 | N21: =N12 -> 2.56917 | O21: =O12 -> 1.6055046 | P21: =P12 -> 1.1627907 | Q21: =Q12 -> 2.1953897 | T21: Small-size distribution | V21: =V12 -> 40.318302 | W21: =W12 -> 0.79051383 | X21: =X12 -> 18.119266 | Y21: =Y12 -> 27.131783 | Z21: =Z12 -> 66.227589
B22: Distribution Total | D22: =D13 -> 2.7246186 | E22: =E13 -> 4.1265927 | F22: =F13 -> 1.9010179 | G22: =G13 -> 2.1019509 | H22: =H13 -> 1.9852941 | K22: Distribution Total | M22: =M13 -> 1.1873338 | N22: =N13 -> 1.7427045 | O22: =O13 -> 0.85732178 | P22: =P13 -> 0.94398993 | Q22: =Q13 -> 0.99789916 | T22: Distribution Total | V22: =V13 -> 23.121763 | W22: =W13 -> 20.086313 | X22: =X13 -> 6.8709992 | Y22: =Y13 -> 8.6217747 | Z22: =Z13 -> 10.819328
B23: Industry Total | D23: =D14 -> 2.2594618 | E23: =E14 -> 3.6798943 | F23: =F14 -> 1.6668514 | G23: =G14 -> 1.8646728 | H23: =H14 -> 1.6817799 | K23: Industry Total | M23: =M14 -> 0.92021717 | N23: =N14 -> 1.3640142 | O23: =O14 -> 0.74174888 | P23: =P14 -> 0.84030318 | Q23: =Q14 -> 0.82651578 | T23: Industry Total | V23: =V14 -> 17.34445 | W23: =W14 -> 16.905435 | X23: =X14 -> 6.775751 | Y23: =Y14 -> 9.2033206 | Z23: =Z14 -> 9.2929122

Sheet Distribution (medium) tables
B2: D=100>250 YE June 2024 | D2: Code | E2: FTEs | F2: Fatalities | G2: LTIs | H2: RWIs | I2: MTIs | J2: TRIs | K2: LTI Days Lost | L2: RW Days (Est) | M2: LTIFR | N2: RWIFR | O2: MTIFR | P2: TRIFR | Q2: LTISR | R2: RWISR (Est) | S2: ATLR to LTIs
D3: D55 | E3: 170 | F3: 0 | G3: 2 | H3: 0 | I3: 0 | J3: 2 | K3: 0 | L3: 0 | M3: 1.1764706 | N3: 0 | O3: 0 | P3: 1.1764706 | Q3: 0 | R3: 0 | S3: 0
D4: D95 | E4: 275 | F4: 0 | G4: 2 | H4: 3 | I4: 0 | J4: 5 | K4: 59 | L4: 39 | M4: 0.72727273 | N4: 1.0909091 | O4: 0 | P4: 1.8181818 | Q4: 21.454545 | R4: 14.181818 | S4: 29.5
D5: D100 | E5: 132 | F5: 0 | G5: 4 | H5: 0 | I5: 0 | J5: 4 | K5: 10 | L5: 0 | M5: 3.030303 | N5: 0 | O5: 0 | P5: 3.030303 | Q5: 7.5757576 | R5: 0 | S5: 2.5
D6: D110 | E6: 150 | F6: 0 | G6: 4 | H6: 2 | I6: 2 | J6: 8 | K6: 30 | L6: 26 | M6: 2.6666667 | N6: 1.3333333 | O6: 1.3333333 | P6: 5.3333333 | Q6: 20 | R6: 17.333333 | S6: 7.5
D7: D128 | E7: 110 | F7: 0 | G7: 9 | H7: 2 | I7: 0 | J7: 11 | K7: 20 | L7: 26 | M7: 8.1818182 | N7: 1.8181818 | O7: 0 | P7: 10 | Q7: 18.181818 | R7: 23.636364 | S7: 2.2222222
D8: D145 | E8: 166 | F8: 0 | G8: 2 | H8: 1 | I8: 1 | J8: 4 | K8: 33 | L8: 13 | M8: 1.2048193 | N8: 0.60240964 | O8: 0.60240964 | P8: 2.4096386 | Q8: 19.879518 | R8: 7.8313253 | S8: 16.5
D9: D150 | E9: 512 | F9: 0 | G9: 3 | H9: 0 | I9: 3 | J9: 6 | K9: 0 | L9: 0 | M9: 0.5859375 | N9: 0 | O9: 0.5859375 | P9: 1.171875 | Q9: 0 | R9: 0 | S9: 0
D10: D155 | E10: 159.6 | F10: 0 | G10: 4 | H10: 3 | I10: 0 | J10: 7 | K10: 7 | L10: 39 | M10: 2.5062657 | N10: 1.8796992 | O10: 0 | P10: 4.3859649 | Q10: 4.3859649 | R10: 24.43609 | S10: 1.75
D11: D160 | E11: 220 | F11: 0 | G11: 3 | H11: 0 | I11: 0 | J11: 3 | K11: 11.5 | L11: 0 | M11: 1.3636364 | N11: 0 | O11: 0 | P11: 1.3636364 | Q11: 5.2272727 | R11: 0 | S11: 3.8333333
D12: Group | E12: 1894.6 | F12: 0 | G12: 33 | H12: 11 | I12: 6 | J12: 50 | K12: 170.5 | L12: 143 | M12: 1.7417925 | N12: 0.58059749 | O12: 0.31668954 | P12: 2.6390795 | Q12: 8.9992611 | R12: 7.5477673 | S12: 5.1666667
D13: Dist | E13: 9520 | F13: 1 | G13: 95 | H13: 76 | I13: 17 | J13: 189 | K13: 1030 | L13: 988 | M13: 0.99789916 | N13: 0.79831933 | O13: 0.17857143 | P13: 1.9852941 | Q13: 10.819328 | R13: 10.378151 | S13: 9.1150442
D14: Industry | E14: 13913.83 | F14: 1 | G14: 115 | H14: 82 | I14: 36 | J14: 234 | K14: 1293 | L14: 1066 | M14: 0.82651578 | N14: 0.58934168 | O14: 0.25873537 | P14: 1.6817799 | Q14: 9.2929122 | R14: 7.6614419 | S14: 9.7218045
B16: D=100>250 YE June 2023 | D16: Code | E16: FTEs | F16: Fatalities | G16: LTIs | H16: RWIs | I16: MTIs | J16: TRIs | K16: LTI Days Lost | L16: RW Days | M16: LTIFR | N16: RWIFR | O16: MTIFR | P16: TRIFR | Q16: LTISR | R16: RWISR | S16: ATLR to LTIs
D17: D55 | E17: 168 | F17: 0 | G17: 1 | H17: 0 | I17: 2 | J17: 3 | K17: 7 | L17: 0 | M17: 0.5952381 | N17: 0 | O17: 1.1904762 | P17: 1.7857143 | Q17: 4.1666667 | R17: 0 | S17: 7
D18: D85 | E18: 202 | F18: 0 | G18: 10 | H18: 1 | I18: 2 | J18: 13 | K18: 1 | L18: 76 | M18: 4.950495 | N18: 0.4950495 | O18: 0.99009901 | P18: 6.4356436 | Q18: 0.4950495 | R18: 37.623762 | S18: 0.1
D19: D95 | E19: 377 | F19: 0 | G19: 3 | H19: 7 | I19: 2 | J19: 12 | K19: 23 | L19: 0 | M19: 0.79575597 | N19: 1.8567639 | O19: 0.53050398 | P19: 3.1830239 | Q19: 6.1007958 | R19: 0 | S19: 7.6666667
D20: D100 | E20: 127 | F20: 0 | G20: 3 | H20: 0 | I20: 3 | J20: 6 | K20: 67 | L20: 0 | M20: 2.3622047 | N20: 0 | O20: 2.3622047 | P20: 4.7244094 | Q20: 52.755906 | R20: 0 | S20: 22.333333
D21: D110 | E21: 160 | F21: 0 | G21: 2 | H21: 4 | I21: 0 | J21: 6 | K21: 6 | L21: 60 | M21: 1.25 | N21: 2.5 | O21: 0 | P21: 3.75 | Q21: 3.75 | R21: 37.5 | S21: 3
D22: D128 | E22: 130 | F22: 0 | G22: 3 | H22: 0 | I22: 1 | J22: 4 | K22: 3 | L22: 0 | M22: 2.3076923 | N22: 0 | O22: 0.76923077 | P22: 3.0769231 | Q22: 2.3076923 | R22: 0 | S22: 1
D23: D145 | E23: 159 | F23: 0 | G23: 1 | H23: 2 | I23: 1 | J23: 4 | K23: 37 | L23: 24 | M23: 0.62893082 | N23: 1.2578616 | O23: 0.62893082 | P23: 2.5157233 | Q23: 23.27044 | R23: 15.09434 | S23: 37
D24: D150 | E24: 397 | F24: 0 | G24: 4 | H24: 0 | I24: 1 | J24: 5 | K24: 42 | L24: 5 | M24: 1.0075567 | N24: 0 | O24: 0.25188917 | P24: 1.2594458 | Q24: 10.579345 | R24: 1.2594458 | S24: 10.5
D25: D155 | E25: 154 | F25: 0 | G25: 1 | H25: 0 | I25: 2 | J25: 3 | K25: 2 | L25: 0 | M25: 0.64935065 | N25: 0 | O25: 1.2987013 | P25: 1.9480519 | Q25: 1.2987013 | R25: 0 | S25: 2
D26: D160 | E26: 270 | F26: 0 | G26: 0 | H26: 1 | I26: 1 | J26: 2 | K26: 0 | L26: 10 | M26: 0 | N26: 0.37037037 | O26: 0.37037037 | P26: 0.74074074 | Q26: 0 | R26: 3.7037037 | S26: 0
D27: Group | E27: 1324 | F27: 0 | G27: 23 | H27: 9 | I27: 11 | J27: 43 | K27: 133 | L27: 167 | M27: 1.7371601 | N27: 0.67975831 | O27: 0.83081571 | P27: 3.2477341 | Q27: 10.045317 | R27: 12.613293 | S27: 5.7826087
D28: Dist | E28: 7945 | F28: 0 | G28: 75 | H28: 38 | I28: 54 | J28: 167 | K28: 685 | L28: 521 | M28: 0.94398993 | N28: 0.47828823 | O28: 0.67967275 | P28: 2.1019509 | Q28: 8.6217747 | R28: 6.5575834 | S28: 9.1333333
D29: Industry | E29: 12495.49 | F29: 0 | G29: 105 | H29: 53 | I29: 75 | J29: 233 | K29: 1150 | L29: 656 | M29: 0.84030318 | N29: 0.42415303 | O29: 0.60021656 | P29: 1.8646728 | Q29: 9.2033206 | R29: 5.2498942 | S29: 10.952381
B31: D=100>250 YE June 2022 | D31: Code | E31: FTEs | F31: Fatalities | G31: LTIs | H31: RWIs | I31: MTIs | J31: TRIs | K31: LTI Days Lost | L31: RW Days | M31: LTIFR | N31: RWIFR | O31: MTIFR | P31: TRIFR | Q31: LTISR | R31: RWISR | S31: ATLR to LTIs
D32: D55 | E32: 159 | F32: 0 | G32: 1 | H32: 1 | I32: 0 | J32: 2 | K32: 19 | L32: 19 | M32: 0.62893082 | N32: 0.62893082 | O32: 0 | P32: 1.2578616 | Q32: 11.949686 | R32: 11.949686 | S32: 19
D33: D85 | E33: 165 | F33: 0 | G33: 4 | H33: 0 | I33: 1 | J33: 5 | K33: 22 | L33: 0 | M33: 2.4242424 | N33: 0 | O33: 0.60606061 | P33: 3.030303 | Q33: 13.333333 | R33: 0 | S33: 5.5
D34: D95 | E34: 235 | F34: 0 | G34: 2 | H34: 2 | I34: 1 | J34: 5 | K34: 0 | L34: 0 | M34: 0.85106383 | N34: 0.85106383 | O34: 0.42553191 | P34: 2.1276596 | Q34: 0 | R34: 0 | S34: 0
D35: D100 | E35: 137 | F35: 0 | G35: 3 | H35: 1 | I35: 0 | J35: 4 | K35: 16 | L35: 11 | M35: 2.189781 | N35: 0.72992701 | O35: 0 | P35: 2.919708 | Q35: 11.678832 | R35: 8.0291971 | S35: 5.3333333
D36: D110 | E36: 110 | F36: 0 | G36: 1 | H36: 1 | I36: 1 | J36: 3 | K36: 5 | L36: 8 | M36: 0.90909091 | N36: 0.90909091 | O36: 0.90909091 | P36: 2.7272727 | Q36: 4.5454545 | R36: 7.2727273 | S36: 5
D37: D128 | E37: 129 | F37: 0 | G37: 2 | H37: 2 | I37: 2 | J37: 6 | K37: 5 | L37: 5 | M37: 1.5503876 | N37: 1.5503876 | O37: 1.5503876 | P37: 4.6511628 | Q37: 3.875969 | R37: 3.875969 | S37: 2.5
D38: D145 | E38: 157 | F38: 0 | G38: 1 | H38: 0 | I38: 0 | J38: 1 | K38: 0 | L38: 0 | M38: 0.63694268 | N38: 0 | O38: 0 | P38: 0.63694268 | Q38: 0 | R38: 0 | S38: 0
D39: D150 | E39: 225 | F39: 0 | G39: 3 | H39: 0 | I39: 0 | J39: 3 | K39: 31 | L39: 31 | M39: 1.3333333 | N39: 0 | O39: 0 | P39: 1.3333333 | Q39: 13.777778 | R39: 13.777778 | S39: 10.333333
D40: D155 | E40: 153 | F40: 0 | G40: 0 | H40: 0 | I40: 0 | J40: 0 | K40: 0 | L40: 0 | M40: 0 | N40: 0 | O40: 0 | P40: 0 | Q40: 0 | R40: 0 | S40: 0
D41: D160 | E41: 210 | F41: 0 | G41: 4 | H41: 0 | I41: 1 | J41: 5 | K41: 36 | L41: 0 | M41: 1.9047619 | N41: 0 | O41: 0.47619048 | P41: 2.3809524 | Q41: 17.142857 | R41: 0 | S41: 9
D42: Group | E42: 1680 | F42: 0 | G42: 21 | H42: 7 | I42: 6 | J42: 34 | K42: 134 | L42: 74 | M42: 1.25 | N42: 0.41666667 | O42: 0.35714286 | P42: 2.0238095 | Q42: 7.9761905 | R42: 4.4047619 | S42: 6.3809524
D43: Dist | E43: 8048.32 | F43: 0 | G43: 69 | H43: 38 | I43: 46 | J43: 153 | K43: 553 | L43: 539.5 | M43: 0.85732178 | N43: 0.47214822 | O43: 0.57154785 | P43: 1.9010179 | Q43: 6.8709992 | R43: 6.7032623 | S43: 8.0144928
D44: Industry | E44: 11998.67 | F44: 0 | G44: 89 | H44: 50 | I44: 61 | J44: 200 | K44: 813 | L44: 700.5 | M44: 0.74174888 | N44: 0.41671285 | O44: 0.50838968 | P44: 1.6668514 | Q44: 6.775751 | R44: 5.8381471 | S44: 9.1348315
B46: D=100>250 YE June 2021 | D46: Code | E46: FTEs | F46: Fatalities | G46: LTIs | H46: RWIs | I46: MTIs | J46: TRIs | K46: LTI Days Lost | L46: RW Days | M46: LTIFR | N46: RWIFR | O46: MTIFR | P46: TRIFR | Q46: LTISR | R46: RWISR | S46: ATLR to LTIs
D47: D55 | E47: 144 | F47: 0 | G47: 6 | H47: 1 | I47: 1 | J47: 8 | K47: 30 | L47: 10 | M47: 4.1666667 | N47: 0.69444444 | O47: 0.69444444 | P47: 5.5555556 | Q47: 20.833333 | R47: 6.9444444 | S47: 5
D48: D80 | E48: 199 | F48: 0 | G48: 0 | H48: 0 | I48: 0 | J48: 0 | K48: 0 | L48: 0 | M48: 0 | N48: 0 | O48: 0 | P48: 0 | Q48: 0 | R48: 0 | S48: 0
D49: D85 | E49: 172 | F49: 0 | G49: 4 | H49: 0 | I49: 2 | J49: 6 | K49: 42 | L49: 0 | M49: 2.3255814 | N49: 0 | O49: 1.1627907 | P49: 3.4883721 | Q49: 24.418605 | R49: 0 | S49: 10.5
D50: D95 | E50: 230 | F50: 0 | G50: 2 | H50: 1 | I50: 8 | J50: 11 | K50: 4 | L50: 13 | M50: 0.86956522 | N50: 0.43478261 | O50: 3.4782609 | P50: 4.7826087 | Q50: 1.7391304 | R50: 5.6521739 | S50: 2
D51: D100 | E51: 127 | F51: 0 | G51: 7 | H51: 0 | I51: 1 | J51: 8 | K51: 24 | L51: 0 | M51: 5.511811 | N51: 0 | O51: 0.78740157 | P51: 6.2992126 | Q51: 18.897638 | R51: 0 | S51: 3.4285714
D52: D115 | E52: 166 | F52: 0 | G52: 5 | H52: 0 | I52: 3 | J52: 8 | K52: 20 | L52: 0 | M52: 3.0120482 | N52: 0 | O52: 1.8072289 | P52: 4.8192771 | Q52: 12.048193 | R52: 0 | S52: 4
D53: D128 | E53: 100 | F53: 0 | G53: 0 | H53: 0 | I53: 0 | J53: 0 | K53: 0 | L53: 0 | M53: 0 | N53: 0 | O53: 0 | P53: 0 | Q53: 0 | R53: 0 | S53: 0
D54: D140 | E54: 226.5 | F54: 0 | G54: 13 | H54: 0 | I54: 9 | J54: 22 | K54: 65 | L54: 0 | M54: 5.7395143 | N54: 0 | O54: 3.9735099 | P54: 9.7130243 | Q54: 28.697572 | R54: 0 | S54: 5
D55: D145 | E55: 138 | F55: 0 | G55: 0 | H55: 0 | I55: 2 | J55: 2 | K55: 0 | L55: 0 | M55: 0 | N55: 0 | O55: 1.4492754 | P55: 1.4492754 | Q55: 0 | R55: 0 | S55: 0
D56: D150 | E56: 201 | F56: 0 | G56: 1 | H56: 0 | I56: 0 | J56: 1 | K56: 1 | L56: 0 | M56: 0.49751244 | N56: 0 | O56: 0 | P56: 0.49751244 | Q56: 0.49751244 | R56: 0 | S56: 1
D57: D155 | E57: 153 | F57: 0 | G57: 0 | H57: 3 | I57: 5 | J57: 8 | K57: 0 | L57: 3 | M57: 0 | N57: 1.9607843 | O57: 3.2679739 | P57: 5.2287582 | Q57: 0 | R57: 1.9607843 | S57: 0
D58: D160 | E58: 200 | F58: 0 | G58: 2 | H58: 4 | I58: 5 | J58: 11 | K58: 8 | L58: 0 | M58: 1 | N58: 2 | O58: 2.5 | P58: 5.5 | Q58: 4 | R58: 0 | S58: 4
... D61: Industry | E61: 10190.51 | F61: 1 | G61: 139 | H61: 80 | I61: 155 | J61: 375 | K61: 1722.75 | L61: 1213 | M61: 1.3640142 | N61: 0.78504412 | O61: 1.521023 | P61: 3.6798943 | Q61: 16.905435 | R61: 11.903232 | S61: 12.393885
B63: D=100>250 YE June 2020 | D63: Code | E63: FTEs | F63: Fatalities | G63: LTIs | H63: RWIs | I63: MTIs | J63: TRIs | K63: LTI Days Lost | L63: RW Days | M63: LTIFR | N63: RWIFR | O63: MTIFR | P63: TRIFR | Q63: LTISR | R63: RWISR | S63: ATLR to LTIs
D64: D55 | E64: 136 | F64: 0 | G64: 2 | H64: 0 | I64: 0 | J64: 2 | K64: 68 | L64: 34 | M64: 1.4705882 | N64: 0 | O64: 0 | P64: 1.4705882 | Q64: 50 | R64: 25 | S64: 34
D65: D80 | E65: 147 | F65: 0 | G65: 0 | H65: 0 | I65: 2 | J65: 2 | K65: 0 | L65: 0 | M65: 0 | N65: 0 | O65: 1.3605442 | P65: 1.3605442 | Q65: 0 | R65: 0 | S65: 0
D66: D85 | E66: 198 | F66: 0 | G66: 3 | H66: 0 | I66: 2 | J66: 5 | K66: 83 | L66: 0 | M66: 1.5151515 | N66: 0 | O66: 1.010101 | P66: 2.5252525 | Q66: 41.919192 | R66: 0 | S66: 27.666667
D67: D95 | E67: 228 | F67: 0 | G67: 1 | H67: 2 | I67: 1 | J67: 4 | K67: 13 | L67: 8 | M67: 0.43859649 | N67: 0.87719298 | O67: 0.43859649 | P67: 1.754386 | Q67: 5.7017544 | R67: 3.5087719 | S67: 13
D68: D100 | E68: 125 | F68: 0 | G68: 4 | H68: 0 | I68: 0 | J68: 4 | K68: 98 | L68: 0 | M68: 3.2 | N68: 0 | O68: 0 | P68: 3.2 | Q68: 78.4 | R68: 0 | S68: 24.5
D69: D110 | E69: 138 | F69: 0 | G69: 3 | H69: 2 | I69: 3 | J69: 8 | K69: 80 | L69: 84 | M69: 2.173913 | N69: 1.4492754 | O69: 2.173913 | P69: 5.7971014 | Q69: 57.971014 | R69: 60.869565 | S69: 26.666667
D70: D115 | E70: 165 | F70: 0 | G70: 3 | H70: 0 | I70: 0 | J70: 3 | K70: 38 | L70: 0 | M70: 1.8181818 | N70: 0 | O70: 0 | P70: 1.8181818 | Q70: 23.030303 | R70: 0 | S70: 12.666667
D71: D128 | E71: 148 | F71: 0 | G71: 1 | H71: 0 | I71: 0 | J71: 1 | K71: 2 | L71: 0 | M71: 0.67567568 | N71: 0 | O71: 0 | P71: 0.67567568 | Q71: 1.3513514 | R71: 0 | S71: 2
D72: D145 | E72: 180 | F72: 0 | G72: 0 | H72: 0 | I72: 8 | J72: 8 | K72: 0 | L72: 0 | M72: 0 | N72: 0 | O72: 4.4444444 | P72: 4.4444444 | Q72: 0 | R72: 0 | S72: 0
D73: D150 | E73: 175 | F73: 0 | G73: 0 | H73: 0 | I73: 0 | J73: 0 | K73: 0 | L73: 0 | M73: 0 | N73: 0 | O73: 0 | P73: 0 | Q73: 0 | R73: 0 | S73: 0
D74: D155 | E74: 152 | F74: 0 | G74: 0 | H74: 2 | I74: 2 | J74: 4 | K74: 0 | L74: 5 | M74: 0 | N74: 1.3157895 | O74: 1.3157895 | P74: 2.6315789 | Q74: 0 | R74: 3.2894737 | S74: 0
D75: Group | E75: 1792 | F75: 0 | G75: 17 | H75: 6 | I75: 18 | J75: 41 | K75: 382 | L75: 131 | M75: 0.94866071 | N75: 0.33482143 | O75: 1.0044643 | P75: 2.2879464 | Q75: 21.316964 | R75: 7.3102679 | S75: 22.470588
... D77: Industry | E77: 12171.04 | F77: 0 | G77: 112 | H77: 64 | I77: 99 | J77: 275 | K77: 2111 | L77: 779 | M77: 0.92021717 | N77: 0.52583838 | O77: 0.81340625 | P77: 2.2594618 | Q77: 17.34445 | R77: 6.4004391 | S77: 18.848214

Sheet Distribution (medium) graphs
B2: Total Recordable Injury Frequency Rate | K2: Lost Time Injury Frequency Rate | T2: Lost Time Injury Severity Rate
B3: TRIFR - 5-year results - Medium-size distribution peer group | D3: Year Ended | K3: LTIFR - 5-year results - Medium-size distribution peer group | M3: =D3 -> Year Ended | T3: LTISR - 5-year results - Medium-size distribution peer group | V3: =D3 -> Year Ended
D4: 2020 | E4: 2021 | F4: 2022 | G4: 2023 | H4: 2024 | M4: 2020 | N4: 2021 | O4: 2022 | P4: 2023 | Q4: 2024 | V4: 2020 | W4: 2021 | X4: 2022 | Y4: 2023 | Z4: 2024
B5: Respondent code | C5: D55 | D5: =IFERROR(VLOOKUP($C5,'Distribution (medium) tables'!$D$64:$S$74,13,FALSE),"-") -> 1.4705882 | E5: =IFERROR(VLOOKUP($C5,'Distribution (medium) tables'!$D$47:$S$58,13,FALSE),"-") -> 5.5555556 | F5: =IFERROR(VLOOKUP($C5,'Distribution (medium) tables'!$D$32:$S$41,13,FALSE),"-") -> 1.2578616 | G5: =IFERROR(VLOOKUP($C5,'Distribution (medium) tables'!$D$17:$S$26,13,FALSE),"-") -> 1.7857143 | H5: =IFERROR(VLOOKUP($C5,'Distribution (medium) tables'!$D$3:$S$11,13,FALSE),"-") -> 1.1764706 | K5: Respondent code | L5: =C5 -> D55 | M5: =IFERROR(VLOOKUP($L5,'Distribution (medium) tables'!$D$64:$S$74,10,FALSE),"-") -> 1.4705882 | N5: =IFERROR(VLOOKUP($L5,'Distribution (medium) tables'!$D$47:$S$58,10,FALSE),"-") -> 4.1666667 | O5: =IFERROR(VLOOKUP($L5,'Distribution (medium) tables'!$D$32:$S$41,10,FALSE),"-") -> 0.62893082 | P5: =IFERROR(VLOOKUP($L5,'Distribution (medium) tables'!$D$17:$S$26,10,FALSE),"-") -> 0.5952381 | Q5: =IFERROR(VLOOKUP($L5,'Distribution (medium) tables'!$D$3:$S$11,10,FALSE),"-") -> 1.1764706 | T5: Respondent code | U5: =L5 -> D55 | V5: =IFERROR(VLOOKUP($U5,'Distribution (medium) tables'!$D$64:$S$74,14,FALSE),"-") -> 50 | W5: =IFERROR(VLOOKUP($U5,'Distribution (medium) tables'!$D$47:$S$58,14,FALSE),"-") -> 20.833333 | X5: =IFERROR(VLOOKUP($U5,'Distribution (medium) tables'!$D$32:$S$41,14,FALSE),"-") -> 11.949686 | Y5: =IFERROR(VLOOKUP($U5,'Distribution (medium) tables'!$D$17:$S$26,14,FALSE),"-") -> 4.1666667 | Z5: =IFERROR(VLOOKUP($U5,'Distribution (medium) tables'!$D$3:$S$11,14,FALSE),"-") -> 0
C6: D85 | D6: =IFERROR(VLOOKUP($C6,'Distribution (medium) tables'!$D$64:$S$74,13,FALSE),"-") -> 2.5252525 | E6: =IFERROR(VLOOKUP($C6,'Distribution (medium) tables'!$D$47:$S$58,13,FALSE),"-") -> 3.4883721 | F6: =IFERROR(VLOOKUP($C6,'Distribution (medium) tables'!$D$32:$S$41,13,FALSE),"-") -> 3.030303 | G6: =IFERROR(VLOOKUP($C6,'Distribution (medium) tables'!$D$17:$S$26,13,FALSE),"-") -> 6.4356436 | H6: =IFERROR(VLOOKUP($C6,'Distribution (medium) tables'!$D$3:$S$11,13,FALSE),"-") -> - | L6: =C6 -> D85 | M6: =IFERROR(VLOOKUP($L6,'Distribution (medium) tables'!$D$64:$S$74,10,FALSE),"-") -> 1.5151515 | N6: =IFERROR(VLOOKUP($L6,'Distribution (medium) tables'!$D$47:$S$58,10,FALSE),"-") -> 2.3255814 | O6: =IFERROR(VLOOKUP($L6,'Distribution (medium) tables'!$D$32:$S$41,10,FALSE),"-") -> 2.4242424 | P6: =IFERROR(VLOOKUP($L6,'Distribution (medium) tables'!$D$17:$S$26,10,FALSE),"-") -> 4.950495 | Q6: =IFERROR(VLOOKUP($L6,'Distribution (medium) tables'!$D$3:$S$11,10,FALSE),"-") -> - | U6: =L6 -> D85 | V6: =IFERROR(VLOOKUP($U6,'Distribution (medium) tables'!$D$64:$S$74,14,FALSE),"-") -> 41.919192 | W6: =IFERROR(VLOOKUP($U6,'Distribution (medium) tables'!$D$47:$S$58,14,FALSE),"-") -> 24.418605 | X6: =IFERROR(VLOOKUP($U6,'Distribution (medium) tables'!$D$32:$S$41,14,FALSE),"-") -> 13.333333 | Y6: =IFERROR(VLOOKUP($U6,'Distribution (medium) tables'!$D$17:$S$26,14,FALSE),"-") -> 0.4950495 | Z6: =IFERROR(VLOOKUP($U6,'Distribution (medium) tables'!$D$3:$S$11,14,FALSE),"-") -> -
C7: D95 | D7: =IFERROR(VLOOKUP($C7,'Distribution (medium) tables'!$D$64:$S$74,13,FALSE),"-") -> 1.754386 | E7: =IFERROR(VLOOKUP($C7,'Distribution (medium) tables'!$D$47:$S$58,13,FALSE),"-") -> 4.7826087 | F7: =IFERROR(VLOOKUP($C7,'Distribution (medium) tables'!$D$32:$S$41,13,FALSE),"-") -> 2.1276596 | G7: =IFERROR(VLOOKUP($C7,'Distribution (medium) tables'!$D$17:$S$26,13,FALSE),"-") -> 3.1830239 | H7: =IFERROR(VLOOKUP($C7,'Distribution (medium) tables'!$D$3:$S$11,13,FALSE),"-") -> 1.8181818 | L7: =C7 -> D95 | M7: =IFERROR(VLOOKUP($L7,'Distribution (medium) tables'!$D$64:$S$74,10,FALSE),"-") -> 0.43859649 | N7: =IFERROR(VLOOKUP($L7,'Distribution (medium) tables'!$D$47:$S$58,10,FALSE),"-") -> 0.86956522 | O7: =IFERROR(VLOOKUP($L7,'Distribution (medium) tables'!$D$32:$S$41,10,FALSE),"-") -> 0.85106383 | P7: =IFERROR(VLOOKUP($L7,'Distribution (medium) tables'!$D$17:$S$26,10,FALSE),"-") -> 0.79575597 | Q7: =IFERROR(VLOOKUP($L7,'Distribution (medium) tables'!$D$3:$S$11,10,FALSE),"-") -> 0.72727273 | U7: =L7 -> D95 | V7: =IFERROR(VLOOKUP($U7,'Distribution (medium) tables'!$D$64:$S$74,14,FALSE),"-") -> 5.7017544 | W7: =IFERROR(VLOOKUP($U7,'Distribution (medium) tables'!$D$47:$S$58,14,FALSE),"-") -> 1.7391304 | X7: =IFERROR(VLOOKUP($U7,'Distribution (medium) tables'!$D$32:$S$41,14,FALSE),"-") -> 0 | Y7: =IFERROR(VLOOKUP($U7,'Distribution (medium) tables'!$D$17:$S$26,14,FALSE),"-") -> 6.1007958 | Z7: =IFERROR(VLOOKUP($U7,'Distribution (medium) tables'!$D$3:$S$11,14,FALSE),"-") -> 21.454545
C8: D100 | D8: =IFERROR(VLOOKUP($C8,'Distribution (medium) tables'!$D$64:$S$74,13,FALSE),"-") -> 3.2 | E8: =IFERROR(VLOOKUP($C8,'Distribution (medium) tables'!$D$47:$S$58,13,FALSE),"-") -> 6.2992126 | F8: =IFERROR(VLOOKUP($C8,'Distribution (medium) tables'!$D$32:$S$41,13,FALSE),"-") -> 2.919708 | G8: =IFERROR(VLOOKUP($C8,'Distribution (medium) tables'!$D$17:$S$26,13,FALSE),"-") -> 4.7244094 | H8: =IFERROR(VLOOKUP($C8,'Distribution (medium) tables'!$D$3:$S$11,13,FALSE),"-") -> 3.030303 | L8: =C8 -> D100 | M8: =IFERROR(VLOOKUP($L8,'Distribution (medium) tables'!$D$64:$S$74,10,FALSE),"-") -> 3.2 | N8: =IFERROR(VLOOKUP($L8,'Distribution (medium) tables'!$D$47:$S$58,10,FALSE),"-") -> 5.511811 | O8: =IFERROR(VLOOKUP($L8,'Distribution (medium) tables'!$D$32:$S$41,10,FALSE),"-") -> 2.189781 | P8: =IFERROR(VLOOKUP($L8,'Distribution (medium) tables'!$D$17:$S$26,10,FALSE),"-") -> 2.3622047 | Q8: =IFERROR(VLOOKUP($L8,'Distribution (medium) tables'!$D$3:$S$11,10,FALSE),"-") -> 3.030303 | U8: =L8 -> D100 | V8: =IFERROR(VLOOKUP($U8,'Distribution (medium) tables'!$D$64:$S$74,14,FALSE),"-") -> 78.4 | W8: =IFERROR(VLOOKUP($U8,'Distribution (medium) tables'!$D$47:$S$58,14,FALSE),"-") -> 18.897638 | X8: =IFERROR(VLOOKUP($U8,'Distribution (medium) tables'!$D$32:$S$41,14,FALSE),"-") -> 11.678832 | Y8: =IFERROR(VLOOKUP($U8,'Distribution (medium) tables'!$D$17:$S$26,14,FALSE),"-") -> 52.755906 | Z8: =IFERROR(VLOOKUP($U8,'Distribution (medium) tables'!$D$3:$S$11,14,FALSE),"-") -> 7.5757576
C9: D110 | D9: =IFERROR(VLOOKUP($C9,'Distribution (medium) tables'!$D$64:$S$74,13,FALSE),"-") -> 5.7971014 | E9: =IFERROR(VLOOKUP($C9,'Distribution (medium) tables'!$D$47:$S$58,13,FALSE),"-") -> - | F9: =IFERROR(VLOOKUP($C9,'Distribution (medium) tables'!$D$32:$S$41,13,FALSE),"-") -> 2.7272727 | G9: =IFERROR(VLOOKUP($C9,'Distribution (medium) tables'!$D$17:$S$26,13,FALSE),"-") -> 3.75 | H9: =IFERROR(VLOOKUP($C9,'Distribution (medium) tables'!$D$3:$S$11,13,FALSE),"-") -> 5.3333333 | L9: =C9 -> D110 | M9: =IFERROR(VLOOKUP($L9,'Distribution (medium) tables'!$D$64:$S$74,10,FALSE),"-") -> 2.173913 | N9: =IFERROR(VLOOKUP($L9,'Distribution (medium) tables'!$D$47:$S$58,10,FALSE),"-") -> - | O9: =IFERROR(VLOOKUP($L9,'Distribution (medium) tables'!$D$32:$S$41,10,FALSE),"-") -> 0.90909091 | P9: =IFERROR(VLOOKUP($L9,'Distribution (medium) tables'!$D$17:$S$26,10,FALSE),"-") -> 1.25 | Q9: =IFERROR(VLOOKUP($L9,'Distribution (medium) tables'!$D$3:$S$11,10,FALSE),"-") -> 2.6666667 | U9: =L9 -> D110 | V9: =IFERROR(VLOOKUP($U9,'Distribution (medium) tables'!$D$64:$S$74,14,FALSE),"-") -> 57.971014 | W9: =IFERROR(VLOOKUP($U9,'Distribution (medium) tables'!$D$47:$S$58,14,FALSE),"-") -> - | X9: =IFERROR(VLOOKUP($U9,'Distribution (medium) tables'!$D$32:$S$41,14,FALSE),"-") -> 4.5454545 | Y9: =IFERROR(VLOOKUP($U9,'Distribution (medium) tables'!$D$17:$S$26,14,FALSE),"-") -> 3.75 | Z9: =IFERROR(VLOOKUP($U9,'Distribution (medium) tables'!$D$3:$S$11,14,FALSE),"-") -> 20
C10: D128 | D10: =IFERROR(VLOOKUP($C10,'Distribution (medium) tables'!$D$64:$S$74,13,FALSE),"-") -> 0.67567568 | E10: =IFERROR(VLOOKUP($C10,'Distribution (medium) tables'!$D$47:$S$58,13,FALSE),"-") -> 0 | F10: =IFERROR(VLOOKUP($C10,'Distribution (medium) tables'!$D$32:$S$41,13,FALSE),"-") -> 4.6511628 | G10: =IFERROR(VLOOKUP($C10,'Distribution (medium) tables'!$D$17:$S$26,13,FALSE),"-") -> 3.0769231 | H10: =IFERROR(VLOOKUP($C10,'Distribution (medium) tables'!$D$3:$S$11,13,FALSE),"-") -> 10 | L10: =C10 -> D128 | M10: =IFERROR(VLOOKUP($L10,'Distribution (medium) tables'!$D$64:$S$74,10,FALSE),"-") -> 0.67567568 | N10: =IFERROR(VLOOKUP($L10,'Distribution (medium) tables'!$D$47:$S$58,10,FALSE),"-") -> 0 | O10: =IFERROR(VLOOKUP($L10,'Distribution (medium) tables'!$D$32:$S$41,10,FALSE),"-") -> 1.5503876 | P10: =IFERROR(VLOOKUP($L10,'Distribution (medium) tables'!$D$17:$S$26,10,FALSE),"-") -> 2.3076923 | Q10: =IFERROR(VLOOKUP($L10,'Distribution (medium) tables'!$D$3:$S$11,10,FALSE),"-") -> 8.1818182 | U10: =L10 -> D128 | V10: =IFERROR(VLOOKUP($U10,'Distribution (medium) tables'!$D$64:$S$74,14,FALSE),"-") -> 1.3513514 | W10: =IFERROR(VLOOKUP($U10,'Distribution (medium) tables'!$D$47:$S$58,14,FALSE),"-") -> 0 | X10: =IFERROR(VLOOKUP($U10,'Distribution (medium) tables'!$D$32:$S$41,14,FALSE),"-") -> 3.875969 | Y10: =IFERROR(VLOOKUP($U10,'Distribution (medium) tables'!$D$17:$S$26,14,FALSE),"-") -> 2.3076923 | Z10: =IFERROR(VLOOKUP($U10,'Distribution (medium) tables'!$D$3:$S$11,14,FALSE),"-") -> 18.181818
C11: D145 | D11: =IFERROR(VLOOKUP($C11,'Distribution (medium) tables'!$D$64:$S$74,13,FALSE),"-") -> 4.4444444 | E11: =IFERROR(VLOOKUP($C11,'Distribution (medium) tables'!$D$47:$S$58,13,FALSE),"-") -> 1.4492754 | F11: =IFERROR(VLOOKUP($C11,'Distribution (medium) tables'!$D$32:$S$41,13,FALSE),"-") -> 0.63694268 | G11: =IFERROR(VLOOKUP($C11,'Distribution (medium) tables'!$D$17:$S$26,13,FALSE),"-") -> 2.5157233 | H11: =IFERROR(VLOOKUP($C11,'Distribution (medium) tables'!$D$3:$S$11,13,FALSE),"-") -> 2.4096386 | L11: =C11 -> D145 | M11: =IFERROR(VLOOKUP($L11,'Distribution (medium) tables'!$D$64:$S$74,10,FALSE),"-") -> 0 | N11: =IFERROR(VLOOKUP($L11,'Distribution (medium) tables'!$D$47:$S$58,10,FALSE),"-") -> 0 | O11: =IFERROR(VLOOKUP($L11,'Distribution (medium) tables'!$D$32:$S$41,10,FALSE),"-") -> 0.63694268 | P11: =IFERROR(VLOOKUP($L11,'Distribution (medium) tables'!$D$17:$S$26,10,FALSE),"-") -> 0.62893082 | Q11: =IFERROR(VLOOKUP($L11,'Distribution (medium) tables'!$D$3:$S$11,10,FALSE),"-") -> 1.2048193 | U11: =L11 -> D145 | V11: =IFERROR(VLOOKUP($U11,'Distribution (medium) tables'!$D$64:$S$74,14,FALSE),"-") -> 0 | W11: =IFERROR(VLOOKUP($U11,'Distribution (medium) tables'!$D$47:$S$58,14,FALSE),"-") -> 0 | X11: =IFERROR(VLOOKUP($U11,'Distribution (medium) tables'!$D$32:$S$41,14,FALSE),"-") -> 0 | Y11: =IFERROR(VLOOKUP($U11,'Distribution (medium) tables'!$D$17:$S$26,14,FALSE),"-") -> 23.27044 | Z11: =IFERROR(VLOOKUP($U11,'Distribution (medium) tables'!$D$3:$S$11,14,FALSE),"-") -> 19.879518
C12: D150 | D12: =IFERROR(VLOOKUP($C12,'Distribution (medium) tables'!$D$64:$S$74,13,FALSE),"-") -> 0 | E12: =IFERROR(VLOOKUP($C12,'Distribution (medium) tables'!$D$47:$S$58,13,FALSE),"-") -> 0.49751244 | F12: =IFERROR(VLOOKUP($C12,'Distribution (medium) tables'!$D$32:$S$41,13,FALSE),"-") -> 1.3333333 | G12: =IFERROR(VLOOKUP($C12,'Distribution (medium) tables'!$D$17:$S$26,13,FALSE),"-") -> 1.2594458 | H12: =IFERROR(VLOOKUP($C12,'Distribution (medium) tables'!$D$3:$S$11,13,FALSE),"-") -> 1.171875 | L12: =C12 -> D150 | M12: =IFERROR(VLOOKUP($L12,'Distribution (medium) tables'!$D$64:$S$74,10,FALSE),"-") -> 0 | N12: =IFERROR(VLOOKUP($L12,'Distribution (medium) tables'!$D$47:$S$58,10,FALSE),"-") -> 0.49751244 | O12: =IFERROR(VLOOKUP($L12,'Distribution (medium) tables'!$D$32:$S$41,10,FALSE),"-") -> 1.3333333 | P12: =IFERROR(VLOOKUP($L12,'Distribution (medium) tables'!$D$17:$S$26,10,FALSE),"-") -> 1.0075567 | Q12: =IFERROR(VLOOKUP($L12,'Distribution (medium) tables'!$D$3:$S$11,10,FALSE),"-") -> 0.5859375 | U12: =L12 -> D150 | V12: =IFERROR(VLOOKUP($U12,'Distribution (medium) tables'!$D$64:$S$74,14,FALSE),"-") -> 0 | W12: =IFERROR(VLOOKUP($U12,'Distribution (medium) tables'!$D$47:$S$58,14,FALSE),"-") -> 0.49751244 | X12: =IFERROR(VLOOKUP($U12,'Distribution (medium) tables'!$D$32:$S$41,14,FALSE),"-") -> 13.777778 | Y12: =IFERROR(VLOOKUP($U12,'Distribution (medium) tables'!$D$17:$S$26,14,FALSE),"-") -> 10.579345 | Z12: =IFERROR(VLOOKUP($U12,'Distribution (medium) tables'!$D$3:$S$11,14,FALSE),"-") -> 0
C13: D155 | D13: =IFERROR(VLOOKUP($C13,'Distribution (medium) tables'!$D$64:$S$74,13,FALSE),"-") -> 2.6315789 | E13: =IFERROR(VLOOKUP($C13,'Distribution (medium) tables'!$D$47:$S$58,13,FALSE),"-") -> 5.2287582 | F13: =IFERROR(VLOOKUP($C13,'Distribution (medium) tables'!$D$32:$S$41,13,FALSE),"-") -> 0 | G13: =IFERROR(VLOOKUP($C13,'Distribution (medium) tables'!$D$17:$S$26,13,FALSE),"-") -> 1.9480519 | H13: =IFERROR(VLOOKUP($C13,'Distribution (medium) tables'!$D$3:$S$11,13,FALSE),"-") -> 4.3859649 | L13: =C13 -> D155 | M13: =IFERROR(VLOOKUP($L13,'Distribution (medium) tables'!$D$64:$S$74,10,FALSE),"-") -> 0 | N13: =IFERROR(VLOOKUP($L13,'Distribution (medium) tables'!$D$47:$S$58,10,FALSE),"-") -> 0 | O13: =IFERROR(VLOOKUP($L13,'Distribution (medium) tables'!$D$32:$S$41,10,FALSE),"-") -> 0 | P13: =IFERROR(VLOOKUP($L13,'Distribution (medium) tables'!$D$17:$S$26,10,FALSE),"-") -> 0.64935065 | Q13: =IFERROR(VLOOKUP($L13,'Distribution (medium) tables'!$D$3:$S$11,10,FALSE),"-") -> 2.5062657 | U13: =L13 -> D155 | V13: =IFERROR(VLOOKUP($U13,'Distribution (medium) tables'!$D$64:$S$74,14,FALSE),"-") -> 0 | W13: =IFERROR(VLOOKUP($U13,'Distribution (medium) tables'!$D$47:$S$58,14,FALSE),"-") -> 0 | X13: =IFERROR(VLOOKUP($U13,'Distribution (medium) tables'!$D$32:$S$41,14,FALSE),"-") -> 0 | Y13: =IFERROR(VLOOKUP($U13,'Distribution (medium) tables'!$D$17:$S$26,14,FALSE),"-") -> 1.2987013 | Z13: =IFERROR(VLOOKUP($U13,'Distribution (medium) tables'!$D$3:$S$11,14,FALSE),"-") -> 4.3859649
C14: D160 | D14: =IFERROR(VLOOKUP($C14,'Distribution (medium) tables'!$D$64:$S$74,13,FALSE),"-") -> - | E14: =IFERROR(VLOOKUP($C14,'Distribution (medium) tables'!$D$47:$S$58,13,FALSE),"-") -> 5.5 | F14: =IFERROR(VLOOKUP($C14,'Distribution (medium) tables'!$D$32:$S$41,13,FALSE),"-") -> 2.3809524 | G14: =IFERROR(VLOOKUP($C14,'Distribution (medium) tables'!$D$17:$S$26,13,FALSE),"-") -> 0.74074074 | H14: =IFERROR(VLOOKUP($C14,'Distribution (medium) tables'!$D$3:$S$11,13,FALSE),"-") -> 1.3636364 | L14: =C14 -> D160 | M14: =IFERROR(VLOOKUP($L14,'Distribution (medium) tables'!$D$64:$S$74,10,FALSE),"-") -> - | N14: =IFERROR(VLOOKUP($L14,'Distribution (medium) tables'!$D$47:$S$58,10,FALSE),"-") -> 1 | O14: =IFERROR(VLOOKUP($L14,'Distribution (medium) tables'!$D$32:$S$41,10,FALSE),"-") -> 1.9047619 | P14: =IFERROR(VLOOKUP($L14,'Distribution (medium) tables'!$D$17:$S$26,10,FALSE),"-") -> 0 | Q14: =IFERROR(VLOOKUP($L14,'Distribution (medium) tables'!$D$3:$S$11,10,FALSE),"-") -> 1.3636364 | U14: =L14 -> D160 | V14: =IFERROR(VLOOKUP($U14,'Distribution (medium) tables'!$D$64:$S$74,14,FALSE),"-") -> - | W14: =IFERROR(VLOOKUP($U14,'Distribution (medium) tables'!$D$47:$S$58,14,FALSE),"-") -> 4 | X14: =IFERROR(VLOOKUP($U14,'Distribution (medium) tables'!$D$32:$S$41,14,FALSE),"-") -> 17.142857 | Y14: =IFERROR(VLOOKUP($U14,'Distribution (medium) tables'!$D$17:$S$26,14,FALSE),"-") -> 0 | Z14: =IFERROR(VLOOKUP($U14,'Distribution (medium) tables'!$D$3:$S$11,14,FALSE),"-") -> 5.2272727
B15: Distribution ≥ 100 and < 250 FTEs | D15: ='Distribution (medium) tables'!$P75 -> 2.2879464 | E15: ='Distribution (medium) tables'!$P59 -> 4.1332361 | F15: ='Distribution (medium) tables'!$P42 -> 2.0238095 | G15: ='Distribution (medium) tables'!$P27 -> 3.2477341 | H15: ='Distribution (medium) tables'!$P12 -> 2.6390795 | K15: Distribution ≥ 100 and < 250 FTEs | M15: ='Distribution (medium) tables'!$M75 -> 0.94866071 | N15: ='Distribution (medium) tables'!$M59 -> 1.9450523 | O15: ='Distribution (medium) tables'!$M42 -> 1.25 | P15: ='Distribution (medium) tables'!$M27 -> 1.7371601 | Q15: ='Distribution (medium) tables'!$M12 -> 1.7417925 | T15: Distribution ≥ 100 and < 250 FTEs | V15: ='Distribution (medium) tables'!$Q75 -> 21.316964 | W15: ='Distribution (medium) tables'!$Q59 -> 9.4335035 | X15: ='Distribution (medium) tables'!$Q42 -> 7.9761905 | Y15: ='Distribution (medium) tables'!$Q27 -> 10.045317 | Z15: ='Distribution (medium) tables'!$Q12 -> 8.9992611
B16: Distribution Total | D16: ='Distribution (medium) tables'!$P76 -> 2.7246186 | E16: ='Distribution (medium) tables'!$P60 -> 4.1265927 | F16: ='Distribution (medium) tables'!$P43 -> 1.9010179 | G16: ='Distribution (medium) tables'!$P28 -> 2.1019509 | H16: ='Distribution (medium) tables'!$P13 -> 1.9852941 | K16: Distribution Total | M16: ='Distribution (medium) tables'!$M76 -> 1.1873338 | N16: ='Distribution (medium) tables'!$M60 -> 1.7427045 | O16: ='Distribution (medium) tables'!$M43 -> 0.85732178 | P16: ='Distribution (medium) tables'!$M28 -> 0.94398993 | Q16: ='Distribution (medium) tables'!$M13 -> 0.99789916 | T16: Distribution Total | V16: ='Distribution (medium) tables'!$Q76 -> 23.121763 | W16: ='Distribution (medium) tables'!$Q60 -> 20.086313 | X16: ='Distribution (medium) tables'!$Q43 -> 6.8709992 | Y16: ='Distribution (medium) tables'!$Q28 -> 8.6217747 | Z16: ='Distribution (medium) tables'!$Q13 -> 10.819328
B17: Industry Total | D17: ='Distribution (medium) tables'!$P77 -> 2.2594618 | E17: ='Distribution (medium) tables'!$P61 -> 3.6798943 | F17: ='Distribution (medium) tables'!$P44 -> 1.6668514 | G17: ='Distribution (medium) tables'!$P29 -> 1.8646728 | H17: ='Distribution (medium) tables'!$P14 -> 1.6817799 | K17: Industry Total | M17: ='Distribution (medium) tables'!$M77 -> 0.92021717 | N17: ='Distribution (medium) tables'!$M61 -> 1.3640142 | O17: ='Distribution (medium) tables'!$M44 -> 0.74174888 | P17: ='Distribution (medium) tables'!$M29 -> 0.84030318 | Q17: ='Distribution (medium) tables'!$M14 -> 0.82651578 | T17: Industry Total | V17: ='Distribution (medium) tables'!$Q77 -> 17.34445 | W17: ='Distribution (medium) tables'!$Q61 -> 16.905435 | X17: ='Distribution (medium) tables'!$Q44 -> 6.775751 | Y17: ='Distribution (medium) tables'!$Q29 -> 9.2033206 | Z17: ='Distribution (medium) tables'!$Q14 -> 9.2929122
B19: Select your respondent code -> | G19: 9 | K19: Select your respondent code -> | P19: 9 | T19: Select your respondent code -> | Y19: 9
D20: 1 | E20: 2 | F20: 3 | G20: 4 | M20: 1 | N20: 2 | O20: 3 | P20: 4 | V20: 1 | W20: 2 | X20: 3 | Y20: 4
B22: TRIFR Respondent | D22: =D4 -> 2020 | E22: =E4 -> 2021 | F22: =F4 -> 2022 | G22: =G4 -> 2023 | H22: =H4 -> 2024 | K22: LTIFR Respondent | M22: =M4 -> 2020 | N22: =N4 -> 2021 | O22: =O4 -> 2022 | P22: =P4 -> 2023 | Q22: =Q4 -> 2024 | T22: LTISR Respondent | V22: =V4 -> 2020 | W22: =W4 -> 2021 | X22: =X4 -> 2022 | Y22: =Y4 -> 2023 | Z22: =Z4 -> 2024
B23: =INDEX($C$5:$C$14,$G$19,1) -> D155 | D23: =INDEX($D$5:$H$14,$G$19,D$20) -> 2.6315789 | E23: =INDEX($D$5:$H$14,$G$19,E$20) -> 5.2287582 | F23: =INDEX($D$5:$H$14,$G$19,F$20) -> 0 | G23: =INDEX($D$5:$H$14,$G$19,G$20) -> 1.9480519 | H23: =INDEX($D$5:$H$14,$G$19,H$20) -> 4.3859649 | K23: =INDEX($L$5:$L$14,$P$19,1) -> D155 | M23: =INDEX($M$5:$Q$14,$P$19,M$20) -> 0 | N23: =INDEX($M$5:$Q$14,$P$19,N$20) -> 0 | O23: =INDEX($M$5:$Q$14,$P$19,O$20) -> 0 | P23: =INDEX($M$5:$Q$14,$P$19,P$20) -> 0.64935065 | Q23: =INDEX($M$5:$Q$14,$P$19,Q$20) -> 2.5062657 | T23: =INDEX($U$5:$U$14,$Y$19,1) -> D155 | V23: =INDEX($V$5:$Z$14,$Y$19,V$20) -> 0 | W23: =INDEX($V$5:$Z$14,$Y$19,W$20) -> 0 | X23: =INDEX($V$5:$Z$14,$Y$19,X$20) -> 0 | Y23: =INDEX($V$5:$Z$14,$Y$19,Y$20) -> 1.2987013 | Z23: =INDEX($V$5:$Z$14,$Y$19,Z$20) -> 4.3859649
B24: Medium-size distribution | D24: =D15 -> 2.2879464 | E24: =E15 -> 4.1332361 | F24: =F15 -> 2.0238095 | G24: =G15 -> 3.2477341 | H24: =H15 -> 2.6390795 | K24: Medium-size distribution | M24: =M15 -> 0.94866071 | N24: =N15 -> 1.9450523 | O24: =O15 -> 1.25 | P24: =P15 -> 1.7371601 | Q24: =Q15 -> 1.7417925 | T24: Medium-size distribution | V24: =V15 -> 21.316964 | W24: =W15 -> 9.4335035 | X24: =X15 -> 7.9761905 | Y24: =Y15 -> 10.045317 | Z24: =Z15 -> 8.9992611
B25: Distribution Total | D25: =D16 -> 2.7246186 | E25: =E16 -> 4.1265927 | F25: =F16 -> 1.9010179 | G25: =G16 -> 2.1019509 | H25: =H16 -> 1.9852941 | K25: Distribution Total | M25: =M16 -> 1.1873338 | N25: =N16 -> 1.7427045 | O25: =O16 -> 0.85732178 | P25: =P16 -> 0.94398993 | Q25: =Q16 -> 0.99789916 | T25: Distribution Total | V25: =V16 -> 23.121763 | W25: =W16 -> 20.086313 | X25: =X16 -> 6.8709992 | Y25: =Y16 -> 8.6217747 | Z25: =Z16 -> 10.819328
B26: Industry Total | D26: =D17 -> 2.2594618 | E26: =E17 -> 3.6798943 | F26: =F17 -> 1.6668514 | G26: =G17 -> 1.8646728 | H26: =H17 -> 1.6817799 | K26: Industry Total | M26: =M17 -> 0.92021717 | N26: =N17 -> 1.3640142 | O26: =O17 -> 0.74174888 | P26: =P17 -> 0.84030318 | Q26: =Q17 -> 0.82651578 | T26: Industry Total | V26: =V17 -> 17.34445 | W26: =W17 -> 16.905435 | X26: =X17 -> 6.775751 | Y26: =Y17 -> 9.2033206 | Z26: =Z17 -> 9.2929122

Sheet Distribution (large) tables
B2: D=250+ YE June 2024 | D2: Code | E2: FTEs | F2: Fatalities | G2: LTIs | H2: RWIs | I2: MTIs | J2: TRIs | K2: LTI Days Lost | L2: RW Days (Est) | M2: LTIFR | N2: RWIFR | O2: MTIFR | P2: TRIFR | Q2: LTISR | R2: RWISR (Est) | S2: ATLR to LTIs
D3: D60 | E3: 1550 | F3: 0 | G3: 10 | H3: 8 | I3: 0 | J3: 18 | K3: 148 | L3: 104 | M3: 0.64516129 | N3: 0.51612903 | O3: 0 | P3: 1.1612903 | Q3: 9.5483871 | R3: 6.7096774 | S3: 14.8
D4: D75 | E4: 476 | F4: 1 | G4: 8 | H4: 4 | I4: 1 | J4: 14 | K4: 155 | L4: 52 | M4: 1.6806723 | N4: 0.84033613 | O4: 0.21008403 | P4: 2.9411765 | Q4: 32.563025 | R4: 10.92437 | S4: 19.375
D5: D80 | E5: 1415 | F5: 0 | G5: 3 | H5: 0 | I5: 0 | J5: 3 | K5: 40 | L5: 0 | M5: 0.21201413 | N5: 0 | O5: 0 | P5: 0.21201413 | Q5: 2.8268551 | R5: 0 | S5: 13.333333
D6: D115 | E6: 275 | F6: 0 | G6: 0 | H6: 0 | I6: 0 | J6: 0 | K6: 0 | L6: 0 | M6: 0 | N6: 0 | O6: 0 | P6: 0 | Q6: 0 | R6: 0 | S6: 0
D7: D120 | E7: 453.4 | F7: 0 | G7: 4 | H7: 0 | I7: 3 | J7: 7 | K7: 21 | L7: 0 | M7: 0.8822232 | N7: 0 | O7: 0.6616674 | P7: 1.5438906 | Q7: 4.6316718 | R7: 0 | S7: 5.25
D8: D125 | E8: 330 | F8: 0 | G8: 0 | H8: 6 | I8: 1 | J8: 7 | K8: 0 | L8: 78 | M8: 0 | N8: 1.8181818 | O8: 0.3030303 | P8: 2.1212121 | Q8: 0 | R8: 23.636364 | S8: 0
D9: D140 | E9: 818 | F9: 0 | G9: 9 | H9: 37 | I9: 2 | J9: 48 | K9: 58.5 | L9: 481 | M9: 1.1002445 | N9: 4.5232274 | O9: 0.24449878 | P9: 5.8679707 | Q9: 7.1515892 | R9: 58.801956 | S9: 6.5
D10: D165 | E10: 1122.7 | F10: 0 | G10: 9 | H10: 5 | I10: 1 | J10: 15 | K10: 165 | L10: 65 | M10: 0.80163891 | N10: 0.44535495 | O10: 0.08907099 | P10: 1.3360648 | Q10: 14.696713 | R10: 5.7896143 | S10: 18.333333
D11: D170 | E11: 400 | F11: 0 | G11: 7 | H11: 0 | I11: 3 | J11: 10 | K11: 91 | L11: 0 | M11: 1.75 | N11: 0 | O11: 0.75 | P11: 2.5 | Q11: 22.75 | R11: 0 | S11: 13
D12: D180 | E12: 512 | F12: 0 | G12: 6 | H12: 3 | I12: 0 | J12: 9 | K12: 0 | L12: 39 | M12: 1.171875 | N12: 0.5859375 | O12: 0 | P12: 1.7578125 | Q12: 0 | R12: 7.6171875 | S12: 0
D13: Group | E13: 7352.1 | F13: 1 | G13: 56 | H13: 63 | I13: 11 | J13: 131 | K13: 678.5 | L13: 819 | M13: 0.76168714 | N13: 0.85689803 | O13: 0.14961712 | P13: 1.7818038 | Q13: 9.2286558 | R13: 10.414415 | S13: 12.116071
D14: Dist | E14: 9520 | F14: 1 | G14: 95 | H14: 76 | I14: 17 | J14: 189 | K14: 1030 | L14: 988 | M14: 0.99789916 | N14: 0.79831933 | O14: 0.17857143 | P14: 1.9852941 | Q14: 10.819328 | R14: 10.378151 | S14: 9.1150442
D15: Industry | E15: 13913.83 | F15: 1 | G15: 115 | H15: 82 | I15: 36 | J15: 234 | K15: 1293 | L15: 1066 | M15: 0.82651578 | N15: 0.58934168 | O15: 0.25873537 | P15: 1.6817799 | Q15: 9.2929122 | R15: 7.6614419 | S15: 9.7218045
B17: D=250+ YE June 2023 | D17: Code | E17: FTEs | F17: Fatalities | G17: LTIs | H17: RWIs | I17: MTIs | J17: TRIs | K17: LTI Days Lost | L17: RW Days | M17: LTIFR | N17: RWIFR | O17: MTIFR | P17: TRIFR | Q17: LTISR | R17: RWISR | S17: ATLR to LTIs
D18: D60 | E18: 1402 | F18: 0 | G18: 2 | H18: 2 | I18: 4 | J18: 8 | K18: 4 | L18: 52 | M18: 0.14265335 | N18: 0.14265335 | O18: 0.2853067 | P18: 0.57061341 | Q18: 0.2853067 | R18: 3.7089872 | S18: 2
D19: D75 | E19: 523 | F19: 0 | G19: 9 | H19: 3 | I19: 6 | J19: 18 | K19: 39 | L19: 55 | M19: 1.7208413 | N19: 0.57361377 | O19: 1.1472275 | P19: 3.4416826 | Q19: 7.456979 | R19: 10.516252 | S19: 4.3333333
D20: D80 | E20: 288 | F20: 0 | G20: 3 | H20: 0 | I20: 2 | J20: 5 | K20: 25 | L20: 0 | M20: 1.0416667 | N20: 0 | O20: 0.69444444 | P20: 1.7361111 | Q20: 8.6805556 | R20: 0 | S20: 8.3333333
D21: D120 | E21: 309 | F21: 0 | G21: 4 | H21: 0 | I21: 0 | J21: 4 | K21: 168 | L21: 0 | M21: 1.2944984 | N21: 0 | O21: 0 | P21: 1.2944984 | Q21: 54.368932 | R21: 0 | S21: 42
D22: D140 | E22: 635 | F22: 0 | G22: 10 | H22: 0 | I22: 9 | J22: 19 | K22: 137 | L22: 0 | M22: 1.5748031 | N22: 0 | O22: 1.4173228 | P22: 2.992126 | Q22: 21.574803 | R22: 0 | S22: 13.7
D23: D165 | E23: 1287 | F23: 0 | G23: 4 | H23: 7 | I23: 7 | J23: 18 | K23: 40 | L23: 30 | M23: 0.31080031 | N23: 0.54390054 | O23: 0.54390054 | P23: 1.3986014 | Q23: 3.1080031 | R23: 2.3310023 | S23: 10
D24: D170 | E24: 382 | F24: 0 | G24: 2 | H24: 3 | I24: 0 | J24: 5 | K24: 4 | L24: 15 | M24: 0.52356021 | N24: 0.78534031 | O24: 0 | P24: 1.3089005 | Q24: 1.0471204 | R24: 3.9267016 | S24: 2
D25: D180 | E25: 493 | F25: 0 | G25: 8 | H25: 5 | I25: 4 | J25: 17 | K25: 0 | L25: 0 | M25: 1.6227181 | N25: 1.0141988 | O25: 0.81135903 | P25: 3.4482759 | Q25: 0 | R25: 0 | S25: 0
D26: Group | E26: 6363 | F26: 0 | G26: 49 | H26: 28 | I26: 36 | J26: 113 | K26: 482 | L26: 167 | M26: 0.77007701 | N26: 0.440044 | O26: 0.56577086 | P26: 1.7758919 | Q26: 7.5750432 | R26: 2.6245482 | S26: 9.8367347
D27: Dist | E27: 7945 | F27: 0 | G27: 75 | H27: 38 | I27: 54 | J27: 167 | K27: 685 | L27: 521 | M27: 0.94398993 | N27: 0.47828823 | O27: 0.67967275 | P27: 2.1019509 | Q27: 8.6217747 | R27: 6.5575834 | S27: 9.1333333
D28: Industry | E28: 12495.49 | F28: 0 | G28: 105 | H28: 53 | I28: 75 | J28: 233 | K28: 1150 | L28: 656 | M28: 0.84030318 | N28: 0.42415303 | O28: 0.60021656 | P28: 1.8646728 | Q28: 9.2033206 | R28: 5.2498942 | S28: 10.952381
B30: D=250+ YE June 2022 | D30: Code | E30: FTEs | F30: Fatalities | G30: LTIs | H30: RWIs | I30: MTIs | J30: TRIs | K30: LTI Days Lost | L30: RW Days | M30: LTIFR | N30: RWIFR | O30: MTIFR | P30: TRIFR | Q30: LTISR | R30: RWISR | S30: ATLR to LTIs
D31: D60 | E31: 1402 | F31: 0 | G31: 0 | H31: 11 | I31: 2 | J31: 13 | K31: 0 | L31: 11 | M31: 0 | N31: 0.78459344 | O31: 0.14265335 | P31: 0.92724679 | Q31: 0 | R31: 0.78459344 | S31: 0
D32: D75 | E32: 466 | F32: 0 | G32: 8 | H32: 7 | I32: 5 | J32: 20 | K32: 57 | L32: 279 | M32: 1.7167382 | N32: 1.5021459 | O32: 1.0729614 | P32: 4.2918455 | Q32: 12.23176 | R32: 59.871245 | S32: 7.125
D33: D80 | E33: 306 | F33: 0 | G33: 2 | H33: 0 | I33: 0 | J33: 2 | K33: 0 | L33: 0 | M33: 0.65359477 | N33: 0 | O33: 0 | P33: 0.65359477 | Q33: 0 | R33: 0 | S33: 0
D34: D120 | E34: 351.32 | F34: 0 | G34: 4 | H34: 0 | I34: 0 | J34: 4 | K34: 31 | L34: 0 | M34: 1.1385631 | N34: 0 | O34: 0 | P34: 1.1385631 | Q34: 8.8238643 | R34: 0 | S34: 7.75
D35: D125 | E35: 350 | F35: 0 | G35: 4 | H35: 3 | I35: 6 | J35: 13 | K35: 20 | L35: 10 | M35: 1.1428571 | N35: 0.85714286 | O35: 1.7142857 | P35: 3.7142857 | Q35: 5.7142857 | R35: 2.8571429 | S35: 5
D36: D140 | E36: 809 | F36: 0 | G36: 4 | H36: 0 | I36: 11 | J36: 15 | K36: 37 | L36: 0 | M36: 0.49443758 | N36: 0 | O36: 1.3597033 | P36: 1.8541409 | Q36: 4.5735476 | R36: 0 | S36: 9.25
D37: D165 | E37: 1294 | F37: 0 | G37: 7 | H37: 5 | I37: 6 | J37: 18 | K37: 186 | L37: 94 | M37: 0.54095827 | N37: 0.38639876 | O37: 0.46367852 | P37: 1.3910355 | Q37: 14.374034 | R37: 7.2642968 | S37: 26.571429
D38: D170 | E38: 466 | F38: 0 | G38: 2 | H38: 1 | I38: 0 | J38: 3 | K38: 9 | L38: 2 | M38: 0.42918455 | N38: 0.21459227 | O38: 0 | P38: 0.64377682 | Q38: 1.9313305 | R38: 0.42918455 | S38: 4.5
D39: D180 | E39: 488 | F39: 0 | G39: 10 | H39: 3 | I39: 8 | J39: 21 | K39: 0 | L39: 4 | M39: 2.0491803 | N39: 0.6147541 | O39: 1.6393443 | P39: 4.3032787 | Q39: 0 | R39: 0.81967213 | S39: 0
D40: Group | E40: 5932.32 | F40: 0 | G40: 41 | H40: 30 | I40: 38 | J40: 109 | K40: 340 | L40: 400 | M40: 0.69112927 | N40: 0.50570435 | O40: 0.64055884 | P40: 1.8373925 | Q40: 5.7313159 | R40: 6.7427246 | S40: 8.2926829
D41: Dist | E41: 8048.32 | F41: 0 | G41: 69 | H41: 38 | I41: 46 | J41: 153 | K41: 553 | L41: 539.5 | M41: 0.85732178 | N41: 0.47214822 | O41: 0.57154785 | P41: 1.9010179 | Q41: 6.8709992 | R41: 6.7032623 | S41: 8.0144928
D42: Industry | E42: 11998.67 | F42: 0 | G42: 89 | H42: 50 | I42: 61 | J42: 200 | K42: 813 | L42: 700.5 | M42: 0.74174888 | N42: 0.41671285 | O42: 0.50838968 | P42: 1.6668514 | Q42: 6.775751 | R42: 5.8381471 | S42: 9.1348315
B44: D=250+ YE June 2021 | D44: Code | E44: FTEs | F44: Fatalities | G44: LTIs | H44: RWIs | I44: MTIs | J44: TRIs | K44: LTI Days Lost | L44: RW Days | M44: LTIFR | N44: RWIFR | O44: MTIFR | P44: TRIFR | Q44: LTISR | R44: RWISR | S44: ATLR to LTIs
D45: D60 | E45: 370 | F45: 0 | G45: 6 | H45: 12 | I45: 7 | J45: 25 | K45: 154 | L45: 58 | M45: 1.6216216 | N45: 3.2432432 | O45: 1.8918919 | P45: 6.7567568 | Q45: 41.621622 | R45: 15.675676 | S45: 25.666667
D46: D75 | E46: 417 | F46: 0 | G46: 6 | H46: 16 | I46: 5 | J46: 27 | K46: 76 | L46: 212 | M46: 1.4388489 | N46: 3.8369305 | O46: 1.1990408 | P46: 6.4748201 | Q46: 18.22542 | R46: 50.839329 | S46: 12.666667
D47: D120 | E47: 320 | F47: 0 | G47: 3 | H47: 4 | I47: 5 | J47: 12 | K47: 122 | L47: 198 | M47: 0.9375 | N47: 1.25 | O47: 1.5625 | P47: 3.75 | Q47: 38.125 | R47: 61.875 | S47: 40.666667
D48: D125 | E48: 310 | F48: 0 | G48: 7 | H48: 2 | I48: 6 | J48: 15 | K48: 55 | L48: 10 | M48: 2.2580645 | N48: 0.64516129 | O48: 1.9354839 | P48: 4.8387097 | Q48: 17.741935 | R48: 3.2258065 | S48: 7.8571429
D49: D165 | E49: 1276 | F49: 0 | G49: 7 | H49: 7 | I49: 6 | J49: 20 | K49: 433 | L49: 94 | M49: 0.54858934 | N49: 0.54858934 | O49: 0.47021944 | P49: 1.5673981 | Q49: 33.934169 | R49: 7.3667712 | S49: 61.857143
D50: D170 | E50: 427 | F50: 0 | G50: 5 | H50: 0 | I50: 0 | J50: 5 | K50: 33 | L50: 0 | M50: 1.1709602 | N50: 0 | O50: 0 | P50: 1.1709602 | Q50: 7.7283372 | R50: 0 | S50: 6.6
D51: D180 | E51: 400 | F51: 0 | G51: 19 | H51: 3 | I51: 19 | J51: 41 | K51: 5 | L51: 367 | M51: 4.75 | N51: 0.75 | O51: 4.75 | P51: 10.25 | Q51: 1.25 | R51: 91.75 | S51: 0.26315789
D52: Group | E52: 3520 | F52: 0 | G52: 53 | H52: 44 | I52: 48 | J52: 145 | K52: 878 | L52: 939 | M52: 1.5056818 | N52: 1.25 | O52: 1.3636364 | P52: 4.1193182 | Q52: 24.943182 | R52: 26.676136 | S52: 16.566038
D53: Dist | E53: 6082.5 | F53: 0 | G53: 106 | H53: 57 | I53: 88 | J53: 251 | K53: 1221.75 | L53: 1049 | M53: 1.7427045 | N53: 0.93711467 | O53: 1.4467735 | P53: 4.1265927 | Q53: 20.086313 | R53: 17.246198 | S53: 11.525943
D54: Industry | E54: 10190.51 | F54: 1 | G54: 139 | H54: 80 | I54: 155 | J54: 375 | K54: 1722.75 | L54: 1213 | M54: 1.3640142 | N54: 0.78504412 | O54: 1.521023 | P54: 3.6798943 | Q54: 16.905435 | R54: 11.903232 | S54: 12.393885
B56: D=250+ YE June 2020 | D56: Code | E56: FTEs | F56: Fatalities | G56: LTIs | H56: RWIs | I56: MTIs | J56: TRIs | K56: LTI Days Lost | L56: RW Days | M56: LTIFR | N56: RWIFR | O56: MTIFR | P56: TRIFR | Q56: LTISR | R56: RWISR | S56: ATLR to LTIs
D57: D60 | E57: 1184 | F57: 0 | G57: 5 | H57: 7 | I57: 7 | J57: 19 | K57: 98 | L57: 30 | M57: 0.4222973 | N57: 0.59121622 | O57: 0.59121622 | P57: 1.6047297 | Q57: 8.277027 | R57: 2.5337838 | S57: 19.6
D58: D75 | E58: 437 | F58: 0 | G58: 7 | H58: 11 | I58: 3 | J58: 21 | K58: 167 | L58: 183 | M58: 1.6018307 | N58: 2.5171625 | O58: 0.68649886 | P58: 4.805492 | Q58: 38.215103 | R58: 41.87643 | S58: 23.857143
D59: D120 | E59: 297 | F59: 0 | G59: 15 | H59: 0 | I59: 8 | J59: 23 | K59: 512 | L59: 0 | M59: 5.0505051 | N59: 0 | O59: 2.6936027 | P59: 7.7441077 | Q59: 172.39057 | R59: 0 | S59: 34.133333
D60: D125 | E60: 450 | F60: 0 | G60: 7 | H60: 0 | I60: 6 | J60: 13 | K60: 33 | L60: 0 | M60: 1.5555556 | N60: 0 | O60: 1.3333333 | P60: 2.8888889 | Q60: 7.3333333 | R60: 0 | S60: 4.7142857
D61: D140 | E61: 721 | F61: 0 | G61: 12 | H61: 0 | I61: 11 | J61: 23 | K61: 168 | L61: 0 | M61: 1.6643551 | N61: 0 | O61: 1.5256588 | P61: 3.1900139 | Q61: 23.300971 | R61: 0 | S61: 14
D62: D160 | E62: 295 | F62: 0 | G62: 4 | H62: 3 | I62: 2 | J62: 9 | K62: 22 | L62: 30 | M62: 1.3559322 | N62: 1.0169492 | O62: 0.6779661 | P62: 3.0508475 | Q62: 7.4576271 | R62: 10.169492 | S62: 5.5
D63: D165 | E63: 1081.62 | F63: 0 | G63: 6 | H63: 16 | I63: 6 | J63: 28 | K63: 201 | L63: 147 | M63: 0.55472347 | N63: 1.4792626 | O63: 0.55472347 | P63: 2.5887095 | Q63: 18.583236 | R63: 13.590725 | S63: 33.5
D64: D170 | E64: 437 | F64: 0 | G64: 3 | H64: 0 | I64: 1 | J64: 4 | K64: 15 | L64: 0 | M64: 0.68649886 | N64: 0 | O64: 0.22883295 | P64: 0.91533181 | Q64: 3.4324943 | R64: 0 | S64: 5
D65: D180 | E65: 352.5 | F65: 0 | G65: 6 | H65: 4 | I65: 8 | J65: 18 | K65: 38 | L65: 20 | M65: 1.7021277 | N65: 1.1347518 | O65: 2.2695035 | P65: 5.106383 | Q65: 10.780142 | R65: 5.6737589 | S65: 6.3333333
D66: D185 | E66: 577 | F66: 0 | G66: 1 | H66: 1 | I66: 0 | J66: 2 | K66: 62 | L66: 10 | M66: 0.17331023 | N66: 0.17331023 | O66: 0 | P66: 0.34662045 | Q66: 10.745234 | R66: 1.7331023 | S66: 62
D67: Group | E67: 5832.12 | F67: 0 | G67: 66 | H67: 42 | I67: 52 | J67: 160 | K67: 1316 | L67: 420 | M67: 1.131664 | N67: 0.72014979 | O67: 0.89161403 | P67: 2.7434278 | Q67: 22.564693 | R67: 7.2014979 | S67: 19.939394
D68: Dist | E68: 8001.12 | F68: 0 | G68: 95 | H68: 50 | I68: 73 | J68: 218 | K68: 1850 | L68: 564 | M68: 1.1873338 | N68: 0.62491251 | O68: 0.91237227 | P68: 2.7246186 | Q68: 23.121763 | R68: 7.0490131 | S68: 19.473684
D69: Industry | E69: 12171.04 | F69: 0 | G69: 112 | H69: 64 | I69: 99 | J69: 275 | K69: 2111 | L69: 779 | M69: 0.92021717 | N69: 0.52583838 | O69: 0.81340625 | P69: 2.2594618 | Q69: 17.34445 | R69: 6.4004391 | S69: 18.848214

Sheet Distribution (large) graphs
B2: Total Recordable Injury Frequency Rate | K2: Lost Time Injury Frequency Rate | T2: Lost Time Injury Severity Rate
B3: TRIFR - 5-year results - Large-size distribution peer group | D3: Year Ended | K3: LTIFR - 5-year results - Large-size distribution peer group | M3: Year Ended | T3: LTISR - 5-year results - Large-size distribution peer group | V3: Year Ended
D4: 2020 | E4: 2021 | F4: 2022 | G4: 2023 | H4: 2024 | M4: 2020 | N4: 2021 | O4: 2022 | P4: 2023 | Q4: 2024 | V4: 2020 | W4: 2021 | X4: 2022 | Y4: 2023 | Z4: 2024
B5: Respondent code | C5: D60 | D5: =IFERROR(VLOOKUP($C5,'Distribution (large) tables'!$D$57:$S$66,13,FALSE),"-") -> 1.6047297 | E5: =IFERROR(VLOOKUP($C5,'Distribution (large) tables'!$D$45:$S$51,13,FALSE),"-") -> 6.7567568 | F5: =IFERROR(VLOOKUP($C5,'Distribution (large) tables'!$D$31:$S$39,13,FALSE),"-") -> 0.92724679 | G5: =IFERROR(VLOOKUP($C5,'Distribution (large) tables'!$D$18:$S$25,13,FALSE),"-") -> 0.57061341 | H5: =IFERROR(VLOOKUP($C5,'Distribution (large) tables'!$D$3:$S$12,13,FALSE),"-") -> 1.1612903 | K5: Respondent code | L5: =C5 -> D60 | M5: =IFERROR(VLOOKUP($L5,'Distribution (large) tables'!$D$57:$S$66,10,FALSE),"-") -> 0.4222973 | N5: =IFERROR(VLOOKUP($L5,'Distribution (large) tables'!$D$45:$S$51,10,FALSE),"-") -> 1.6216216 | O5: =IFERROR(VLOOKUP($L5,'Distribution (large) tables'!$D$31:$S$39,10,FALSE),"-") -> 0 | P5: =IFERROR(VLOOKUP($L5,'Distribution (large) tables'!$D$18:$S$25,10,FALSE),"-") -> 0.14265335 | Q5: =IFERROR(VLOOKUP($L5,'Distribution (large) tables'!$D$3:$S$12,10,FALSE),"-") -> 0.64516129 | T5: Respondent code | U5: =L5 -> D60 | V5: =IFERROR(VLOOKUP($U5,'Distribution (large) tables'!$D$57:$S$66,14,FALSE),"-") -> 8.277027 | W5: =IFERROR(VLOOKUP($U5,'Distribution (large) tables'!$D$45:$S$51,14,FALSE),"-") -> 41.621622 | X5: =IFERROR(VLOOKUP($U5,'Distribution (large) tables'!$D$31:$S$39,14,FALSE),"-") -> 0 | Y5: =IFERROR(VLOOKUP($U5,'Distribution (large) tables'!$D$18:$S$25,14,FALSE),"-") -> 0.2853067 | Z5: =IFERROR(VLOOKUP($U5,'Distribution (large) tables'!$D$3:$S$12,14,FALSE),"-") -> 9.5483871
C6: D75 | D6: =IFERROR(VLOOKUP($C6,'Distribution (large) tables'!$D$57:$S$66,13,FALSE),"-") -> 4.805492 | E6: =IFERROR(VLOOKUP($C6,'Distribution (large) tables'!$D$45:$S$51,13,FALSE),"-") -> 6.4748201 | F6: =IFERROR(VLOOKUP($C6,'Distribution (large) tables'!$D$31:$S$39,13,FALSE),"-") -> 4.2918455 | G6: =IFERROR(VLOOKUP($C6,'Distribution (large) tables'!$D$18:$S$25,13,FALSE),"-") -> 3.4416826 | H6: =IFERROR(VLOOKUP($C6,'Distribution (large) tables'!$D$3:$S$12,13,FALSE),"-") -> 2.9411765 | L6: =C6 -> D75 | M6: =IFERROR(VLOOKUP($L6,'Distribution (large) tables'!$D$57:$S$66,10,FALSE),"-") -> 1.6018307 | N6: =IFERROR(VLOOKUP($L6,'Distribution (large) tables'!$D$45:$S$51,10,FALSE),"-") -> 1.4388489 | O6: =IFERROR(VLOOKUP($L6,'Distribution (large) tables'!$D$31:$S$39,10,FALSE),"-") -> 1.7167382 | P6: =IFERROR(VLOOKUP($L6,'Distribution (large) tables'!$D$18:$S$25,10,FALSE),"-") -> 1.7208413 | Q6: =IFERROR(VLOOKUP($L6,'Distribution (large) tables'!$D$3:$S$12,10,FALSE),"-") -> 1.6806723 | U6: =L6 -> D75 | V6: =IFERROR(VLOOKUP($U6,'Distribution (large) tables'!$D$57:$S$66,14,FALSE),"-") -> 38.215103 | W6: =IFERROR(VLOOKUP($U6,'Distribution (large) tables'!$D$45:$S$51,14,FALSE),"-") -> 18.22542 | X6: =IFERROR(VLOOKUP($U6,'Distribution (large) tables'!$D$31:$S$39,14,FALSE),"-") -> 12.23176 | Y6: =IFERROR(VLOOKUP($U6,'Distribution (large) tables'!$D$18:$S$25,14,FALSE),"-") -> 7.456979 | Z6: =IFERROR(VLOOKUP($U6,'Distribution (large) tables'!$D$3:$S$12,14,FALSE),"-") -> 32.563025
C7: D80 | D7: =IFERROR(VLOOKUP($C7,'Distribution (large) tables'!$D$57:$S$66,13,FALSE),"-") -> - | E7: =IFERROR(VLOOKUP($C7,'Distribution (large) tables'!$D$45:$S$51,13,FALSE),"-") -> - | F7: =IFERROR(VLOOKUP($C7,'Distribution (large) tables'!$D$31:$S$39,13,FALSE),"-") -> 0.65359477 | G7: =IFERROR(VLOOKUP($C7,'Distribution (large) tables'!$D$18:$S$25,13,FALSE),"-") -> 1.7361111 | H7: =IFERROR(VLOOKUP($C7,'Distribution (large) tables'!$D$3:$S$12,13,FALSE),"-") -> 0.21201413 | L7: =C7 -> D80 | M7: =IFERROR(VLOOKUP($L7,'Distribution (large) tables'!$D$57:$S$66,10,FALSE),"-") -> - | N7: =IFERROR(VLOOKUP($L7,'Distribution (large) tables'!$D$45:$S$51,10,FALSE),"-") -> - | O7: =IFERROR(VLOOKUP($L7,'Distribution (large) tables'!$D$31:$S$39,10,FALSE),"-") -> 0.65359477 | P7: =IFERROR(VLOOKUP($L7,'Distribution (large) tables'!$D$18:$S$25,10,FALSE),"-") -> 1.0416667 | Q7: =IFERROR(VLOOKUP($L7,'Distribution (large) tables'!$D$3:$S$12,10,FALSE),"-") -> 0.21201413 | U7: =L7 -> D80 | V7: =IFERROR(VLOOKUP($U7,'Distribution (large) tables'!$D$57:$S$66,14,FALSE),"-") -> - | W7: =IFERROR(VLOOKUP($U7,'Distribution (large) tables'!$D$45:$S$51,14,FALSE),"-") -> - | X7: =IFERROR(VLOOKUP($U7,'Distribution (large) tables'!$D$31:$S$39,14,FALSE),"-") -> 0 | Y7: =IFERROR(VLOOKUP($U7,'Distribution (large) tables'!$D$18:$S$25,14,FALSE),"-") -> 8.6805556 | Z7: =IFERROR(VLOOKUP($U7,'Distribution (large) tables'!$D$3:$S$12,14,FALSE),"-") -> 2.8268551
C8: D115 | D8: =IFERROR(VLOOKUP($C8,'Distribution (large) tables'!$D$57:$S$66,13,FALSE),"-") -> - | E8: =IFERROR(VLOOKUP($C8,'Distribution (large) tables'!$D$45:$S$51,13,FALSE),"-") -> - | F8: =IFERROR(VLOOKUP($C8,'Distribution (large) tables'!$D$31:$S$39,13,FALSE),"-") -> - | G8: =IFERROR(VLOOKUP($C8,'Distribution (large) tables'!$D$18:$S$25,13,FALSE),"-") -> - | H8: =IFERROR(VLOOKUP($C8,'Distribution (large) tables'!$D$3:$S$12,13,FALSE),"-") -> 0 | L8: D115 | M8: =IFERROR(VLOOKUP($L8,'Distribution (large) tables'!$D$57:$S$66,10,FALSE),"-") -> - | N8: =IFERROR(VLOOKUP($L8,'Distribution (large) tables'!$D$45:$S$51,10,FALSE),"-") -> - | O8: =IFERROR(VLOOKUP($L8,'Distribution (large) tables'!$D$31:$S$39,10,FALSE),"-") -> - | P8: =IFERROR(VLOOKUP($L8,'Distribution (large) tables'!$D$18:$S$25,10,FALSE),"-") -> - | Q8: =IFERROR(VLOOKUP($L8,'Distribution (large) tables'!$D$3:$S$12,10,FALSE),"-") -> 0 | U8: D115 | V8: =IFERROR(VLOOKUP($U8,'Distribution (large) tables'!$D$57:$S$66,14,FALSE),"-") -> - | W8: =IFERROR(VLOOKUP($U8,'Distribution (large) tables'!$D$45:$S$51,14,FALSE),"-") -> - | X8: =IFERROR(VLOOKUP($U8,'Distribution (large) tables'!$D$31:$S$39,14,FALSE),"-") -> - | Y8: =IFERROR(VLOOKUP($U8,'Distribution (large) tables'!$D$18:$S$25,14,FALSE),"-") -> - | Z8: =IFERROR(VLOOKUP($U8,'Distribution (large) tables'!$D$3:$S$12,14,FALSE),"-") -> 0
C9: D120 | D9: =IFERROR(VLOOKUP($C9,'Distribution (large) tables'!$D$57:$S$66,13,FALSE),"-") -> 7.7441077 | E9: =IFERROR(VLOOKUP($C9,'Distribution (large) tables'!$D$45:$S$51,13,FALSE),"-") -> 3.75 | F9: =IFERROR(VLOOKUP($C9,'Distribution (large) tables'!$D$31:$S$39,13,FALSE),"-") -> 1.1385631 | G9: =IFERROR(VLOOKUP($C9,'Distribution (large) tables'!$D$18:$S$25,13,FALSE),"-") -> 1.2944984 | H9: =IFERROR(VLOOKUP($C9,'Distribution (large) tables'!$D$3:$S$12,13,FALSE),"-") -> 1.5438906 | L9: =C9 -> D120 | M9: =IFERROR(VLOOKUP($L9,'Distribution (large) tables'!$D$57:$S$66,10,FALSE),"-") -> 5.0505051 | N9: =IFERROR(VLOOKUP($L9,'Distribution (large) tables'!$D$45:$S$51,10,FALSE),"-") -> 0.9375 | O9: =IFERROR(VLOOKUP($L9,'Distribution (large) tables'!$D$31:$S$39,10,FALSE),"-") -> 1.1385631 | P9: =IFERROR(VLOOKUP($L9,'Distribution (large) tables'!$D$18:$S$25,10,FALSE),"-") -> 1.2944984 | Q9: =IFERROR(VLOOKUP($L9,'Distribution (large) tables'!$D$3:$S$12,10,FALSE),"-") -> 0.8822232 | U9: =L9 -> D120 | V9: =IFERROR(VLOOKUP($U9,'Distribution (large) tables'!$D$57:$S$66,14,FALSE),"-") -> 172.39057 | W9: =IFERROR(VLOOKUP($U9,'Distribution (large) tables'!$D$45:$S$51,14,FALSE),"-") -> 38.125 | X9: =IFERROR(VLOOKUP($U9,'Distribution (large) tables'!$D$31:$S$39,14,FALSE),"-") -> 8.8238643 | Y9: =IFERROR(VLOOKUP($U9,'Distribution (large) tables'!$D$18:$S$25,14,FALSE),"-") -> 54.368932 | Z9: =IFERROR(VLOOKUP($U9,'Distribution (large) tables'!$D$3:$S$12,14,FALSE),"-") -> 4.6316718
C10: D125 | D10: =IFERROR(VLOOKUP($C10,'Distribution (large) tables'!$D$57:$S$66,13,FALSE),"-") -> 2.8888889 | E10: =IFERROR(VLOOKUP($C10,'Distribution (large) tables'!$D$45:$S$51,13,FALSE),"-") -> 4.8387097 | F10: =IFERROR(VLOOKUP($C10,'Distribution (large) tables'!$D$31:$S$39,13,FALSE),"-") -> 3.7142857 | G10: =IFERROR(VLOOKUP($C10,'Distribution (large) tables'!$D$18:$S$25,13,FALSE),"-") -> - | H10: =IFERROR(VLOOKUP($C10,'Distribution (large) tables'!$D$3:$S$12,13,FALSE),"-") -> 2.1212121 | L10: =C10 -> D125 | M10: =IFERROR(VLOOKUP($L10,'Distribution (large) tables'!$D$57:$S$66,10,FALSE),"-") -> 1.5555556 | N10: =IFERROR(VLOOKUP($L10,'Distribution (large) tables'!$D$45:$S$51,10,FALSE),"-") -> 2.2580645 | O10: =IFERROR(VLOOKUP($L10,'Distribution (large) tables'!$D$31:$S$39,10,FALSE),"-") -> 1.1428571 | P10: =IFERROR(VLOOKUP($L10,'Distribution (large) tables'!$D$18:$S$25,10,FALSE),"-") -> - | Q10: =IFERROR(VLOOKUP($L10,'Distribution (large) tables'!$D$3:$S$12,10,FALSE),"-") -> 0 | U10: =L10 -> D125 | V10: =IFERROR(VLOOKUP($U10,'Distribution (large) tables'!$D$57:$S$66,14,FALSE),"-") -> 7.3333333 | W10: =IFERROR(VLOOKUP($U10,'Distribution (large) tables'!$D$45:$S$51,14,FALSE),"-") -> 17.741935 | X10: =IFERROR(VLOOKUP($U10,'Distribution (large) tables'!$D$31:$S$39,14,FALSE),"-") -> 5.7142857 | Y10: =IFERROR(VLOOKUP($U10,'Distribution (large) tables'!$D$18:$S$25,14,FALSE),"-") -> - | Z10: =IFERROR(VLOOKUP($U10,'Distribution (large) tables'!$D$3:$S$12,14,FALSE),"-") -> 0
C11: D140 | D11: =IFERROR(VLOOKUP($C11,'Distribution (large) tables'!$D$57:$S$66,13,FALSE),"-") -> 3.1900139 | E11: =IFERROR(VLOOKUP($C11,'Distribution (large) tables'!$D$45:$S$51,13,FALSE),"-") -> - | F11: =IFERROR(VLOOKUP($C11,'Distribution (large) tables'!$D$31:$S$39,13,FALSE),"-") -> 1.8541409 | G11: =IFERROR(VLOOKUP($C11,'Distribution (large) tables'!$D$18:$S$25,13,FALSE),"-") -> 2.992126 | H11: =IFERROR(VLOOKUP($C11,'Distribution (large) tables'!$D$3:$S$12,13,FALSE),"-") -> 5.8679707 | L11: =C11 -> D140 | M11: =IFERROR(VLOOKUP($L11,'Distribution (large) tables'!$D$57:$S$66,10,FALSE),"-") -> 1.6643551 | N11: =IFERROR(VLOOKUP($L11,'Distribution (large) tables'!$D$45:$S$51,10,FALSE),"-") -> - | O11: =IFERROR(VLOOKUP($L11,'Distribution (large) tables'!$D$31:$S$39,10,FALSE),"-") -> 0.49443758 | P11: =IFERROR(VLOOKUP($L11,'Distribution (large) tables'!$D$18:$S$25,10,FALSE),"-") -> 1.5748031 | Q11: =IFERROR(VLOOKUP($L11,'Distribution (large) tables'!$D$3:$S$12,10,FALSE),"-") -> 1.1002445 | U11: =L11 -> D140 | V11: =IFERROR(VLOOKUP($U11,'Distribution (large) tables'!$D$57:$S$66,14,FALSE),"-") -> 23.300971 | W11: =IFERROR(VLOOKUP($U11,'Distribution (large) tables'!$D$45:$S$51,14,FALSE),"-") -> - | X11: =IFERROR(VLOOKUP($U11,'Distribution (large) tables'!$D$31:$S$39,14,FALSE),"-") -> 4.5735476 | Y11: =IFERROR(VLOOKUP($U11,'Distribution (large) tables'!$D$18:$S$25,14,FALSE),"-") -> 21.574803 | Z11: =IFERROR(VLOOKUP($U11,'Distribution (large) tables'!$D$3:$S$12,14,FALSE),"-") -> 7.1515892
C12: D165 | D12: =IFERROR(VLOOKUP($C12,'Distribution (large) tables'!$D$57:$S$66,13,FALSE),"-") -> 2.5887095 | E12: =IFERROR(VLOOKUP($C12,'Distribution (large) tables'!$D$45:$S$51,13,FALSE),"-") -> 1.5673981 | F12: =IFERROR(VLOOKUP($C12,'Distribution (large) tables'!$D$31:$S$39,13,FALSE),"-") -> 1.3910355 | G12: =IFERROR(VLOOKUP($C12,'Distribution (large) tables'!$D$18:$S$25,13,FALSE),"-") -> 1.3986014 | H12: =IFERROR(VLOOKUP($C12,'Distribution (large) tables'!$D$3:$S$12,13,FALSE),"-") -> 1.3360648 | L12: =C12 -> D165 | M12: =IFERROR(VLOOKUP($L12,'Distribution (large) tables'!$D$57:$S$66,10,FALSE),"-") -> 0.55472347 | N12: =IFERROR(VLOOKUP($L12,'Distribution (large) tables'!$D$45:$S$51,10,FALSE),"-") -> 0.54858934 | O12: =IFERROR(VLOOKUP($L12,'Distribution (large) tables'!$D$31:$S$39,10,FALSE),"-") -> 0.54095827 | P12: =IFERROR(VLOOKUP($L12,'Distribution (large) tables'!$D$18:$S$25,10,FALSE),"-") -> 0.31080031 | Q12: =IFERROR(VLOOKUP($L12,'Distribution (large) tables'!$D$3:$S$12,10,FALSE),"-") -> 0.80163891 | U12: =L12 -> D165 | V12: =IFERROR(VLOOKUP($U12,'Distribution (large) tables'!$D$57:$S$66,14,FALSE),"-") -> 18.583236 | W12: =IFERROR(VLOOKUP($U12,'Distribution (large) tables'!$D$45:$S$51,14,FALSE),"-") -> 33.934169 | X12: =IFERROR(VLOOKUP($U12,'Distribution (large) tables'!$D$31:$S$39,14,FALSE),"-") -> 14.374034 | Y12: =IFERROR(VLOOKUP($U12,'Distribution (large) tables'!$D$18:$S$25,14,FALSE),"-") -> 3.1080031 | Z12: =IFERROR(VLOOKUP($U12,'Distribution (large) tables'!$D$3:$S$12,14,FALSE),"-") -> 14.696713
C13: D170 | D13: =IFERROR(VLOOKUP($C13,'Distribution (large) tables'!$D$57:$S$66,13,FALSE),"-") -> 0.91533181 | E13: =IFERROR(VLOOKUP($C13,'Distribution (large) tables'!$D$45:$S$51,13,FALSE),"-") -> 1.1709602 | F13: =IFERROR(VLOOKUP($C13,'Distribution (large) tables'!$D$31:$S$39,13,FALSE),"-") -> 0.64377682 | G13: =IFERROR(VLOOKUP($C13,'Distribution (large) tables'!$D$18:$S$25,13,FALSE),"-") -> 1.3089005 | H13: =IFERROR(VLOOKUP($C13,'Distribution (large) tables'!$D$3:$S$12,13,FALSE),"-") -> 2.5 | L13: =C13 -> D170 | M13: =IFERROR(VLOOKUP($L13,'Distribution (large) tables'!$D$57:$S$66,10,FALSE),"-") -> 0.68649886 | N13: =IFERROR(VLOOKUP($L13,'Distribution (large) tables'!$D$45:$S$51,10,FALSE),"-") -> 1.1709602 | O13: =IFERROR(VLOOKUP($L13,'Distribution (large) tables'!$D$31:$S$39,10,FALSE),"-") -> 0.42918455 | P13: =IFERROR(VLOOKUP($L13,'Distribution (large) tables'!$D$18:$S$25,10,FALSE),"-") -> 0.52356021 | Q13: =IFERROR(VLOOKUP($L13,'Distribution (large) tables'!$D$3:$S$12,10,FALSE),"-") -> 1.75 | U13: =L13 -> D170 | V13: =IFERROR(VLOOKUP($U13,'Distribution (large) tables'!$D$57:$S$66,14,FALSE),"-") -> 3.4324943 | W13: =IFERROR(VLOOKUP($U13,'Distribution (large) tables'!$D$45:$S$51,14,FALSE),"-") -> 7.7283372 | X13: =IFERROR(VLOOKUP($U13,'Distribution (large) tables'!$D$31:$S$39,14,FALSE),"-") -> 1.9313305 | Y13: =IFERROR(VLOOKUP($U13,'Distribution (large) tables'!$D$18:$S$25,14,FALSE),"-") -> 1.0471204 | Z13: =IFERROR(VLOOKUP($U13,'Distribution (large) tables'!$D$3:$S$12,14,FALSE),"-") -> 22.75
C14: D180 | D14: =IFERROR(VLOOKUP($C14,'Distribution (large) tables'!$D$57:$S$66,13,FALSE),"-") -> 5.106383 | E14: =IFERROR(VLOOKUP($C14,'Distribution (large) tables'!$D$45:$S$51,13,FALSE),"-") -> 10.25 | F14: =IFERROR(VLOOKUP($C14,'Distribution (large) tables'!$D$31:$S$39,13,FALSE),"-") -> 4.3032787 | G14: =IFERROR(VLOOKUP($C14,'Distribution (large) tables'!$D$18:$S$25,13,FALSE),"-") -> 3.4482759 | H14: =IFERROR(VLOOKUP($C14,'Distribution (large) tables'!$D$3:$S$12,13,FALSE),"-") -> 1.7578125 | L14: =C14 -> D180 | M14: =IFERROR(VLOOKUP($L14,'Distribution (large) tables'!$D$57:$S$66,10,FALSE),"-") -> 1.7021277 | N14: =IFERROR(VLOOKUP($L14,'Distribution (large) tables'!$D$45:$S$51,10,FALSE),"-") -> 4.75 | O14: =IFERROR(VLOOKUP($L14,'Distribution (large) tables'!$D$31:$S$39,10,FALSE),"-") -> 2.0491803 | P14: =IFERROR(VLOOKUP($L14,'Distribution (large) tables'!$D$18:$S$25,10,FALSE),"-") -> 1.6227181 | Q14: =IFERROR(VLOOKUP($L14,'Distribution (large) tables'!$D$3:$S$12,10,FALSE),"-") -> 1.171875 | U14: =L14 -> D180 | V14: =IFERROR(VLOOKUP($U14,'Distribution (large) tables'!$D$57:$S$66,14,FALSE),"-") -> 10.780142 | W14: =IFERROR(VLOOKUP($U14,'Distribution (large) tables'!$D$45:$S$51,14,FALSE),"-") -> 1.25 | X14: =IFERROR(VLOOKUP($U14,'Distribution (large) tables'!$D$31:$S$39,14,FALSE),"-") -> 0 | Y14: =IFERROR(VLOOKUP($U14,'Distribution (large) tables'!$D$18:$S$25,14,FALSE),"-") -> 0 | Z14: =IFERROR(VLOOKUP($U14,'Distribution (large) tables'!$D$3:$S$12,14,FALSE),"-") -> 0
C15: D185 | D15: =IFERROR(VLOOKUP($C15,'Distribution (large) tables'!$D$57:$S$66,13,FALSE),"-") -> 0.34662045 | E15: =IFERROR(VLOOKUP($C15,'Distribution (large) tables'!$D$45:$S$51,13,FALSE),"-") -> - | F15: =IFERROR(VLOOKUP($C15,'Distribution (large) tables'!$D$31:$S$39,13,FALSE),"-") -> - | G15: =IFERROR(VLOOKUP($C15,'Distribution (large) tables'!$D$18:$S$25,13,FALSE),"-") -> - | H15: =IFERROR(VLOOKUP($C15,'Distribution (large) tables'!$D$3:$S$12,13,FALSE),"-") -> - | L15: =C15 -> D185 | M15: =IFERROR(VLOOKUP($L15,'Distribution (large) tables'!$D$57:$S$66,10,FALSE),"-") -> 0.17331023 | N15: =IFERROR(VLOOKUP($L15,'Distribution (large) tables'!$D$45:$S$51,10,FALSE),"-") -> - | O15: =IFERROR(VLOOKUP($L15,'Distribution (large) tables'!$D$31:$S$39,10,FALSE),"-") -> - | P15: =IFERROR(VLOOKUP($L15,'Distribution (large) tables'!$D$18:$S$25,10,FALSE),"-") -> - | Q15: =IFERROR(VLOOKUP($L15,'Distribution (large) tables'!$D$3:$S$12,10,FALSE),"-") -> - | U15: =L15 -> D185 | V15: =IFERROR(VLOOKUP($U15,'Distribution (large) tables'!$D$57:$S$66,14,FALSE),"-") -> 10.745234 | W15: =IFERROR(VLOOKUP($U15,'Distribution (large) tables'!$D$45:$S$51,14,FALSE),"-") -> - | X15: =IFERROR(VLOOKUP($U15,'Distribution (large) tables'!$D$31:$S$39,14,FALSE),"-") -> - | Y15: =IFERROR(VLOOKUP($U15,'Distribution (large) tables'!$D$18:$S$25,14,FALSE),"-") -> - | Z15: =IFERROR(VLOOKUP($U15,'Distribution (large) tables'!$D$3:$S$12,14,FALSE),"-") -> -
B16: Distribution ≥ 250 FTEs | D16: ='Distribution (large) tables'!$P67 -> 2.7434278 | E16: ='Distribution (large) tables'!$P52 -> 4.1193182 | F16: ='Distribution (large) tables'!$P40 -> 1.8373925 | G16: ='Distribution (large) tables'!$P26 -> 1.7758919 | H16: ='Distribution (large) tables'!$P13 -> 1.7818038 | K16: Distribution ≥ 250 FTEs | M16: ='Distribution (large) tables'!$M67 -> 1.131664 | N16: ='Distribution (large) tables'!$M52 -> 1.5056818 | O16: ='Distribution (large) tables'!$M40 -> 0.69112927 | P16: ='Distribution (large) tables'!$M26 -> 0.77007701 | Q16: ='Distribution (large) tables'!$M13 -> 0.76168714 | T16: Distribution ≥ 250 FTEs | V16: ='Distribution (large) tables'!$Q67 -> 22.564693 | W16: ='Distribution (large) tables'!$Q52 -> 24.943182 | X16: ='Distribution (large) tables'!$Q40 -> 5.7313159 | Y16: ='Distribution (large) tables'!$Q26 -> 7.5750432 | Z16: ='Distribution (large) tables'!$Q13 -> 9.2286558
B17: Distribution Total | D17: ='Distribution (large) tables'!$P68 -> 2.7246186 | E17: ='Distribution (large) tables'!$P53 -> 4.1265927 | F17: ='Distribution (large) tables'!$P41 -> 1.9010179 | G17: ='Distribution (large) tables'!$P27 -> 2.1019509 | H17: ='Distribution (large) tables'!$P14 -> 1.9852941 | K17: Distribution Total | M17: ='Distribution (large) tables'!$M68 -> 1.1873338 | N17: ='Distribution (large) tables'!$M53 -> 1.7427045 | O17: ='Distribution (large) tables'!$M41 -> 0.85732178 | P17: ='Distribution (large) tables'!$M27 -> 0.94398993 | Q17: ='Distribution (large) tables'!$M14 -> 0.99789916 | T17: Distribution Total | V17: ='Distribution (large) tables'!$Q68 -> 23.121763 | W17: ='Distribution (large) tables'!$Q53 -> 20.086313 | X17: ='Distribution (large) tables'!$Q41 -> 6.8709992 | Y17: ='Distribution (large) tables'!$Q27 -> 8.6217747 | Z17: ='Distribution (large) tables'!$Q14 -> 10.819328
B18: Industry Total | D18: ='Distribution (large) tables'!$P69 -> 2.2594618 | E18: ='Distribution (large) tables'!$P54 -> 3.6798943 | F18: ='Distribution (large) tables'!$P42 -> 1.6668514 | G18: ='Distribution (large) tables'!$P28 -> 1.8646728 | H18: ='Distribution (large) tables'!$P15 -> 1.6817799 | K18: Industry Total | M18: ='Distribution (large) tables'!$M69 -> 0.92021717 | N18: ='Distribution (large) tables'!$M54 -> 1.3640142 | O18: ='Distribution (large) tables'!$M42 -> 0.74174888 | P18: ='Distribution (large) tables'!$M28 -> 0.84030318 | Q18: ='Distribution (large) tables'!$M15 -> 0.82651578 | T18: Industry Total | V18: ='Distribution (large) tables'!$Q69 -> 17.34445 | W18: ='Distribution (large) tables'!$Q54 -> 16.905435 | X18: ='Distribution (large) tables'!$Q42 -> 6.775751 | Y18: ='Distribution (large) tables'!$Q28 -> 9.2033206 | Z18: ='Distribution (large) tables'!$Q15 -> 9.2929122
B20: Select your respondent code -> | G20: 5 | K20: Select your respondent code -> | P20: 8 | T20: Select your respondent code -> | Y20: 1
D21: 1 | E21: 2 | F21: 3 | G21: 4 | H21: 5 | M21: 1 | N21: 2 | O21: 3 | P21: 4 | Q21: 5 | V21: 1 | W21: 2 | X21: 3 | Y21: 4 | Z21: 5
B23: TRIFR Respondent | D23: =D4 -> 2020 | E23: =E4 -> 2021 | F23: =F4 -> 2022 | G23: =G4 -> 2023 | H23: =H4 -> 2024 | K23: LTIFR Respondent | M23: =M4 -> 2020 | N23: =N4 -> 2021 | O23: =O4 -> 2022 | P23: =P4 -> 2023 | Q23: =Q4 -> 2024 | T23: LTISR Respondent | V23: =V4 -> 2020 | W23: =W4 -> 2021 | X23: =X4 -> 2022 | Y23: =Y4 -> 2023 | Z23: =Z4 -> 2024
B24: =INDEX($C$5:$C$15,$G$20,1) -> D120 | D24: =INDEX($D$5:$H$15,$G$20,D$21) -> 7.7441077 | E24: =INDEX($D$5:$H$15,$G$20,E$21) -> 3.75 | F24: =INDEX($D$5:$H$15,$G$20,F$21) -> 1.1385631 | G24: =INDEX($D$5:$H$15,$G$20,G$21) -> 1.2944984 | H24: =INDEX($D$5:$H$15,$G$20,H$21) -> 1.5438906 | K24: =INDEX($L$5:$L$15,$P$20,1) -> D165 | M24: =INDEX($M$5:$Q$15,$P$20,M$21) -> 0.55472347 | N24: =INDEX($M$5:$Q$15,$P$20,N$21) -> 0.54858934 | O24: =INDEX($M$5:$Q$15,$P$20,O$21) -> 0.54095827 | P24: =INDEX($M$5:$Q$15,$P$20,P$21) -> 0.31080031 | Q24: =INDEX($M$5:$Q$15,$P$20,Q$21) -> 0.80163891 | T24: =INDEX($U$5:$U$15,$Y$20,1) -> D60 | V24: =INDEX($V$5:$Z$15,$Y$20,V$21) -> 8.277027 | W24: =INDEX($V$5:$Z$15,$Y$20,W$21) -> 41.621622 | X24: =INDEX($V$5:$Z$15,$Y$20,X$21) -> 0 | Y24: =INDEX($V$5:$Z$15,$Y$20,Y$21) -> 0.2853067 | Z24: =INDEX($V$5:$Z$15,$Y$20,Z$21) -> 9.5483871
B25: Large-size distribution | D25: =D16 -> 2.7434278 | E25: =E16 -> 4.1193182 | F25: =F16 -> 1.8373925 | G25: =G16 -> 1.7758919 | H25: =H16 -> 1.7818038 | K25: Large-size distribution | M25: =M16 -> 1.131664 | N25: =N16 -> 1.5056818 | O25: =O16 -> 0.69112927 | P25: =P16 -> 0.77007701 | Q25: =Q16 -> 0.76168714 | T25: Large-size distribution | V25: =V16 -> 22.564693 | W25: =W16 -> 24.943182 | X25: =X16 -> 5.7313159 | Y25: =Y16 -> 7.5750432 | Z25: =Z16 -> 9.2286558
B26: Distribution Total | D26: =D17 -> 2.7246186 | E26: =E17 -> 4.1265927 | F26: =F17 -> 1.9010179 | G26: =G17 -> 2.1019509 | H26: =H17 -> 1.9852941 | K26: Distribution Total | M26: =M17 -> 1.1873338 | N26: =N17 -> 1.7427045 | O26: =O17 -> 0.85732178 | P26: =P17 -> 0.94398993 | Q26: =Q17 -> 0.99789916 | T26: Distribution Total | V26: =V17 -> 23.121763 | W26: =W17 -> 20.086313 | X26: =X17 -> 6.8709992 | Y26: =Y17 -> 8.6217747 | Z26: =Z17 -> 10.819328
B27: Industry Total | D27: =D18 -> 2.2594618 | E27: =E18 -> 3.6798943 | F27: =F18 -> 1.6668514 | G27: =G18 -> 1.8646728 | H27: =H18 -> 1.6817799 | K27: Industry Total | M27: =M18 -> 0.92021717 | N27: =N18 -> 1.3640142 | O27: =O18 -> 0.74174888 | P27: =P18 -> 0.84030318 | Q27: =Q18 -> 0.82651578 | T27: Industry Total | V27: =V18 -> 17.34445 | W27: =W18 -> 16.905435 | X27: =X18 -> 6.775751 | Y27: =Y18 -> 9.2033206 | Z27: =Z18 -> 9.2929122
