Workbook
Name InputOrgGroupingByYear: [1]Input!$AR$2:$AR$1031
Name LTIFRBySector: OFFSET('[1]Tables by Sector'!$BS$3,0,0,COUNTA('[1]Tables by Sector'!$BS:$BS)-1,6)
Name LTISRBySector: OFFSET('[1]Tables by Sector'!$DS$4,0,0,COUNTA('[1]Tables by Sector'!$DS:$DS)-1,6)
Name MTIFRBySector: OFFSET('[1]Tables by Sector'!$BE$3,0,0,COUNTA('[1]Tables by Sector'!$BE:$BE)-1,6)
Name RWIFRBySector: OFFSET('[2]Tables by Sector'!$BK$3,0,0,COUNTA('[2]Tables by Sector'!$BK:$BK)-1,6)
Name RWISRBySector: OFFSET('[2]Tables by Sector'!$CW$4,0,0,COUNTA('[2]Tables by Sector'!$CW:$CW)-1,6)
Name TRIFRBySector: OFFSET('[1]Tables by Sector'!$BZ$3,0,0,COUNTA('[1]Tables by Sector'!$BZ:$BZ)-1,6)

Sheet Contents
B3: Electricity Supply Industry - Safety Performance Trends and Benchmark by Sector and Peer Groups
B4: Four years to 30 June 2019*
C6: This benchmarking document is provided by the EEA to survey respondents. It complements the 2018 ESI Safety Performance Indicators Report and enables respondents to extract data, tables and graphs for internal use and reporting. Information contained in this document are confidential and should not be made accessible outside of the participating ESI companies, to the public, or to government agencies.
C9: All frequency and severity rates gathered in this document are based on 200,000 hours worked (equivalent to 100 FTEs), and all reporting years end on 30 June.
C10: Note that LTI data and related indicators do not include Fatalities, as defined in the 2018 EEA survey specifications.
C11: * Benchmarking data is provided stating at 2015 because calculations for severity rates now use calendar days rather than working days. This information is only available starting from 2015
C13: The table of contents below contains hyperlinks that will direct you to the appropriate spreadsheets and cells.
B15: Table of Contents
C17: 1. Industry summary data
D18: Full summary table of industry data for YE 2019, 2018, 2017 and 2016 | K18: Select year in drop-down list in table
D19: Table: Fatalities by Sector since 2004 | H19: Graph: ESI LTI number and LTIFR since 2009
D20: Table: LTIs by Sector since 2009 | H20: Graph: LTIFR by Sector since 2009
D21: Table: LTIFR by Sector since 2009 | H21: Graph: LTIFR by Sector and FTE Grouping since 2009
D22: Table: LTISR by Sector since 2016 | H22: Graph: LTISR by Sector since 2016
D23: Table: ATLR to LTIs by Sector since 2016 | H23: Graph: ATLR to LTIs by Sector since 2016
C24: 2. Individual Respondents Benchmark Tables
D25: Full benchmark tables for YE 2019, 2018, 2017 and 2016 for each peer group:
E26: Generation sector
E27: Transmission sector
E28: Small-size distribution sector (less than 100 employees)
E29: Medium-size distribution sector (between 100 and 250 employees)
E30: Large-size distribution sector (more than 250 employees)
C31: 3. Individual Respondents Benchmark Graphs
D32: TRIFR, LTIFR and LTISR benchmark graphs for YE 2019, 2018, 2017 and 2016 for each peer group:
E33: Generation sector | L33: Select respondent code in drop-down list in tables
E34: Transmission sector
E35: Small-size distribution sector (less than 100 employees)
E36: Medium-size distribution sector (between 100 and 250 employees)
E37: Large-size distribution sector (more than 250 employees)
D38: Note: LTIFR data available in the white area (left), LTISR data on the grey area (right) of the sheet
C40: Note to Distribution respondents: Distribution respondents that have switched peer groups in previous years will find their LTIFR and LTISR benchmark results among the tables in the peer groups to which they belonged in previous years. Their LTIFR and LTISR charts are however inserted among the peer group in which they belong in 2018.
C42: Abbreviations and formulas used in this document:
C43: General
C44: NCD | D44: No Contractor Data provided
C45: CNU | D45: Contractors Not Used
C46: FTE | D46: Full-time Equivalent Employees. One full-time employee is considered to work 40 hours a week, 50 weeks a year.
C47: Injuries or illnesses
C48: LTI | D48: Lost Time Injury or Illness
C49: RWI | D49: Restricted Work Injury or Illness
C50: MTI | D50: Medical Treatment Injury or Illness
C51: TRI | D51: Total Recordable Injury (Sum of Fatality, LTI, RWI and MTI)
C52: Frequency rates
C53: LTIFR | D53: Lost Time Injury Frequency Rate = (Number of LTIs * 200,000) / (Number of FTEs * 2,000)
C54: RWIFR | D54: Restricted Work Injury Frequency Rate = (Number of RWIs * 200,000) / (Number of FTEs * 2,000)
C55: MTIFR | D55: Medical Treatment Injury Frequency Rate = (Number of MTIs * 200,000) / (Number of FTEs * 2,000)
C56: TRIFR | D56: Total Recordable Injury Frequency Rate = (Number of TRIs * 200,000) / (Number of FTEs * 2,000)
D57: Note that industry and sector RWIFR and TRIFR results have been reviewed manually to only account for FTEs that are covered by RWI reporting.
C58: Severity rates
C59: LTISR | D59: Lost Time Injury Severity Rate = (Number of calendar days away from work * 200,000) / (Number of FTEs * 2,000)
C60: RWISR | D60: Restricted Work Injury Severity Rate = (Number of calendar days on restricted work * 200,000) / (Number of FTEs * 2,000)
C61: ATLR to LTIs | D61: Average Time Lost Rate to LTIs = Number of calendar days lost to LTIs / Number of LTIs

Sheet All Industry - Data
A1: Year ended 2019 | B1: 1
A2: Year ended 2018 | B2: 2
A3: Year ended 2017 | B3: 3 | C3: Year ended 2018 | D3: FTEs | E3: Fatalities | F3: LTIs | G3: RWIs | H3: MTIs | I3: TRIs | J3: Days Lost to LTIs | K3: Days of Restricted Work | L3: LTIFR | M3: RWIFR | N3: MTIFR | O3: TRIFR | P3: LTISR | Q3: RWISR | R3: ATLR to LTIs
A4: Year ended 2016 | B4: 4 | C4: Generation | D4: 4911.1 | E4: 0 | F4: 28 | G4: 8 | H4: 15 | I4: 51 | J4: 284 | K4: 75 | L4: 0.57013704 | M4: 0.1628963 | N4: 0.30543056 | O4: 1.0384639 | P4: 5.7828185 | Q4: 1.5271528 | R4: 10.142857
C5: Transmission | D5: 1816.5 | E5: 0 | F5: 10 | G5: 7 | H5: 8 | I5: 25 | J5: 64 | K5: 36 | L5: 0.55050922 | M5: 0.38535645 | N5: 0.44040738 | O5: 1.3762731 | P5: 3.523259 | Q5: 1.9818332 | R5: 6.4
C6: Distribution < 100 employees | D6: 617.7 | E6: 0 | F6: 12 | G6: 2 | H6: 12 | I6: 26 | J6: 197.7 | K6: 58 | L6: 1.9426906 | M6: 0.32378177 | N6: 1.9426906 | O6: 4.209163 | P6: 32.005828 | Q6: 9.3896714 | R6: 16.475
C7: Distribution ≥ 100 and < 250 empl. | D7: 1375 | E7: 0 | F7: 23 | G7: 8 | H7: 23 | I7: 54 | J7: 336 | K7: 43 | L7: 1.6727273 | M7: 0.58181818 | N7: 1.6727273 | O7: 3.9272727 | P7: 24.436364 | Q7: 3.1272727 | R7: 14.608696
C8: Distribution ≥ 250 employees | D8: 4618 | E8: 0 | F8: 52 | G8: 40 | H8: 50 | I8: 142 | J8: 782 | K8: 355 | L8: 1.1260286 | M8: 0.86617583 | N8: 1.0827198 | O8: 3.0749242 | P8: 16.933738 | Q8: 7.6873105 | R8: 15.038462
C9: Distribution total | D9: 6610.7 | E9: 0 | F9: 87 | G9: 50 | H9: 85 | I9: 222 | J9: 1315.7 | K9: 456 | L9: 1.3160482 | M9: 0.75634955 | N9: 1.2857942 | O9: 3.358192 | P9: 19.902582 | Q9: 6.8979079 | R9: 15.122989
C10: Industry | D10: 13338.3 | E10: 0 | F10: 125 | G10: 65 | H10: 108 | I10: 298 | J10: 2030.5 | K10: 914 | L10: 0.93715091 | M10: 0.48731847 | N10: 0.80969839 | O10: 2.2341678 | P10: 15.223079 | Q10: 6.8524475 | R10: 16.244
C12: Year ended 2018 | D12: FTEs | E12: Fatalities | F12: LTIs | G12: RWIs | H12: MTIs | I12: TRIs | J12: Days Lost to LTIs | K12: Days of Restricted Work | L12: LTIFR | M12: RWIFR | N12: MTIFR | O12: TRIFR | P12: LTISR | Q12: RWISR | R12: ATLR to LTIs
C13: Generation | D13: 5948.8746 | E13: 0 | F13: 39 | G13: 21 | H13: 28 | I13: 88 | J13: 298 | K13: 219 | L13: 0.65558618 | M13: 0.35300794 | N13: 0.47067726 | O13: 1.4792714 | P13: 5.0093508 | Q13: 3.6813686 | R13: 7.6410256
C14: Transmission | D14: 1713.6 | E14: 0 | F14: 4 | G14: 5 | H14: 11 | I14: 20 | J14: 27 | K14: 36 | L14: 0.2334267 | M14: 0.29178338 | N14: 0.64192344 | O14: 1.1671335 | P14: 1.5756303 | Q14: 2.1008403 | R14: 6.75
C15: Distribution < 100 employees | D15: 433 | E15: 0 | F15: 13 | G15: 3 | H15: 10 | I15: 26 | J15: 304.5 | K15: 2 | L15: 3.0023095 | M15: 0.69284065 | N15: 2.3094688 | O15: 6.0046189 | P15: 70.323326 | Q15: 0.46189376 | R15: 23.423077
C16: Distribution ≥ 100 and < 250 empl. | D16: 1136 | E16: 0 | F16: 22 | G16: 1 | H16: 30 | I16: 53 | J16: 570 | K16: 5 | L16: 1.9366197 | M16: 0.088028169 | N16: 2.6408451 | O16: 4.665493 | P16: 50.176056 | Q16: 0.44014085 | R16: 25.909091
C17: Distribution ≥ 250 employees | D17: 4133.55 | E17: 0 | F17: 58 | G17: 30 | H17: 85 | I17: 173 | J17: 831 | K17: 652 | L17: 1.4031523 | M17: 0.72576841 | N17: 2.0563438 | O17: 4.1852645 | P17: 20.103785 | Q17: 15.773367 | R17: 14.327586
C18: Distribution total | D18: 5702.55 | E18: 0 | F18: 93 | G18: 34 | H18: 125 | I18: 252 | J18: 1705.5 | K18: 659 | L18: 1.6308494 | M18: 0.5962245 | N18: 2.1920018 | O18: 4.4190757 | P18: 29.907673 | Q18: 11.556234 | R18: 18.33871
C19: Industry | D19: 13365.025 | E19: 0 | F19: 136 | G19: 60 | H19: 164 | I19: 360 | J19: 2030.5 | K19: 914 | L19: 1.0175814 | M19: 0.44893296 | N19: 1.2270834 | O19: 2.6935977 | P19: 15.192639 | Q19: 6.8387454 | R19: 14.930147
C21: Year ended 2017 | D21: FTEs | E21: Fatalities | F21: LTIs | G21: RWIs | H21: MTIs | I21: TRIs | J21: Days Lost to LTIs | K21: Days of Restricted Work | L21: LTIFR | M21: RWIFR | N21: MTIFR | O21: TRIFR | P21: LTISR | Q21: RWISR | R21: ATLR to LTIs
C22: Generation | D22: 6310.5025 | E22: 0 | F22: 32 | G22: 8 | H22: 57 | I22: 97 | J22: 317 | K22: 137 | L22: 0.50709115 | M22: 0.12677279 | N22: 0.90325612 | O22: 1.5371201 | P22: 5.0233718 | Q22: 2.170984 | R22: 9.90625
C23: Transmission | D23: 1705.4053 | E23: 0 | F23: 3 | G23: 2 | H23: 12 | I23: 17 | J23: 221 | K23: 24 | L23: 0.17591126 | M23: 0.11727417 | N23: 0.70364503 | O23: 0.99683046 | P23: 12.958796 | Q23: 1.4072901 | R23: 73.666667
C24: Distribution < 100 employees | D24: 433.085 | E24: 0 | F24: 15 | G24: 1 | H24: 7 | I24: 23 | J24: 425 | K24: 5 | L24: 3.4635233 | M24: 0.23090156 | N24: 1.6163109 | O24: 5.3107358 | P24: 98.133161 | Q24: 1.1545078 | R24: 28.333333
C25: Distribution ≥ 100 and < 250 empl. | D25: 1747 | E25: 0 | F25: 43 | G25: 9 | H25: 26 | I25: 78 | J25: 528 | K25: 226 | L25: 2.4613623 | M25: 0.51516886 | N25: 1.4882656 | O25: 4.4647968 | P25: 30.22324 | Q25: 12.936463 | R25: 12.27907
C26: Distribution ≥ 250 employees | D26: 3101.75 | E26: 0 | F26: 32 | G26: 5 | H26: 46 | I26: 83 | J26: 612 | K26: 311 | L26: 1.0316757 | M26: 0.16119932 | N26: 1.4830338 | O26: 2.6759088 | P26: 19.730797 | Q26: 10.026598 | R26: 19.125
C27: Distribution total | D27: 5281.835 | E27: 0 | F27: 90 | G27: 15 | H27: 79 | I27: 184 | J27: 1565 | K27: 542 | L27: 1.7039533 | M27: 0.28399221 | N27: 1.4956923 | O27: 3.4836378 | P27: 29.629854 | Q27: 10.261585 | R27: 17.388889
C28: Industry | D28: 13297.743 | E28: 0 | F28: 125 | G28: 25 | H28: 148 | I28: 298 | J28: 2103 | K28: 703 | L28: 0.94000915 | M28: 0.18800183 | N28: 1.1129708 | O28: 2.2409818 | P28: 15.814714 | Q28: 5.2866115 | R28: 16.824
C30: Year ended 2016 | D30: FTEs | E30: Fatalities | F30: LTIs | G30: RWIs | H30: MTIs | I30: TRIs | J30: Days Lost to LTIs | K30: Days of Restricted Work | L30: LTIFR | M30: RWIFR | N30: MTIFR | O30: TRIFR | P30: LTISR | Q30: RWISR | R30: ATLR to LTIs
C31: Generation | D31: 5772.5395 | E31: 0 | F31: 25 | G31: 16 | H31: 42 | I31: 83 | J31: 432 | K31: 560 | L31: 0.43308495 | M31: 0.27717437 | N31: 0.72758272 | O31: 1.437842 | P31: 7.483708 | Q31: 9.701103 | R31: 17.28
C32: Transmission | D32: 1674.3002 | E32: 0 | F32: 8 | G32: 0 | H32: 18 | I32: 26 | J32: 160 | K32: 0 | L32: 0.47781158 | M32: 0 | N32: 1.0750761 | O32: 1.5528876 | P32: 9.5562316 | Q32: 0 | R32: 20
C33: Distribution < 100 employees | D33: 345.5 | E33: 0 | F33: 12 | G33: 0 | H33: 12 | I33: 24 | J33: 63 | K33: 47 | L33: 3.4732272 | M33: 0 | N33: 3.4732272 | O33: 6.9464544 | P33: 18.234443 | Q33: 13.603473 | R33: 5.25
C34: Distribution ≥ 100 and < 250 empl. | D34: 1633.695 | E34: 0 | F34: 37 | G34: 13 | H34: 43 | I34: 93 | J34: 533 | K34: 255 | L34: 2.2648046 | M34: 0.79574217 | N34: 2.6320702 | O34: 5.692617 | P34: 32.625429 | Q34: 15.608789 | R34: 14.405405
C35: Distribution ≥ 250 employees | D35: 3273 | E35: 0 | F35: 27 | G35: 4 | H35: 64 | I35: 95 | J35: 861 | K35: 96 | L35: 0.82493126 | M35: 0.12221204 | N35: 1.9553926 | O35: 2.9025359 | P35: 26.306141 | Q35: 2.9330889 | R35: 31.888889
C36: Distribution total | D36: 5252.195 | E36: 0 | F36: 76 | G36: 17 | H36: 119 | I36: 212 | J36: 1457 | K36: 398 | L36: 1.4470141 | M36: 0.3236742 | N36: 2.2657194 | O36: 4.0364076 | P36: 27.740783 | Q36: 7.5777841 | R36: 19.171053
C37: Industry | D37: 12699.035 | E37: 0 | F37: 109 | G37: 33 | H37: 179 | I37: 321 | J37: 2049 | K37: 958 | L37: 0.85833296 | M37: 0.25986227 | N37: 1.409556 | O37: 2.5277512 | P37: 16.135085 | Q37: 7.5438805 | R37: 18.798165

Sheet All Industry
B2: Electricity Supply Industry - Summary of safety data and performance indicators
B3: 1 | C3: FTEs | D3: Fatalities | E3: LTIs | F3: RWIs | G3: MTIs | H3: TRIs | I3: Days Lost to LTIs | J3: Days of Restricted Work | K3: LTIFR | L3: RWIFR | M3: MTIFR | N3: TRIFR | O3: LTISR | P3: RWISR | Q3: ATLR to LTIs
B4: Generation | C4: =OFFSET('All Industry - Data'!D4,($B$3-1)*9,0) -> 4911.1 | D4: =OFFSET('All Industry - Data'!E4,($B$3-1)*9,0) -> 0 | E4: =OFFSET('All Industry - Data'!F4,($B$3-1)*9,0) -> 28 | F4: =OFFSET('All Industry - Data'!G4,($B$3-1)*9,0) -> 8 | G4: =OFFSET('All Industry - Data'!H4,($B$3-1)*9,0) -> 15 | H4: =OFFSET('All Industry - Data'!I4,($B$3-1)*9,0) -> 51 | I4: =OFFSET('All Industry - Data'!J4,($B$3-1)*9,0) -> 284 | J4: =OFFSET('All Industry - Data'!K4,($B$3-1)*9,0) -> 75 | ... Q4: =OFFSET('All Industry - Data'!R4,($B$3-1)*9,0) -> 10.142857
B5: Transmission | C5: =OFFSET('All Industry - Data'!D5,($B$3-1)*9,0) -> 1816.5 | D5: =OFFSET('All Industry - Data'!E5,($B$3-1)*9,0) -> 0 | E5: =OFFSET('All Industry - Data'!F5,($B$3-1)*9,0) -> 10 | F5: =OFFSET('All Industry - Data'!G5,($B$3-1)*9,0) -> 7 | G5: =OFFSET('All Industry - Data'!H5,($B$3-1)*9,0) -> 8 | H5: =OFFSET('All Industry - Data'!I5,($B$3-1)*9,0) -> 25 | I5: =OFFSET('All Industry - Data'!J5,($B$3-1)*9,0) -> 64 | J5: =OFFSET('All Industry - Data'!K5,($B$3-1)*9,0) -> 36 | ... Q5: =OFFSET('All Industry - Data'!R5,($B$3-1)*9,0) -> 6.4
B6: Distribution < 100 employees | C6: =OFFSET('All Industry - Data'!D6,($B$3-1)*9,0) -> 617.7 | D6: =OFFSET('All Industry - Data'!E6,($B$3-1)*9,0) -> 0 | E6: =OFFSET('All Industry - Data'!F6,($B$3-1)*9,0) -> 12 | F6: =OFFSET('All Industry - Data'!G6,($B$3-1)*9,0) -> 2 | G6: =OFFSET('All Industry - Data'!H6,($B$3-1)*9,0) -> 12 | H6: =OFFSET('All Industry - Data'!I6,($B$3-1)*9,0) -> 26 | I6: =OFFSET('All Industry - Data'!J6,($B$3-1)*9,0) -> 197.7 | J6: =OFFSET('All Industry - Data'!K6,($B$3-1)*9,0) -> 58 | ... Q6: =OFFSET('All Industry - Data'!R6,($B$3-1)*9,0) -> 16.475
B7: Distribution ≥ 100 and < 250 empl. | C7: =OFFSET('All Industry - Data'!D7,($B$3-1)*9,0) -> 1375 | D7: =OFFSET('All Industry - Data'!E7,($B$3-1)*9,0) -> 0 | E7: =OFFSET('All Industry - Data'!F7,($B$3-1)*9,0) -> 23 | F7: =OFFSET('All Industry - Data'!G7,($B$3-1)*9,0) -> 8 | G7: =OFFSET('All Industry - Data'!H7,($B$3-1)*9,0) -> 23 | H7: =OFFSET('All Industry - Data'!I7,($B$3-1)*9,0) -> 54 | I7: =OFFSET('All Industry - Data'!J7,($B$3-1)*9,0) -> 336 | J7: =OFFSET('All Industry - Data'!K7,($B$3-1)*9,0) -> 43 | ... Q7: =OFFSET('All Industry - Data'!R7,($B$3-1)*9,0) -> 14.608696
B8: Distribution ≥ 250 employees | C8: =OFFSET('All Industry - Data'!D8,($B$3-1)*9,0) -> 4618 | D8: =OFFSET('All Industry - Data'!E8,($B$3-1)*9,0) -> 0 | E8: =OFFSET('All Industry - Data'!F8,($B$3-1)*9,0) -> 52 | F8: =OFFSET('All Industry - Data'!G8,($B$3-1)*9,0) -> 40 | G8: =OFFSET('All Industry - Data'!H8,($B$3-1)*9,0) -> 50 | H8: =OFFSET('All Industry - Data'!I8,($B$3-1)*9,0) -> 142 | I8: =OFFSET('All Industry - Data'!J8,($B$3-1)*9,0) -> 782 | J8: =OFFSET('All Industry - Data'!K8,($B$3-1)*9,0) -> 355 | ... Q8: =OFFSET('All Industry - Data'!R8,($B$3-1)*9,0) -> 15.038462
B9: Distribution total | C9: =OFFSET('All Industry - Data'!D9,($B$3-1)*9,0) -> 6610.7 | D9: =OFFSET('All Industry - Data'!E9,($B$3-1)*9,0) -> 0 | E9: =OFFSET('All Industry - Data'!F9,($B$3-1)*9,0) -> 87 | F9: =OFFSET('All Industry - Data'!G9,($B$3-1)*9,0) -> 50 | G9: =OFFSET('All Industry - Data'!H9,($B$3-1)*9,0) -> 85 | H9: =OFFSET('All Industry - Data'!I9,($B$3-1)*9,0) -> 222 | I9: =OFFSET('All Industry - Data'!J9,($B$3-1)*9,0) -> 1315.7 | J9: =OFFSET('All Industry - Data'!K9,($B$3-1)*9,0) -> 456 | ... Q9: =OFFSET('All Industry - Data'!R9,($B$3-1)*9,0) -> 15.122989
B10: Industry | C10: =OFFSET('All Industry - Data'!D10,($B$3-1)*9,0) -> 13338.3 | D10: =OFFSET('All Industry - Data'!E10,($B$3-1)*9,0) -> 0 | E10: =OFFSET('All Industry - Data'!F10,($B$3-1)*9,0) -> 125 | F10: =OFFSET('All Industry - Data'!G10,($B$3-1)*9,0) -> 65 | G10: =OFFSET('All Industry - Data'!H10,($B$3-1)*9,0) -> 108 | H10: =OFFSET('All Industry - Data'!I10,($B$3-1)*9,0) -> 298 | I10: =OFFSET('All Industry - Data'!J10,($B$3-1)*9,0) -> 2030.5 | J10: =OFFSET('All Industry - Data'!K10,($B$3-1)*9,0) -> 914 | ... Q10: =OFFSET('All Industry - Data'!R10,($B$3-1)*9,0) -> 16.244
B12: Fatalities by Sector
B13: Year End | C13: Generation | D13: Transmission | E13: Distribution | F13: Industry Total
B14: 2004 | C14: 0 | D14: 1 | E14: 0 | F14: 1
B15: 2005 | C15: 0 | D15: 1 | E15: 1 | F15: 2
B16: 2006 | C16: 0 | D16: 0 | E16: 0 | F16: 0
B17: 2007 | C17: 0 | D17: 0 | E17: 1 | F17: 1
B18: 2008 | C18: 0 | D18: 0 | E18: 2 | F18: 2
B19: 2009 | C19: 0 | D19: 0 | E19: 0 | F19: 0
B20: 2010 | C20: 0 | D20: 0 | E20: 1 | F20: 1
B21: 2011 | C21: 0 | D21: 1 | E21: 1 | F21: 2
B22: 2012 | C22: 0 | D22: 0 | E22: 0 | F22: 0
B23: 2013 | C23: 0 | D23: 1 | E23: 1 | F23: 2
B24: 2014 | C24: 0 | D24: 0 | E24: 0 | F24: 0
B25: 2015 | C25: 0 | D25: 0 | E25: 0 | F25: 0
... B29: 2019 | C29: 0 | D29: 0 | E29: 0 | F29: 0
B31: LTIs by Sector
B32: Year End | C32: Generation | D32: Transmission | E32: Distribution < 100 FTEs | F32: Distribution >=100, < 250 FTEs | G32: Distribution >= 250 FTEs | H32: Distribution Total | I32: Industry Total
B33: 2009 | C33: 40 | D33: 5 | E33: 40 | F33: 61 | G33: 21 | H33: 122 | I33: 167
B34: 2010 | C34: 44 | D34: 7 | E34: 33 | F34: 60 | G34: 27 | H34: 120 | I34: 171
B35: 2011 | C35: 34 | D35: 12 | E35: 27 | F35: 46 | G35: 18 | H35: 91 | I35: 137
B36: 2012 | C36: 22 | D36: 9 | E36: 30 | F36: 44 | G36: 24 | H36: 98 | I36: 129
B37: 2013 | C37: 24 | D37: 12 | E37: 14 | F37: 56 | G37: 30 | H37: 100 | I37: 136
B38: 2014 | C38: 25 | D38: 15 | E38: 17 | F38: 40 | G38: 18 | H38: 75 | I38: 115
B39: 2015 | C39: 29 | D39: 13 | E39: 15 | F39: 42 | G39: 41 | H39: 98 | I39: 140
B40: 2016 | C40: 25 | D40: 8 | E40: 12 | F40: 37 | G40: 27 | H40: 76 | I40: 109
B41: 2017 | C41: 32 | D41: 3 | E41: 15 | F41: 43 | G41: 32 | H41: 90 | I41: 125
B42: 2018 | C42: 39 | D42: 4 | E42: 13 | F42: 22 | G42: 58 | H42: 93 | I42: 136
B43: 2019 | C43: 28 | D43: 10 | E43: 12 | F43: 23 | G43: 52 | H43: 87 | I43: 125
B45: LTIFR by Sector
B46: Year End | C46: Generation | D46: Transmission | E46: Distribution < 100 FTEs | F46: Distribution >=100, < 250 FTEs | G46: Distribution >= 250 FTEs | H46: Distribution Total | I46: Industry Total
B47: 2009 | C47: 0.71792663 | D47: 0.38314176 | E47: 6.3979527 | F47: 4.561191 | G47: 1.0515774 | H47: 3.0811426 | I47: 1.5411349
B48: 2010 | C48: 1.0114943 | D48: 0.42321644 | E48: 5.4771784 | F48: 3.6057042 | G48: 1.1563169 | H48: 2.6078283 | I48: 1.6123664
B49: 2011 | C49: 0.82095859 | D49: 0.58309038 | E49: 5.4140766 | F49: 2.9485289 | G49: 0.66716086 | H49: 1.9130508 | I49: 1.2504221
B50: 2012 | C50: 0.42924271 | D50: 0.34272658 | E50: 5.7859209 | F50: 3.1689877 | G50: 0.79654829 | H50: 1.9918877 | I50: 1.0180518
B51: 2013 | C51: 0.40805416 | D51: 0.46493607 | E51: 4.20042 | F51: 2.9528483 | G51: 1.0087424 | H51: 1.9216822 | I51: 0.99514529
B52: 2014 | C52: 0.45069548 | D52: 0.81132213 | E52: 2.9668412 | F52: 2.2891166 | G52: 0.60224839 | H52: 1.4126425 | I52: 0.90515433
B53: 2015 | C53: 0.50384289 | D53: 0.71029307 | E53: 5.6137725 | F53: 2.1880596 | G53: 1.3107417 | H53: 1.8439392 | I53: 1.0852123
B54: 2016 | C54: 0.43308495 | D54: 0.47781158 | E54: 3.4732272 | F54: 2.2648046 | G54: 0.82493126 | H54: 1.4470141 | I54: 0.85833296
B55: 2017 | C55: 0.50709115 | D55: 0.17591126 | E55: 3.4635233 | F55: 2.4613623 | G55: 1.0316757 | H55: 1.7039533 | I55: 0.94000915
B56: 2018 | C56: 0.65558618 | D56: 0.2334267 | E56: 3.0023095 | F56: 1.9366197 | G56: 1.4031523 | H56: 1.6308494 | I56: 1.0175814
B57: 2019 | C57: 0.57013704 | D57: 0.55050922 | E57: 1.9426906 | F57: 1.6727273 | G57: 1.1260286 | H57: 1.3160482 | I57: 0.93715091
B59: LTISR by Sector (in calendar days)
B60: Year End | C60: Generation | D60: Transmission | E60: Distribution < 100 FTEs | F60: Distribution >=100, < 250 FTEs | G60: Distribution >= 250 FTEs | H60: Distribution Total | I60: Industry Total
B61: 2016 | C61: 7.483708 | D61: 9.5562316 | E61: 18.234443 | F61: 32.625429 | G61: 26.306141 | H61: 27.740783 | I61: 16.135085
B62: 2017 | C62: 5.0233718 | D62: 12.958796 | E62: 98.133161 | F62: 30.22324 | G62: 19.730797 | H62: 29.629854 | I62: 15.814714
B63: 2018 | C63: 5.0093508 | D63: 1.5756303 | E63: 70.323326 | F63: 50.176056 | G63: 20.103785 | H63: 29.907673 | I63: 15.192639
B64: 2019 | C64: 5.7828185 | D64: 3.523259 | E64: 32.005828 | F64: 24.436364 | G64: 16.933738 | H64: 19.902582 | I64: 15.223079
B66: ATLR to LTIs by Sector (in calendar days)
B67: Year End | C67: Generation | D67: Transmission | E67: Distribution < 100 FTEs | F67: Distribution >= 100, < 250 FTEs | G67: Distribution >= 250 FTEs | H67: Distribution Total | I67: Industry Total
B68: 2016 | C68: 17.28 | D68: 20 | E68: 5.25 | F68: 14.405405 | G68: 31.888889 | H68: 19.171053 | I68: 18.798165
B69: 2017 | C69: 9.90625 | D69: 73.666667 | E69: 28.333333 | F69: 12.27907 | G69: 19.125 | H69: 17.388889 | I69: 16.824
B70: 2018 | C70: 7.6410256 | D70: 6.75 | E70: 23.423077 | F70: 25.909091 | G70: 14.327586 | H70: 18.33871 | I70: 14.930147
B71: 2019 | C71: 10.142857 | D71: 6.4 | E71: 16.475 | F71: 14.608696 | G71: 15.038462 | H71: 15.122989 | I71: 13.3096

Sheet Generation tables
B2: Generation YE June 2019 | D2: Code | E2: FTEs | F2: Fatalities | G2: LTIs | H2: RWIs | I2: MTIs | J2: TRIs | K2: Days Lost to LTIs | L2: Days of Restricted Work | M2: LTIFR | N2: RWIFR | O2: MTIFR | P2: TRIFR | Q2: LTISR | R2: RWISR | S2: ATLR to LTIs
B3: Peer group respondents | D3: G10 | E3: 723.3 | F3: 0 | G3: 8 | H3: 0 | I3: 4 | J3: 12 | K3: 61 | L3: 0 | M3: 1.1060418 | N3: 0 | O3: 0.55302088 | P3: 1.6590626 | Q3: 8.4335684 | R3: 0 | S3: 8.6
D4: G12 | E4: 2 | F4: 0 | G4: 0 | H4: 0 | I4: 0 | J4: 0 | K4: 0 | L4: 0 | M4: 0 | N4: 0 | O4: 0 | P4: 0 | Q4: 0 | R4: 0
D5: G15 | E5: 818 | F5: 0 | G5: 1 | H5: 0 | I5: 2 | J5: 3 | K5: 7 | L5: 0 | M5: 0.12224939 | N5: 0 | O5: 0.24449878 | P5: 0.36674817 | Q5: 0.85574572 | R5: 0 | S5: 9.5555556
D6: G20 | E6: 82 | F6: 0 | G6: 2 | H6: 0 | I6: 0 | J6: 2 | K6: 117 | L6: 0 | M6: 2.4390244 | N6: 0 | O6: 0 | P6: 2.4390244 | Q6: 142.68293 | R6: 0 | S6: 2
D7: G25 | E7: 984.8 | F7: 0 | G7: 4 | H7: 1 | I7: 3 | J7: 8 | K7: 17 | L7: 8 | M7: 0.40617384 | N7: 0.10154346 | O7: 0.30463038 | P7: 0.81234768 | Q7: 1.7262388 | R7: 0.81234768 | S7: 3.7777778
D8: G35 | E8: 1127 | F8: 0 | G8: 5 | H8: 2 | I8: 1 | J8: 8 | K8: 54 | L8: 9 | M8: 0.44365572 | N8: 0.17746229 | O8: 0.088731145 | P8: 0.70984916 | Q8: 4.7914818 | R8: 0.7985803 | S8: 6.4545455
D9: G40 | E9: 1138 | F9: 0 | G9: 5 | H9: 4 | I9: 3 | J9: 12 | K9: 22 | L9: 30 | M9: 0.43936731 | N9: 0.35149385 | O9: 0.26362039 | P9: 1.0544815 | Q9: 1.9332162 | R9: 2.6362039 | S9: 15.5
D10: G50 | E10: 25 | F10: 0 | G10: 3 | H10: 1 | I10: 1 | J10: 5 | K10: 6 | L10: 28 | M10: 12 | N10: 4 | O10: 4 | P10: 20 | Q10: 24 | R10: 112 | S10: 0
D11: G55 | E11: 9 (CNU) | F11: 0 | G11: 0 | H11: 0 | I11: 1 | J11: 1 | K11: 0 | L11: 0 | M11: 0 | N11: 0 | O11: 11.111111 | P11: 11.111111 | Q11: 0 | R11: 0 | S11: 0
D12: G60 | E12: 2 | F12: 0 | G12: 0 | H12: 0 | I12: 0 | J12: 0 | K12: 0 | L12: 0 | M12: 0 | N12: 0 | O12: 0 | P12: 0 | Q12: 0 | R12: 0 | S12: 0
B13: Peer group summary | E13: 4911.1 | F13: 0 | G13: 28 | H13: 8 | I13: 15 | J13: 51 | K13: 284 | L13: 75 | M13: 0.57013704 | N13: 0.1628963 | O13: 0.30543056 | P13: 1.0384639 | Q13: 5.7828185 | R13: 1.5271528 | S13: 10.142857
B14: Industry summary | E14: 13338.3 | F14: 0 | G14: 125 | H14: 65 | I14: 108 | J14: 298 | K14: 2030.5 | L14: 914 | M14: 0.93715091 | N14: 0.48731847 | O14: 0.80969839 | P14: 2.2341678 | Q14: 15.223079 | R14: 6.8524475 | S14: 16.244
B16: Generation YE June 2018 | D16: Code | E16: FTEs | F16: Fatalities | G16: LTIs | H16: RWIs | I16: MTIs | J16: TRIs | K16: Days Lost to LTIs | L16: Days of Restricted Work | M16: LTIFR | N16: RWIFR | O16: MTIFR | P16: TRIFR | Q16: LTISR | R16: RWISR | S16: ATLR to LTIs
B17: Peer group respondents | D17: G10 | E17: 706.26062 | F17: 0 | G17: 5 | H17: 1 | I17: 2 | J17: 8 | K17: 43 | L17: 8 | M17: 0.70795396 | N17: 0.14159079 | O17: 0.28318158 | P17: 1.1327263 | Q17: 6.0884041 | R17: 1.1327263 | S17: 8.6
D18: G15 | E18: 806.3415 | F18: 0 | G18: 9 | H18: 0 | I18: 11 | J18: 20 | K18: 86 | L18: 0 | M18: 1.1161524 | N18: 0 | O18: 1.3641863 | P18: 2.4803387 | Q18: 10.665456 | R18: 0 | S18: 9.5555556
D19: G20 | E19: 18 | F19: 0 | G19: 1 | H19: 1 | I19: 2 | J19: 4 | K19: 2 | L19: 0 | M19: 5.5555556 | N19: 5.5555556 | O19: 11.111111 | P19: 22.222222 | Q19: 11.111111 | R19: 0 | S19: 2
D20: G25 | E20: 1262.723 | F20: 0 | G20: 9 | H20: 3 | I20: 4 | J20: 16 | K20: 34 | L20: 14 | M20: 0.71274539 | N20: 0.2375818 | O20: 0.31677573 | P20: 1.2671029 | Q20: 2.6925937 | R20: 1.1087151 | S20: 3.7777778
D21: G35 | E21: 1561.0805 | F21: 0 | G21: 11 | H21: 4 | I21: 4 | J21: 19 | K21: 71 | L21: 87 | M21: 0.70464015 | N21: 0.25623278 | O21: 0.25623278 | P21: 1.2171057 | Q21: 4.5481319 | R21: 5.573063 | S21: 6.4545455
D22: G40 | E22: 1555.469 | F22: 0 | G22: 4 | H22: 12 | I22: 5 | J22: 21 | K22: 62 | L22: 110 | M22: 0.25715717 | N22: 0.7714715 | O22: 0.32144646 | P22: 1.3500751 | Q22: 3.9859361 | R22: 7.0718221 | S22: 15.5
D23: G50 | E23: 27 | F23: 0 | G23: 0 | H23: 0 | I23: 0 | J23: 0 | K23: 0 | L23: 0 | M23: 0 | N23: 0 | O23: 0 | P23: 0 | Q23: 0 | R23: 0 | S23: 0
D24: G55 | E24: 8 (CNU) | F24: 0 | G24: 0 | H24: 0 | I24: 0 | J24: 0 | K24: 0 | L24: 0 | M24: 0 | N24: 0 | O24: 0 | P24: 0 | Q24: 0 | R24: 0 | S24: 0
D25: G60 | E25: 2 | F25: 0 | G25: 0 | H25: 0 | I25: 0 | J25: 0 | K25: 0 | L25: 0 | M25: 0 | N25: 0 | O25: 0 | P25: 0 | Q25: 0 | R25: 0 | S25: 0
D26: G65 | E26: 2 | F26: 0 | G26: 0 | H26: 0 | I26: 0 | J26: 0 | K26: 0 | L26: 0 | M26: 0 | N26: 0 | O26: 0 | P26: 0 | Q26: 0 | R26: 0 | S26: 0
B27: Peer group summary | E27: 5948.8746 | F27: 0 | G27: 39 | H27: 21 | I27: 28 | J27: 88 | K27: 298 | L27: 219 | M27: 0.65558618 | N27: 0.35300794 | O27: 0.35300794 | P27: 1.4792714 | Q27: 7.6410256 | R27: 3.6813686 | S27: 7.6410256
B28: Industry summary | E28: 13365.025 | F28: 0 | G28: 136 | H28: 60 | I28: 164 | J28: 360 | K28: 2030.5 | L28: 914 | M28: 1.0175814 | N28: 0.44893296 | O28: 1.2270834 | P28: 2.6935977 | Q28: 15.192639 | R28: 6.8387454 | S28: 14.930147
B30: Generation YE June 2017 | D30: Code | E30: FTEs | F30: Fatalities | G30: LTIs | H30: RWIs | I30: MTIs | J30: TRIs | K30: Days Lost to LTIs | L30: Days of Restricted Work | M30: LTIFR | N30: RWIFR | O30: MTIFR | P30: TRIFR | Q30: LTISR | R30: RWISR | S30: ATLR to LTIs
B31: Peer group respondents | D31: G10 | E31: 962.337 | F31: 0 | G31: 1 | H31: 1 | I31: 4 | J31: 6 | K31: 53 | L31: 10 | M31: 0.1039137 | N31: 0.1039137 | O31: 0.41565481 | P31: 0.62348221 | Q31: 5.5074262 | R31: 1.039137 | S31: 53
D32: G11 | E32: 74 | F32: 0 | G32: 0 | H32: 0 | I32: 0 | J32: 0 | K32: 0 | L32: 0 | M32: 0 | N32: 0 | O32: 0 | P32: 0 | Q32: 0 | R32: 0 | S32: 0
D33: G15 | E33: 801.159 | F33: 0 | G33: 9 | H33: 0 | I33: 18 | J33: 27 | K33: 110 | L33: 0 | M33: 1.1233725 | N33: 0 | O33: 2.246745 | P33: 3.3701175 | Q33: 13.730109 | R33: 0 | S33: 12.222222
D34: G20 | E34: 14.5 (NCD) | F34: 0 | G34: 0 | H34: 0 | I34: 0 | J34: 0 | K34: 0 | L34: 0 | M34: 0 | N34: 0 | O34: 0 | P34: 0 | Q34: 0 | R34: 0 | S34: 0
D35: G25 | E35: 1236.4735 | F35: 0 | G35: 10 | H35: 1 | I35: 11 | J35: 22 | K35: 89 | L35: 17 | M35: 0.80875166 | N35: 0.080875166 | O35: 0.88962683 | P35: 1.7792537 | Q35: 7.1978898 | R35: 1.3748778 | S35: 8.9
D36: G35 | E36: 1855.1605 | F36: 0 | G36: 7 | H36: 3 | I36: 3 | J36: 13 | K36: 63 | L36: 17 | M36: 0.37732584 | N36: 0.16171108 | O36: 0.16171108 | P36: 0.70074799 | Q36: 3.3959326 | R36: 0.91636276 | S36: 9
D37: G40 | E37: 1275.5875 | F37: 0 | G37: 2 | H37: 3 | I37: 5 | J37: 10 | K37: 1 | L37: 93 | M37: 0.1567905 | N37: 0.23518575 | O37: 0.39197625 | P37: 0.78395249 | Q37: 0.078395249 | R37: 7.2907582 | S37: 0.5
D38: G50 | E38: 91.285 | F38: 0 | G38: 3 | H38: 0 | I38: 16 | J38: 19 | K38: 1 | L38: 0 | M38: 3.2864107 | N38: 0 | O38: 17.527524 | P38: 20.813934 | Q38: 1.0954702 | R38: 0 | S38: 0.33333333
B39: Peer group summary | E39: 6310.5025 | F39: 0 | G39: 32 | H39: 8 | I39: 57 | J39: 97 | K39: 0 | L39: 0 | M39: 0.50709115 | N39: 0.12677279 | O39: 0.12677279 | P39: 1.5371201 | Q39: 0 | R39: 0 | S39: 0
B40: Industry summary | E40: 13297.743 | F40: 0 | G40: 125 | H40: 25 | I40: 148 | J40: 298 | K40: 2103 | L40: 703 | M40: 0.94000915 | N40: 0.18800183 | O40: 1.1129708 | P40: 2.2409818 | Q40: 15.814714 | R40: 5.2866115 | S40: 16.824
B42: Generation YE June 2016 | D42: Code | E42: FTEs | F42: Fatalities | G42: LTIs | H42: RWIs | I42: MTIs | J42: TRIs | K42: Days Lost to LTIs | L42: Days of Restricted Work | M42: LTIFR | N42: RWIFR | O42: MTIFR | P42: TRIFR | Q42: LTISR | R42: RWISR | S42: ATLR to LTIs
B43: Peer group respondents | D43: G10 | E43: 740.59 | F43: 0 | G43: 6 | H43: 2 | I43: 7 | J43: 15 | K43: 99 | L43: 309 | M43: 0.81016487 | N43: 0.27005496 | O43: 0.94519235 | P43: 2.0254122 | Q43: 13.36772 | R43: 41.723491 | S43: 16.5
D44: G11 | E44: 7 | F44: 0 | G44: 0 | H44: 0 | I44: 0 | J44: 0 | K44: 0 | L44: 0 | M44: 0 | N44: 0 | O44: 0 | P44: 0 | Q44: 0 | R44: 0 | S44: 0
D45: G12 | E45: 1 (CNU) | F45: 0 | G45: 0 | H45: 0 | I45: 2 | J45: 2 | K45: 0 | L45: 0 | M45: 0 | N45: 0 | O45: 200 | P45: 200 | Q45: 0 | R45: 0 | S45: 0
D46: G15 | E46: 829.511 | F46: 0 | G46: 2 | H46: 0 | I46: 13 | J46: 15 | K46: 28 | L46: 0 | M46: 0.2411059 | N46: 0 | O46: 1.5671884 | P46: 1.8082943 | Q46: 3.3754827 | R46: 0 | S46: 14
D47: G20 | E47: 12 (NCD) | F47: 0 | G47: 0 | H47: 0 | I47: 0 | J47: 0 | K47: 0 | L47: 0 | M47: 0 | N47: 0 | O47: 0 | P47: 0 | Q47: 0 | R47: 0 | S47: 0
D48: G25 | E48: 1124.963 | F48: 0 | G48: 5 | H48: 2 | I48: 6 | J48: 13 | K48: 134 | L48: 21 | M48: 0.44445906 | N48: 0.17778362 | O48: 0.53335087 | P48: 1.1555936 | Q48: 11.911503 | R48: 1.8667281 | S48: 26.8
D49: G35 | E49: 1984.95 | F49: 0 | G49: 6 | H49: 9 | I49: 9 | J49: 24 | K49: 59 | L49: 99 | M49: 0.30227462 | N49: 0.45341192 | O49: 0.45341192 | P49: 1.2090985 | Q49: 2.9723671 | R49: 4.9875312 | S49: 9.8333333
D50: G40 | E50: 1072.5255 | F50: 0 | G50: 6 | H50: 3 | I50: 5 | J50: 14 | K50: 112 | L50: 131 | M50: 0.55942726 | N50: 0.27971363 | O50: 0.46618938 | P50: 1.3053303 | Q50: 10.442642 | R50: 12.214162 | S50: 18.666667
B51: Peer group summary | E51: 5772.5395 | F51: 0 | G51: 25 | H51: 16 | I51: 42 | J51: 83 | K51: 432 | L51: 560 | M51: 0.43308495 | N51: 0.27717437 | O51: 0.27717437 | P51: 1.437842 | Q51: 17.28 | R51: 9.701103 | S51: 17.28
B52: Industry summary | E52: 12699.035 | F52: 0 | G52: 109 | H52: 33 | I52: 179 | J52: 321 | K52: 2049 | L52: 958 | M52: 0.85833296 | N52: 0.25986227 | O52: 1.409556 | P52: 2.5277512 | Q52: 16.135085 | R52: 7.5438805 | S52: 18.798165

Sheet Generation graphs
B2: Total Recordable Injury Frequency Rate | J2: Lost Time Injury Frequency Rate | R2: Lost Time Injury Severity Rate
B3: TRIFR - 5-year results - Generation peer group | D3: Year Ended | J3: LTIFR - 5-year results - Generation peer group | R3: LTISR - 5-year results - Generation peer group
D4: 2016 | E4: 2017 | F4: 2018 | G4: 2019 | L4: 2016 | M4: 2017 | N4: 2018 | O4: 2019 | T4: 2016 | U4: 2017 | V4: 2018 | W4: 2019
B5: Respondent code | C5: G10 | D5: =VLOOKUP($C5,'Generation tables'!$D$43:$S$50,13,FALSE) -> 2.0254122 | E5: =VLOOKUP($C5,'Generation tables'!$D$31:$S$38,13,FALSE) -> 0.62348221 | F5: =VLOOKUP($C5,'Generation tables'!$D$17:$S$26,13,FALSE) -> 1.1327263 | G5: =VLOOKUP($C5,'Generation tables'!$D$3:$S$12,13,FALSE) -> 1.6590626 | J5: Respondent code | K5: G10 | L5: =VLOOKUP($K5,'Generation tables'!$D$43:$S$50,10,FALSE) -> 0.81016487 | M5: =VLOOKUP($K5,'Generation tables'!$D$31:$S$38,10,FALSE) -> 0.1039137 | N5: =VLOOKUP($K5,'Generation tables'!$D$17:$S$26,10,FALSE) -> 0.70795396 | O5: =VLOOKUP($K5,'Generation tables'!$D$3:$S$12,10,FALSE) -> 1.1060418 | R5: Respondent code | S5: G10 | T5: =VLOOKUP($S5,'Generation tables'!$D$43:$S$50,14,FALSE) -> 13.36772 | U5: =VLOOKUP($S5,'Generation tables'!$D$31:$S$38,14,FALSE) -> 5.5074262 | V5: =VLOOKUP($S5,'Generation tables'!$D$17:$S$26,14,FALSE) -> 6.0884041 | W5: =VLOOKUP($S5,'Generation tables'!$D$3:$S$12,14,FALSE) -> 8.4335684
C6: G12 | D6: - | E6: - | F6: - | G6: =VLOOKUP($C6,'Generation tables'!$D$3:$S$12,13,FALSE) -> 0 | K6: G12 | L6: - | M6: - | N6: - | O6: =VLOOKUP($K6,'Generation tables'!$D$3:$S$12,10,FALSE) -> 0 | S6: G12 | T6: - | U6: - | V6: - | W6: =VLOOKUP($S6,'Generation tables'!$D$3:$S$12,14,FALSE) -> 0
C7: G15 | D7: =VLOOKUP($C7,'Generation tables'!$D$43:$S$50,13,FALSE) -> 1.8082943 | E7: =VLOOKUP($C7,'Generation tables'!$D$31:$S$38,13,FALSE) -> 3.3701175 | F7: =VLOOKUP($C7,'Generation tables'!$D$17:$S$26,13,FALSE) -> 2.4803387 | G7: =VLOOKUP($C7,'Generation tables'!$D$3:$S$12,13,FALSE) -> 0.36674817 | K7: G15 | L7: =VLOOKUP($K7,'Generation tables'!$D$43:$S$50,10,FALSE) -> 0.2411059 | M7: =VLOOKUP($K7,'Generation tables'!$D$31:$S$38,10,FALSE) -> 1.1233725 | N7: =VLOOKUP($K7,'Generation tables'!$D$17:$S$26,10,FALSE) -> 1.1161524 | O7: =VLOOKUP($K7,'Generation tables'!$D$3:$S$12,10,FALSE) -> 0.12224939 | S7: G15 | T7: =VLOOKUP($S7,'Generation tables'!$D$43:$S$50,14,FALSE) -> 3.3754827 | U7: =VLOOKUP($S7,'Generation tables'!$D$31:$S$38,14,FALSE) -> 13.730109 | V7: =VLOOKUP($S7,'Generation tables'!$D$17:$S$26,14,FALSE) -> 10.665456 | W7: =VLOOKUP($S7,'Generation tables'!$D$3:$S$12,14,FALSE) -> 0.85574572
C8: G20 | D8: =VLOOKUP($C8,'Generation tables'!$D$43:$S$50,13,FALSE) -> 0 | E8: =VLOOKUP($C8,'Generation tables'!$D$31:$S$38,13,FALSE) -> 0 | F8: =VLOOKUP($C8,'Generation tables'!$D$17:$S$26,13,FALSE) -> 22.222222 | G8: =VLOOKUP($C8,'Generation tables'!$D$3:$S$12,13,FALSE) -> 2.4390244 | K8: G20 | L8: =VLOOKUP($K8,'Generation tables'!$D$43:$S$50,10,FALSE) -> 0 | M8: =VLOOKUP($K8,'Generation tables'!$D$31:$S$38,10,FALSE) -> 0 | N8: =VLOOKUP($K8,'Generation tables'!$D$17:$S$26,10,FALSE) -> 5.5555556 | O8: =VLOOKUP($K8,'Generation tables'!$D$3:$S$12,10,FALSE) -> 2.4390244 | S8: G20 | T8: =VLOOKUP($S8,'Generation tables'!$D$43:$S$50,14,FALSE) -> 0 | U8: =VLOOKUP($S8,'Generation tables'!$D$31:$S$38,14,FALSE) -> 0 | V8: =VLOOKUP($S8,'Generation tables'!$D$17:$S$26,14,FALSE) -> 11.111111 | W8: =VLOOKUP($S8,'Generation tables'!$D$3:$S$12,14,FALSE) -> 142.68293
C9: G25 | D9: =VLOOKUP($C9,'Generation tables'!$D$43:$S$50,13,FALSE) -> 1.1555936 | E9: =VLOOKUP($C9,'Generation tables'!$D$31:$S$38,13,FALSE) -> 1.7792537 | F9: =VLOOKUP($C9,'Generation tables'!$D$17:$S$26,13,FALSE) -> 1.2671029 | G9: =VLOOKUP($C9,'Generation tables'!$D$3:$S$12,13,FALSE) -> 0.81234768 | K9: G25 | L9: =VLOOKUP($K9,'Generation tables'!$D$43:$S$50,10,FALSE) -> 0.44445906 | M9: =VLOOKUP($K9,'Generation tables'!$D$31:$S$38,10,FALSE) -> 0.80875166 | N9: =VLOOKUP($K9,'Generation tables'!$D$17:$S$26,10,FALSE) -> 0.71274539 | O9: =VLOOKUP($K9,'Generation tables'!$D$3:$S$12,10,FALSE) -> 0.40617384 | S9: G25 | T9: =VLOOKUP($S9,'Generation tables'!$D$43:$S$50,14,FALSE) -> 11.911503 | U9: =VLOOKUP($S9,'Generation tables'!$D$31:$S$38,14,FALSE) -> 7.1978898 | V9: =VLOOKUP($S9,'Generation tables'!$D$17:$S$26,14,FALSE) -> 2.6925937 | W9: =VLOOKUP($S9,'Generation tables'!$D$3:$S$12,14,FALSE) -> 1.7262388
C10: G35 | D10: =VLOOKUP($C10,'Generation tables'!$D$43:$S$50,13,FALSE) -> 1.2090985 | E10: =VLOOKUP($C10,'Generation tables'!$D$31:$S$38,13,FALSE) -> 0.70074799 | F10: =VLOOKUP($C10,'Generation tables'!$D$17:$S$26,13,FALSE) -> 1.2171057 | G10: =VLOOKUP($C10,'Generation tables'!$D$3:$S$12,13,FALSE) -> 0.70984916 | K10: G35 | L10: =VLOOKUP($K10,'Generation tables'!$D$43:$S$50,10,FALSE) -> 0.30227462 | M10: =VLOOKUP($K10,'Generation tables'!$D$31:$S$38,10,FALSE) -> 0.37732584 | N10: =VLOOKUP($K10,'Generation tables'!$D$17:$S$26,10,FALSE) -> 0.70464015 | O10: =VLOOKUP($K10,'Generation tables'!$D$3:$S$12,10,FALSE) -> 0.44365572 | S10: G35 | T10: =VLOOKUP($S10,'Generation tables'!$D$43:$S$50,14,FALSE) -> 2.9723671 | U10: =VLOOKUP($S10,'Generation tables'!$D$31:$S$38,14,FALSE) -> 3.3959326 | V10: =VLOOKUP($S10,'Generation tables'!$D$17:$S$26,14,FALSE) -> 4.5481319 | W10: =VLOOKUP($S10,'Generation tables'!$D$3:$S$12,14,FALSE) -> 4.7914818
C11: G40 | D11: =VLOOKUP($C11,'Generation tables'!$D$43:$S$50,13,FALSE) -> 1.3053303 | E11: =VLOOKUP($C11,'Generation tables'!$D$31:$S$38,13,FALSE) -> 0.78395249 | F11: =VLOOKUP($C11,'Generation tables'!$D$17:$S$26,13,FALSE) -> 1.3500751 | G11: =VLOOKUP($C11,'Generation tables'!$D$3:$S$12,13,FALSE) -> 1.0544815 | K11: G40 | L11: =VLOOKUP($K11,'Generation tables'!$D$43:$S$50,10,FALSE) -> 0.55942726 | M11: =VLOOKUP($K11,'Generation tables'!$D$31:$S$38,10,FALSE) -> 0.1567905 | N11: =VLOOKUP($K11,'Generation tables'!$D$17:$S$26,10,FALSE) -> 0.25715717 | O11: =VLOOKUP($K11,'Generation tables'!$D$3:$S$12,10,FALSE) -> 0.43936731 | S11: G40 | T11: =VLOOKUP($S11,'Generation tables'!$D$43:$S$50,14,FALSE) -> 10.442642 | U11: =VLOOKUP($S11,'Generation tables'!$D$31:$S$38,14,FALSE) -> 0.078395249 | V11: =VLOOKUP($S11,'Generation tables'!$D$17:$S$26,14,FALSE) -> 3.9859361 | W11: =VLOOKUP($S11,'Generation tables'!$D$3:$S$12,14,FALSE) -> 1.9332162
C12: G50 | D12: - | E12: =VLOOKUP($C12,'Generation tables'!$D$31:$S$38,13,FALSE) -> 20.813934 | F12: =VLOOKUP($C12,'Generation tables'!$D$17:$S$26,13,FALSE) -> 0 | G12: =VLOOKUP($C12,'Generation tables'!$D$3:$S$12,13,FALSE) -> 20 | K12: G50 | L12: - | M12: =VLOOKUP($K12,'Generation tables'!$D$31:$S$38,10,FALSE) -> 3.2864107 | N12: =VLOOKUP($K12,'Generation tables'!$D$17:$S$26,10,FALSE) -> 0 | O12: =VLOOKUP($K12,'Generation tables'!$D$3:$S$12,10,FALSE) -> 12 | S12: G50 | T12: - | U12: =VLOOKUP($S12,'Generation tables'!$D$31:$S$38,14,FALSE) -> 1.0954702 | V12: =VLOOKUP($S12,'Generation tables'!$D$17:$S$26,14,FALSE) -> 0 | W12: =VLOOKUP($S12,'Generation tables'!$D$3:$S$12,14,FALSE) -> 24
C13: G55 | D13: - | E13: - | F13: =VLOOKUP($C13,'Generation tables'!$D$17:$S$26,13,FALSE) -> 0 | G13: =VLOOKUP($C13,'Generation tables'!$D$3:$S$12,13,FALSE) -> 11.111111 | K13: G55 | L13: - | M13: - | N13: =VLOOKUP($K13,'Generation tables'!$D$17:$S$26,10,FALSE) -> 0 | O13: =VLOOKUP($K13,'Generation tables'!$D$3:$S$12,10,FALSE) -> 0 | S13: G55 | T13: - | U13: - | V13: =VLOOKUP($S13,'Generation tables'!$D$17:$S$26,14,FALSE) -> 0 | W13: =VLOOKUP($S13,'Generation tables'!$D$3:$S$12,14,FALSE) -> 0
C14: G60 | D14: - | E14: - | F14: =VLOOKUP($C14,'Generation tables'!$D$17:$S$26,13,FALSE) -> 0 | G14: =VLOOKUP($C14,'Generation tables'!$D$3:$S$12,13,FALSE) -> 0 | K14: G60 | L14: - | M14: - | N14: =VLOOKUP($K14,'Generation tables'!$D$17:$S$26,10,FALSE) -> 0 | O14: =VLOOKUP($K14,'Generation tables'!$D$3:$S$12,10,FALSE) -> 0 | S14: G60 | T14: - | U14: - | V14: =VLOOKUP($S14,'Generation tables'!$D$17:$S$26,14,FALSE) -> 0 | W14: =VLOOKUP($S14,'Generation tables'!$D$3:$S$12,14,FALSE) -> 0
C15: G65 | D15: - | E15: - | F15: =VLOOKUP($C15,'Generation tables'!$D$17:$S$26,13,FALSE) -> 0 | G15: - | K15: G65 | L15: - | M15: - | N15: =VLOOKUP($K15,'Generation tables'!$D$17:$S$26,10,FALSE) -> 0 | O15: - | S15: G65 | T15: - | U15: - | V15: =VLOOKUP($S15,'Generation tables'!$D$17:$S$26,14,FALSE) -> 0 | W15: -
B16: Generation | D16: ='Generation tables'!P51 -> 1.437842 | E16: ='Generation tables'!P39 -> 1.5371201 | F16: ='Generation tables'!P27 -> 1.4792714 | G16: ='Generation tables'!P13 -> 1.0384639 | J16: Generation | L16: ='Generation tables'!M51 -> 0.43308495 | M16: ='Generation tables'!M39 -> 0.50709115 | N16: ='Generation tables'!M27 -> 0.65558618 | O16: ='Generation tables'!M13 -> 0.57013704 | R16: Generation | T16: ='Generation tables'!Q51 -> 17.28 | U16: ='Generation tables'!Q39 -> 0 | V16: ='Generation tables'!Q27 -> 7.6410256 | W16: ='Generation tables'!Q13 -> 5.7828185
B17: Industry Total | D17: ='Generation tables'!P52 -> 2.5277512 | E17: ='Generation tables'!P40 -> 2.2409818 | F17: ='Generation tables'!P28 -> 2.6935977 | G17: ='Generation tables'!P14 -> 2.2341678 | J17: Industry Total | L17: ='Generation tables'!M52 -> 0.85833296 | M17: ='Generation tables'!M40 -> 0.94000915 | N17: ='Generation tables'!M28 -> 1.0175814 | O17: ='Generation tables'!M14 -> 0.93715091 | R17: Industry Total | T17: ='Generation tables'!Q52 -> 16.135085 | U17: ='Generation tables'!Q40 -> 15.814714 | V17: ='Generation tables'!Q28 -> 15.192639 | W17: ='Generation tables'!Q14 -> 15.223079
C19: Select your respondent code -> | G19: 1 | K19: Select your respondent code -> | O19: 1 | S19: Select your respondent code -> | W19: 1
D20: 1 | E20: 2 | F20: 3 | G20: 4 | L20: 1 | M20: 2 | N20: 3 | O20: 4 | T20: 1 | U20: 2 | V20: 3 | W20: 4
C22: TRIFR Respondent | D22: 2016 | E22: 2017 | F22: 2018 | G22: 2019 | K22: LTIFR Respondent | L22: 2016 | M22: 2017 | N22: 2018 | O22: 2019 | S22: LTISR Respondent | T22: 2016 | U22: 2017 | V22: 2018 | W22: 2019
C23: =INDEX($C$5:$C$15,$G$19,1) -> G10 | D23: =INDEX($D$5:$G$15,$G$19,D$20) -> 2.0254122 | E23: =INDEX($D$5:$G$15,$G$19,E$20) -> 0.62348221 | F23: =INDEX($D$5:$G$15,$G$19,F$20) -> 1.1327263 | G23: =INDEX($D$5:$G$15,$G$19,G$20) -> 1.6590626 | K23: =INDEX($K$5:$K$15,$O$19,1) -> G10 | L23: =INDEX($L$5:$O$15,$O$19,L$20) -> 0.81016487 | M23: =INDEX($L$5:$O$15,$O$19,M$20) -> 0.1039137 | N23: =INDEX($L$5:$O$15,$O$19,N$20) -> 0.70795396 | O23: =INDEX($L$5:$O$15,$O$19,O$20) -> 1.1060418 | S23: =INDEX($S$5:$S$15,$W$19,1) -> G10 | T23: =INDEX($T$5:$W$15,$W$19,T$20) -> 13.36772 | U23: =INDEX($T$5:$W$15,$W$19,U$20) -> 5.5074262 | V23: =INDEX($T$5:$W$15,$W$19,V$20) -> 6.0884041 | W23: =INDEX($T$5:$W$15,$W$19,W$20) -> 8.4335684
C24: Generation | D24: =D16 -> 1.437842 | E24: =E16 -> 1.5371201 | F24: =F16 -> 1.4792714 | G24: =G16 -> 1.0384639 | K24: Generation | L24: =L16 -> 0.43308495 | M24: =M16 -> 0.50709115 | N24: =N16 -> 0.65558618 | O24: =O16 -> 0.57013704 | S24: Generation | T24: =T16 -> 17.28 | U24: =U16 -> 0 | V24: =V16 -> 7.6410256 | W24: =W16 -> 5.7828185
C25: Industry Total | D25: =D17 -> 2.5277512 | E25: =E17 -> 2.2409818 | F25: =F17 -> 2.6935977 | G25: =G17 -> 2.2341678 | K25: Industry Total | L25: =L17 -> 0.85833296 | M25: =M17 -> 0.94000915 | N25: =N17 -> 1.0175814 | O25: =O17 -> 0.93715091 | S25: Industry Total | T25: =T17 -> 16.135085 | U25: =U17 -> 15.814714 | V25: =V17 -> 15.192639 | W25: =W17 -> 15.223079

Sheet Transmission tables
B2: Transmission YE June 2019 | D2: Code | E2: FTEs | F2: Fatalities | G2: LTIs | H2: RWIs | I2: MTIs | J2: TRIs | K2: Days Lost to LTIs | L2: Days of Restricted Work | M2: LTIFR | N2: RWIFR | O2: MTIFR | P2: TRIFR | Q2: LTISR | R2: RWISR | S2: ATLR to LTIs
B3: Peer group respondents | D3: T45 | E3: 1713.6 | F3: 0 | G3: 4 | H3: 5 | I3: 11 | J3: 20 | K3: 27 | L3: 36 | M3: 0.2334267 | N3: 0.29178338 | O3: 0.64192344 | P3: 1.1671335 | Q3: 1.5756303 | R3: 2.1008403 | S3: 6.75
B4: Peer group summary | E4: 1816.5 | F4: 0 | G4: 10 | H4: 7 | I4: 8 | J4: 25 | K4: 64 | L4: 36 | M4: 0.55050922 | N4: 0.38535645 | O4: 0.44040738 | P4: 1.3762731 | Q4: 3.523259 | R4: 1.9818332 | S4: 6.4
B5: Industry summary | E5: 13338.3 | F5: 0 | G5: 125 | H5: 65 | I5: 108 | J5: 298 | K5: 2030.5 | L5: 914 | M5: 0.93715091 | N5: 0.48731847 | O5: 0.80969839 | P5: 2.2341678 | Q5: 15.223079 | R5: 6.8524475 | S5: 16.244
B7: Transmission YE June 2018 | D7: Code | E7: FTEs | F7: Fatalities | G7: LTIs | H7: RWIs | I7: MTIs | J7: TRIs | K7: Days Lost to LTIs | L7: Days of Restricted Work | M7: LTIFR | N7: RWIFR | O7: MTIFR | P7: TRIFR | Q7: LTISR | R7: RWISR | S7: ATLR to LTIs
B8: Peer group respondents | D8: T45 | E8: 1713.6 | F8: 0 | G8: 4 | H8: 5 | I8: 11 | J8: 20 | K8: 27 | L8: 36 | M8: 0.2334267 | N8: 0.29178338 | O8: 0.64192344 | P8: 1.1671335 | Q8: 1.5756303 | R8: 2.1008403 | S8: 6.75
B9: Peer group summary | E9: 1713.6 | F9: 0 | G9: 4 | H9: 5 | I9: 11 | J9: 20 | K9: 27 | L9: 36 | M9: 0.2334267 | N9: 0.29178338 | O9: 0.64192344 | P9: 1.1671335 | Q9: 1.5756303 | R9: 2.1008403 | S9: 6.75
B10: Industry summary | E10: 13365.025 | F10: 0 | G10: 136 | H10: 60 | I10: 164 | J10: 360 | K10: 2030.5 | L10: 914 | M10: 1.0175814 | N10: 0.44893296 | O10: 1.2270834 | P10: 2.6935977 | Q10: 15.192639 | R10: 6.8387454 | S10: 14.930147
B12: Transmission YE June 2017 | D12: Code | E12: FTEs | F12: Fatalities | G12: LTIs | H12: RWIs | I12: MTIs | J12: TRIs | K12: Days Lost to LTIs | L12: Days of Restricted Work | M12: LTIFR | N12: RWIFR | O12: MTIFR | P12: TRIFR | Q12: LTISR | R12: RWISR | S12: ATLR to LTIs
B13: Peer group respondents | D13: T45 | E13: 1705.4053 | F13: 0 | G13: 3 | H13: 2 | I13: 12 | J13: 17 | K13: 221 | L13: 24 | M13: 0.17591126 | N13: 0.11727417 | O13: 0.70364503 | P13: 0.99683046 | Q13: 12.958796 | R13: 1.4072901 | S13: 73.666667
B14: Peer group summary | E14: 1705.4053 | F14: 0 | G14: 3 | H14: 2 | I14: 12 | J14: 17 | K14: 221 | L14: 24 | M14: 0.17591126 | N14: 0.11727417 | O14: 0.70364503 | P14: 0.99683046 | Q14: 12.958796 | R14: 1.4072901 | S14: 73.666667
B15: Industry summary | E15: 13297.743 | F15: 0 | G15: 125 | H15: 25 | I15: 148 | J15: 298 | K15: 2103 | L15: 703 | M15: 0.94000915 | N15: 0.18800183 | O15: 1.1129708 | P15: 2.2409818 | Q15: 15.814714 | R15: 5.2866115 | S15: 16.824
B17: Transmission YE June 2016 | D17: Code | E17: FTEs | F17: Fatalities | G17: LTIs | H17: RWIs | I17: MTIs | J17: TRIs | K17: Days Lost to LTIs | L17: Days of Restricted Work | M17: LTIFR | N17: RWIFR | O17: MTIFR | P17: TRIFR | Q17: LTISR | R17: RWISR | S17: ATLR to LTIs
B18: Peer group respondents | D18: T45 | E18: 1674.3002 | F18: 0 | G18: 8 | H18: N/A | I18: 18 | J18: 26 | K18: 160 | L18: N/A | M18: 0.47781158 | N18: N/A | O18: 1.0750761 | P18: 1.5528876 | Q18: 9.5562316 | R18: N/A | S18: 20
B19: Peer group summary | E19: 1674.3002 | F19: 0 | G19: 8 | H19: 0 | I19: 18 | J19: 26 | K19: 160 | L19: 0 | M19: 0.47781158 | N19: 0 | O19: 1.0750761 | P19: 1.5528876 | Q19: 9.5562316 | R19: 0 | S19: 20
B20: Industry summary | E20: 12699.035 | F20: 0 | G20: 109 | H20: 33 | I20: 179 | J20: 321 | K20: 2049 | L20: 958 | M20: 0.85833296 | N20: 0.25986227 | O20: 1.409556 | P20: 2.5277512 | Q20: 16.135085 | R20: 7.5438805 | S20: 18.798165

Sheet Transmission graphs
B3: TRIFR - 5-year results - Transmission peer group | C3: Year Ended | I3: LTIFR - 5-year results - Transmission peer group | P3: LTISR - 5-year results - Transmission peer group
C4: 2016 | D4: 2017 | E4: 2018 | F4: 2019 | J4: 2016 | K4: 2017 | L4: 2018 | M4: 2019 | Q4: 2016 | R4: 2017 | S4: 2018 | T4: 2019
B5: T45 / Transmission | C5: ='Transmission tables'!P18 -> 1.5528876 | D5: ='Transmission tables'!P13 -> 0.99683046 | E5: ='Transmission tables'!P8 -> 1.1671335 | F5: ='Transmission tables'!P3 -> 1.1671335 | I5: T45 / Transmission | J5: ='Transmission tables'!M18 -> 0.47781158 | K5: ='Transmission tables'!M13 -> 0.17591126 | L5: ='Transmission tables'!M8 -> 0.2334267 | M5: ='Transmission tables'!M3 -> 0.2334267 | P5: T45 / Transmission | Q5: ='Transmission tables'!Q18 -> 9.5562316 | R5: ='Transmission tables'!Q13 -> 12.958796 | S5: ='Transmission tables'!Q8 -> 1.5756303 | T5: ='Transmission tables'!Q3 -> 1.5756303
B6: Transmission | C6: ='Transmission tables'!P19 -> 1.5528876 | D6: ='Transmission tables'!P14 -> 0.99683046 | E6: ='Transmission tables'!P9 -> 1.1671335 | F6: ='Transmission tables'!P4 -> 1.3762731 | I6: Transmission | J6: ='Transmission tables'!M19 -> 0.47781158 | K6: ='Transmission tables'!M14 -> 0.17591126 | L6: ='Transmission tables'!M9 -> 0.2334267 | M6: ='Transmission tables'!M4 -> 0.55050922 | P6: Transmission | Q6: ='Transmission tables'!Q19 -> 9.5562316 | R6: ='Transmission tables'!Q14 -> 12.958796 | S6: ='Transmission tables'!Q9 -> 1.5756303 | T6: ='Transmission tables'!Q4 -> 3.523259
B7: Industry Total | C7: ='Transmission tables'!P20 -> 2.5277512 | D7: ='Transmission tables'!P15 -> 2.2409818 | E7: ='Transmission tables'!P10 -> 2.6935977 | F7: ='Transmission tables'!P5 -> 2.2341678 | I7: Industry Total | J7: ='Transmission tables'!M20 -> 0.85833296 | K7: ='Transmission tables'!M15 -> 0.94000915 | L7: ='Transmission tables'!M10 -> 1.0175814 | M7: ='Transmission tables'!M5 -> 0.93715091 | P7: Industry Total | Q7: ='Transmission tables'!Q20 -> 16.135085 | R7: ='Transmission tables'!Q15 -> 15.814714 | S7: ='Transmission tables'!Q10 -> 15.192639 | T7: ='Transmission tables'!Q5 -> 15.223079

Sheet Distribution (small) tables
B2: Distribution peers having < 100 employees YE June 2019 | D2: Code | E2: FTEs | F2: Fatalities | G2: LTIs | H2: RWIs | I2: MTIs | J2: TRIs | K2: Days Lost to LTIs | L2: Days of Restricted Work | M2: LTIFR | N2: RWIFR | O2: MTIFR | P2: TRIFR | Q2: LTISR | R2: RWISR | S2: ATLR to LTIs
B3: Peer group respondents | D3: D50 | E3: 71.6 | F3: 0 | G3: 2 | H3: 0 | I3: 4 | J3: 6 | K3: 40.7 | L3: 0 | M3: 2.7932961 | N3: 0 | O3: 5.5865922 | P3: 8.3798883 | Q3: 56.843575 | R3: 0 | S3: 20.35
D4: D65 | E4: 60.3 (NCD) | F4: 0 | G4: 3 | H4: 0 | I4: 4 | J4: 7 | K4: 39 | L4: 0 | M4: 4.9751244 | N4: 0 | O4: 6.6334992 | P4: 11.608624 | Q4: 64.676617 | R4: 0 | S4: 13
D5: D70 | E5: 68 (CNU) | F5: 0 | G5: 1 | H5: 1 | I5: 0 | J5: 2 | K5: 8 | L5: 3 | M5: 1.4705882 | N5: 1.4705882 | O5: 0 | P5: 2.9411765 | Q5: 11.764706 | R5: 4.4117647 | S5: 8
D6: D80 | E6: 72.8 (NCD) | F6: 0 | G6: 0 | H6: 0 | I6: 3 | J6: 3 | K6: 0 | L6: 0 | M6: 0 | N6: 0 | O6: 4.1208791 | P6: 4.1208791 | Q6: 0 | R6: 0 | S6: 0
D7: D105 | E7: 92 (NCD) | F7: 0 | G7: 3 | H7: 0 | I7: 0 | J7: 3 | K7: 26 | L7: 0 | M7: 3.2608696 | N7: 0 | O7: 0 | P7: 3.2608696 | Q7: 28.26087 | R7: 0 | S7: 8.6666667
D8: D128 | E8: 53 | F8: 0 | G8: 0 | H8: 0 | I8: 0 | J8: 0 | K8: 0 | L8: 0 | M8: 0 | N8: 0 | O8: 0 | P8: 0 | Q8: 0 | R8: 0 | S8: 0
D9: D130 | E9: 44 | F9: 0 | G9: 0 | H9: 0 | I9: 0 | J9: 0 | K9: 0 | L9: 0 | M9: 0 | N9: 0 | O9: 0 | P9: 0 | Q9: 0 | R9: 0 | S9: 0
D10: D135 | E10: 33 | F10: 0 | G10: 2 | H10: 1 | I10: 0 | J10: 3 | K10: 11 | L10: 23 | M10: 6.0606061 | N10: 3.030303 | O10: 0 | P10: 9.0909091 | Q10: 33.333333 | R10: 69.69697 | S10: 5.5
D11: D155 | E11: 67 | F11: 0 | G11: 1 | H11: 0 | I11: 0 | J11: 1 | K11: 73 | L11: 32 | M11: 1.4925373 | N11: 0 | O11: 0 | P11: 1.4925373 | Q11: 108.95522 | R11: 47.761194 | S11: 73
D12: D168 | E12: 56 | F12: 0 | G12: 0 | H12: 0 | I12: 1 | J12: 1 | K12: 0 | L12: 0 | M12: 0 | N12: 0 | O12: 1.7857143 | P12: 1.7857143 | Q12: 0 | R12: 0 | S12: 0
D13: D180 | E13: 129 (NCD) | F13: 0 | G13: 0 | H13: 0 | I13: 0 | J13: 0 | K13: 0 | L13: 0 | M13: 0 | N13: 0 | O13: 0 | P13: 0 | Q13: 0 | R13: 0 | S13: 0
B14: Peer group summary | E14: 617.7 | F14: 0 | G14: 12 | H14: 2 | I14: 12 | J14: 26 | K14: 197.7 | L14: 58 | M14: 1.9426906 | N14: 0.32378177 | O14: 1.9426906 | P14: 4.209163 | Q14: 32.005828 | R14: 9.3896714 | S14: 16.475
B15: Distribution summary | E15: 6610.7 | F15: 0 | G15: 87 | H15: 50 | I15: 85 | J15: 222 | K15: 1315.7 | L15: 456 | M15: 1.3160482 | N15: 0.75634955 | O15: 1.2857942 | P15: 3.358192 | Q15: 19.902582 | R15: 6.8979079 | S15: 15.122989
B16: Industry summary | E16: 13338.3 | F16: 0 | G16: 125 | H16: 65 | I16: 108 | J16: 298 | K16: 2030.5 | L16: 914 | M16: 0.93715091 | N16: 0.48731847 | O16: 0.80969839 | P16: 2.2341678 | Q16: 15.223079 | R16: 6.8524475 | S16: 16.244
B18: Distribution peers having < 100 employees YE June 2018 | D18: Code | E18: FTEs | F18: Fatalities | G18: LTIs | H18: RWIs | I18: MTIs | J18: TRIs | K18: Days Lost to LTIs | L18: Days of Restricted Work | M18: LTIFR | N18: RWIFR | O18: MTIFR | P18: TRIFR | Q18: LTISR | R18: RWISR | S18: ATLR to LTIs
B19: Peer group respondents | D19: D50 | E19: 60 (NCD) | F19: 0 | G19: 6 | H19: 0 | I19: 2 | J19: 8 | K19: 130 | L19: 0 | M19: 10 | N19: 0 | O19: 3.3333333 | P19: 13.333333 | Q19: 216.66667 | R19: 0 | S19: 21.666667
D20: D65 | E20: 61 | F20: 0 | G20: 1 | H20: 0 | I20: 2 | J20: 3 | K20: 3 | L20: 0 | M20: 1.6393443 | N20: 0 | O20: 3.2786885 | P20: 4.9180328 | Q20: 4.9180328 | R20: 0 | S20: 3
D21: D70 | E21: 67 (CNU) | F21: 0 | G21: 0 | H21: 0 | I21: 0 | J21: 0 | K21: 0 | L21: 0 | M21: 0 | N21: 0 | O21: 0 | P21: 0 | Q21: 0 | R21: 0 | S21: 0
D22: D128 | E22: 48 | F22: 0 | G22: 0 | H22: 2 | I22: 2 | J22: 4 | K22: 0 | L22: 2 | M22: 0 | N22: 4.1666667 | O22: 4.1666667 | P22: 8.3333333 | Q22: 0 | R22: 4.1666667 | S22: 0
D23: D130 | E23: 44 | F23: 0 | G23: 0 | H23: 0 | I23: 0 | J23: 0 | K23: 0 | L23: 0 | M23: 0 | N23: 0 | O23: 0 | P23: 0 | Q23: 0 | R23: 0 | S23: 0
D24: D135 | E24: 29 (CNU) | F24: 0 | G24: 3 | H24: 0 | I24: 3 | J24: 6 | K24: 50 | L24: 0 | M24: 10.344828 | N24: 0 | O24: 10.344828 | P24: 20.689655 | Q24: 172.41379 | R24: 0 | S24: 16.666667
D25: D155 | E25: 75 | F25: 0 | G25: 0 | H25: 1 | I25: 0 | J25: 1 | K25: 0 | L25: 0 | M25: 0 | N25: 1.3333333 | O25: 0 | P25: 1.3333333 | Q25: 0 | R25: 0 | S25: 0
D26: D168 | E26: 49 | F26: 0 | G26: 3 | H26: 0 | I26: 1 | J26: 4 | K26: 121.5 | L26: 0 | M26: 6.122449 | N26: 0 | O26: 2.0408163 | P26: 8.1632653 | Q26: 247.95918 | R26: 0 | S26: 40.5
B27: Peer group summary | E27: 433 | F27: 0 | G27: 13 | H27: 3 | I27: 10 | J27: 26 | K27: 304.5 | L27: 2 | M27: 3.0023095 | N27: 0.69284065 | O27: 2.3094688 | P27: 6.0046189 | Q27: 70.323326 | R27: 0.46189376 | S27: 23.423077
B28: Distribution summary | E28: 5702.55 | F28: 0 | G28: 93 | H28: 34 | I28: 125 | J28: 252 | K28: 1705.5 | L28: 659 | M28: 1.6308494 | N28: 0.5962245 | O28: 2.1920018 | P28: 4.4190757 | Q28: 29.907673 | R28: 11.556234 | S28: 18.33871
B29: Industry summary | E29: 13365.025 | F29: 0 | G29: 136 | H29: 60 | I29: 164 | J29: 360 | K29: 2030.5 | L29: 914 | M29: 1.0175814 | N29: 0.44893296 | O29: 1.2270834 | P29: 2.6935977 | Q29: 15.192639 | R29: 6.8387454 | S29: 14.930147
B31: Distribution peers having < 100 employees YE June 2017 | D31: Code | E31: FTEs | F31: Fatalities | G31: LTIs | H31: RWIs | I31: MTIs | J31: TRIs | K31: Days Lost to LTIs | L31: Days of Restricted Work | M31: LTIFR | N31: RWIFR | O31: MTIFR | P31: TRIFR | Q31: LTISR | R31: RWISR | S31: ATLR to LTIs
B32: Peer group respondents | D32: D50 | E32: 56 (NCD) | F32: 0 | G32: 4 | H32: N/A | I32: 1 | J32: 5 | K32: 120 | L32: N/A | M32: 7.1428571 | N32: N/A | O32: 1.7857143 | P32: 8.9285714 | Q32: 214.28571 | R32: N/A | S32: 30
D33: D65 | E33: 63.085 | F33: 0 | G33: 0 | H33: 0 | I33: 4 | J33: 4 | K33: 0 | L33: 0 | M33: 0 | N33: 0 | O33: 6.3406515 | P33: 6.3406515 | Q33: 0 | R33: 0 | S33: 0
D34: D70 | E34: 65 (CNU) | F34: 0 | G34: 5 | H34: 0 | I34: 0 | J34: 5 | K34: 108 | L34: 0 | M34: 7.6923077 | N34: 0 | O34: 0 | P34: 7.6923077 | Q34: 166.15385 | R34: 0 | S34: 21.6
D35: D105 | E35: 74 | F35: 0 | G35: 0 | H35: N/A | I35: 0 | J35: 0 | K35: 0 | L35: N/A | M35: 0 | N35: N/A | O35: 0 | P35: 0 | Q35: 0 | R35: N/A | S35: 0
D36: D128 | E36: 52 | F36: 0 | G36: 0 | H36: 0 | I36: 0 | J36: 0 | K36: 0 | L36: 0 | M36: 0 | N36: 0 | O36: 0 | P36: 0 | Q36: 0 | R36: 0 | S36: 0
D37: D130 | E37: 8 | F37: 0 | G37: 0 | H37: 0 | I37: 0 | J37: 0 | K37: 0 | L37: 0 | M37: 0 | N37: 0 | O37: 0 | P37: 0 | Q37: 0 | R37: 0 | S37: 0
D38: D135 | E38: 27 (CNU) | F38: 0 | G38: 5 | H38: 0 | I38: 0 | J38: 5 | K38: 185 | L38: 0 | M38: 18.518519 | N38: 0 | O38: 0 | P38: 18.518519 | Q38: 685.18519 | R38: 0 | S38: 37
D39: D155 | E39: 88 | F39: 0 | G39: 1 | H39: 1 | I39: 2 | J39: 4 | K39: 12 | L39: 5 | M39: 1.1363636 | N39: 1.1363636 | O39: 2.2727273 | P39: 4.5454545 | Q39: 13.636364 | R39: 5.6818182 | S39: 12
B40: Peer group summary | E40: 433.085 | F40: 0 | G40: 15 | H40: 1 | I40: 7 | J40: 23 | K40: 425 | L40: 5 | M40: 3.4635233 | N40: 0.23090156 | O40: 1.6163109 | P40: 5.3107358 | Q40: 98.133161 | R40: 1.1545078 | S40: 28.333333
B41: Distribution summary | E41: 5281.835 | F41: 0 | G41: 90 | H41: 15 | I41: 79 | J41: 184 | K41: 1565 | L41: 542 | M41: 1.7039533 | N41: 0.28399221 | O41: 1.4956923 | P41: 3.4836378 | Q41: 29.629854 | R41: 10.261585 | S41: 17.388889
B42: Industry summary | E42: 13297.743 | F42: 0 | G42: 125 | H42: 25 | I42: 148 | J42: 298 | K42: 2103 | L42: 703 | M42: 0.94000915 | N42: 0.18800183 | O42: 1.1129708 | P42: 2.2409818 | Q42: 15.814714 | R42: 5.2866115 | S42: 16.824
B44: Distribution peers having < 100 employees YE June 2016 | D44: Code | E44: FTEs | F44: Fatalities | G44: LTIs | H44: RWIs | I44: MTIs | J44: TRIs | K44: Days Lost to LTIs | L44: Days of Restricted Work | M44: LTIFR | N44: RWIFR | O44: MTIFR | P44: TRIFR | Q44: LTISR | R44: RWISR | S44: ATLR to LTIs
B45: Peer group respondents | D45: D50 | E45: 55 (NCD) | F45: 0 | G45: 3 | H45: N/A | I45: 5 | J45: 8 | K45: 20 | L45: N/A | M45: 5.4545455 | N45: N/A | O45: 9.0909091 | P45: 14.545455 | Q45: 36.363636 | R45: N/A | S45: 6.6666667
D46: D65 | E46: 64.5 | F46: 0 | G46: 1 | H46: 0 | I46: 5 | J46: 6 | K46: 6 | L46: 6 | M46: 1.5503876 | N46: 0 | O46: 7.751938 | P46: 9.3023256 | Q46: 9.3023256 | R46: 9.3023256 | S46: 6
D47: D70 | E47: 70 (CNU) | F47: 0 | G47: 3 | H47: 0 | I47: 0 | J47: 3 | K47: 8 | L47: 0 | M47: 4.2857143 | N47: 0 | O47: 0 | P47: 4.2857143 | Q47: 11.428571 | R47: 0 | S47: 2.6666667
D48: D128 | E48: 50 | F48: 0 | G48: 2 | H48: 0 | I48: 0 | J48: 2 | K48: 21 | L48: 41 | M48: 4 | N48: 0 | O48: 0 | P48: 4 | Q48: 42 | R48: 82 | S48: 10.5
D49: D130 | E49: 10 | F49: 0 | G49: 0 | H49: 0 | I49: 0 | J49: 0 | K49: 0 | L49: 0 | M49: 0 | N49: 0 | O49: 0 | P49: 0 | Q49: 0 | R49: 0 | S49: 0
D50: D135 | E50: 37 (NCD) | F50: 0 | G50: 2 | H50: 0 | I50: 0 | J50: 2 | K50: 7 | L50: 0 | M50: 5.4054054 | N50: 0 | O50: 0 | P50: 5.4054054 | Q50: 18.918919 | R50: 0 | S50: 3.5
D51: D168 | E51: 59 | F51: 0 | G51: 1 | H51: N/A | I51: 2 | J51: 3 | K51: 1 | L51: N/A | M51: 1.6949153 | N51: N/A | O51: 3.3898305 | P51: 5.0847458 | Q51: 1.6949153 | R51: N/A | S51: 1
B52: Peer group summary | E52: 345.5 | F52: 0 | G52: 12 | H52: 0 | I52: 12 | J52: 24 | K52: 63 | L52: 47 | M52: 3.4732272 | N52: 0 | O52: 3.4732272 | P52: 6.9464544 | Q52: 18.234443 | R52: 13.603473 | S52: 5.25
B53: Distribution summary | E53: 5252.195 | F53: 0 | G53: 76 | H53: 17 | I53: 119 | J53: 212 | K53: 1457 | L53: 398 | M53: 1.4470141 | N53: 0.3236742 | O53: 2.2657194 | P53: 4.0364076 | Q53: 27.740783 | R53: 7.5777841 | S53: 19.171053
B54: Industry summary | E54: 12699.035 | F54: 0 | G54: 109 | H54: 33 | I54: 179 | J54: 321 | K54: 2049 | L54: 958 | M54: 0.85833296 | N54: 0.25986227 | O54: 1.409556 | P54: 2.5277512 | Q54: 16.135085 | R54: 7.5438805 | S54: 18.798165

Sheet Distribution (small) graphs
B2: Total Recordable Injury Frequency Rate | J2: Lost Time Injury Frequency Rate | R2: Lost Time Injury Severity Rate
B3: TRIFR - 5-year results - Small-size distribustion peer group | D3: Year Ended | J3: LTIFR - 5-year results - Small-size distribustion peer group | R3: LTISR - 5-year results - Small-size distribution peer group
D4: 2016 | E4: 2017 | F4: 2018 | G4: 2019 | L4: 2016 | M4: 2017 | N4: 2018 | O4: 2019 | T4: 2016 | U4: 2017 | V4: 2018 | W4: 2019
B5: Respondent code | C5: D50 | D5: =VLOOKUP($C5,'Distribution (small) tables'!$D$45:$S$51,13,FALSE) -> 14.545455 | E5: =VLOOKUP($C5,'Distribution (small) tables'!$D$32:$S$39,13,FALSE) -> 8.9285714 | F5: =VLOOKUP($C5,'Distribution (small) tables'!$D$19:$S$26,13,FALSE) -> 13.333333 | G5: =VLOOKUP($C5,'Distribution (small) tables'!$D$3:$S$13,13,FALSE) -> 8.3798883 | J5: Respondent code | K5: D50 | L5: =VLOOKUP($K5,'Distribution (small) tables'!$D$45:$S$51,10,FALSE) -> 5.4545455 | M5: =VLOOKUP($K5,'Distribution (small) tables'!$D$32:$S$39,10,FALSE) -> 7.1428571 | N5: =VLOOKUP($K5,'Distribution (small) tables'!$D$19:$S$26,10,FALSE) -> 10 | O5: =VLOOKUP($K5,'Distribution (small) tables'!$D$3:$S$13,10,FALSE) -> 2.7932961 | R5: Respondent code | S5: D50 | T5: =VLOOKUP($S5,'Distribution (small) tables'!$D$45:$S$51,14,FALSE) -> 36.363636 | U5: =VLOOKUP($S5,'Distribution (small) tables'!$D$32:$S$39,14,FALSE) -> 214.28571 | V5: =VLOOKUP($S5,'Distribution (small) tables'!$D$19:$S$26,14,FALSE) -> 216.66667 | W5: =VLOOKUP($S5,'Distribution (small) tables'!$D$3:$S$13,14,FALSE) -> 56.843575
C6: D65 | D6: =VLOOKUP($C6,'Distribution (small) tables'!$D$45:$S$51,13,FALSE) -> 9.3023256 | E6: =VLOOKUP($C6,'Distribution (small) tables'!$D$32:$S$39,13,FALSE) -> 6.3406515 | F6: =VLOOKUP($C6,'Distribution (small) tables'!$D$19:$S$26,13,FALSE) -> 4.9180328 | G6: =VLOOKUP($C6,'Distribution (small) tables'!$D$3:$S$13,13,FALSE) -> 11.608624 | K6: D65 | L6: =VLOOKUP($K6,'Distribution (small) tables'!$D$45:$S$51,10,FALSE) -> 1.5503876 | M6: =VLOOKUP($K6,'Distribution (small) tables'!$D$32:$S$39,10,FALSE) -> 0 | N6: =VLOOKUP($K6,'Distribution (small) tables'!$D$19:$S$26,10,FALSE) -> 1.6393443 | O6: =VLOOKUP($K6,'Distribution (small) tables'!$D$3:$S$13,10,FALSE) -> 4.9751244 | S6: D65 | T6: =VLOOKUP($S6,'Distribution (small) tables'!$D$45:$S$51,14,FALSE) -> 9.3023256 | U6: =VLOOKUP($S6,'Distribution (small) tables'!$D$32:$S$39,14,FALSE) -> 0 | V6: =VLOOKUP($S6,'Distribution (small) tables'!$D$19:$S$26,14,FALSE) -> 4.9180328 | W6: =VLOOKUP($S6,'Distribution (small) tables'!$D$3:$S$13,14,FALSE) -> 64.676617
C7: D70 | D7: =VLOOKUP($C7,'Distribution (small) tables'!$D$45:$S$51,13,FALSE) -> 4.2857143 | E7: =VLOOKUP($C7,'Distribution (small) tables'!$D$32:$S$39,13,FALSE) -> 7.6923077 | F7: =VLOOKUP($C7,'Distribution (small) tables'!$D$19:$S$26,13,FALSE) -> 0 | G7: =VLOOKUP($C7,'Distribution (small) tables'!$D$3:$S$13,13,FALSE) -> 2.9411765 | K7: D70 | L7: =VLOOKUP($K7,'Distribution (small) tables'!$D$45:$S$51,10,FALSE) -> 4.2857143 | M7: =VLOOKUP($K7,'Distribution (small) tables'!$D$32:$S$39,10,FALSE) -> 7.6923077 | N7: =VLOOKUP($K7,'Distribution (small) tables'!$D$19:$S$26,10,FALSE) -> 0 | O7: =VLOOKUP($K7,'Distribution (small) tables'!$D$3:$S$13,10,FALSE) -> 1.4705882 | S7: D70 | T7: =VLOOKUP($S7,'Distribution (small) tables'!$D$45:$S$51,14,FALSE) -> 11.428571 | U7: =VLOOKUP($S7,'Distribution (small) tables'!$D$32:$S$39,14,FALSE) -> 166.15385 | V7: =VLOOKUP($S7,'Distribution (small) tables'!$D$19:$S$26,14,FALSE) -> 0 | W7: =VLOOKUP($S7,'Distribution (small) tables'!$D$3:$S$13,14,FALSE) -> 11.764706
C8: D80 | D8: - | E8: - | F8: - | G8: =VLOOKUP($C8,'Distribution (small) tables'!$D$3:$S$13,13,FALSE) -> 4.1208791 | K8: D80 | L8: - | M8: - | N8: - | O8: =VLOOKUP($K8,'Distribution (small) tables'!$D$3:$S$13,10,FALSE) -> 0 | S8: D80 | T8: - | U8: - | V8: - | W8: =VLOOKUP($S8,'Distribution (small) tables'!$D$3:$S$13,14,FALSE) -> 0
C9: D105 | G9: =VLOOKUP($C9,'Distribution (small) tables'!$D$3:$S$13,13,FALSE) -> 3.2608696 | K9: D105 | O9: =VLOOKUP($K9,'Distribution (small) tables'!$D$3:$S$13,10,FALSE) -> 3.2608696 | S9: D105 | T9: - | U9: - | V9: - | W9: =VLOOKUP($S9,'Distribution (small) tables'!$D$3:$S$13,14,FALSE) -> 28.26087
C10: D128 | D10: =VLOOKUP($C10,'Distribution (small) tables'!$D$45:$S$51,13,FALSE) -> 4 | E10: =VLOOKUP($C10,'Distribution (small) tables'!$D$32:$S$39,13,FALSE) -> 0 | F10: =VLOOKUP($C10,'Distribution (small) tables'!$D$19:$S$26,13,FALSE) -> 8.3333333 | G10: =VLOOKUP($C10,'Distribution (small) tables'!$D$3:$S$13,13,FALSE) -> 0 | K10: D128 | L10: =VLOOKUP($K10,'Distribution (small) tables'!$D$45:$S$51,10,FALSE) -> 4 | M10: =VLOOKUP($K10,'Distribution (small) tables'!$D$32:$S$39,10,FALSE) -> 0 | N10: =VLOOKUP($K10,'Distribution (small) tables'!$D$19:$S$26,10,FALSE) -> 0 | O10: =VLOOKUP($K10,'Distribution (small) tables'!$D$3:$S$13,10,FALSE) -> 0 | S10: D128 | T10: =VLOOKUP($S10,'Distribution (small) tables'!$D$45:$S$51,14,FALSE) -> 42 | U10: =VLOOKUP($S10,'Distribution (small) tables'!$D$32:$S$39,14,FALSE) -> 0 | V10: =VLOOKUP($S10,'Distribution (small) tables'!$D$19:$S$26,14,FALSE) -> 0 | W10: =VLOOKUP($S10,'Distribution (small) tables'!$D$3:$S$13,14,FALSE) -> 0
C11: D130 | D11: =VLOOKUP($C11,'Distribution (small) tables'!$D$45:$S$51,13,FALSE) -> 0 | E11: =VLOOKUP($C11,'Distribution (small) tables'!$D$32:$S$39,13,FALSE) -> 0 | F11: =VLOOKUP($C11,'Distribution (small) tables'!$D$19:$S$26,13,FALSE) -> 0 | G11: =VLOOKUP($C11,'Distribution (small) tables'!$D$3:$S$13,13,FALSE) -> 0 | K11: D130 | L11: =VLOOKUP($K11,'Distribution (small) tables'!$D$45:$S$51,10,FALSE) -> 0 | M11: =VLOOKUP($K11,'Distribution (small) tables'!$D$32:$S$39,10,FALSE) -> 0 | N11: =VLOOKUP($K11,'Distribution (small) tables'!$D$19:$S$26,10,FALSE) -> 0 | O11: =VLOOKUP($K11,'Distribution (small) tables'!$D$3:$S$13,10,FALSE) -> 0 | S11: D130 | T11: =VLOOKUP($S11,'Distribution (small) tables'!$D$45:$S$51,14,FALSE) -> 0 | U11: =VLOOKUP($S11,'Distribution (small) tables'!$D$32:$S$39,14,FALSE) -> 0 | V11: =VLOOKUP($S11,'Distribution (small) tables'!$D$19:$S$26,14,FALSE) -> 0 | W11: =VLOOKUP($S11,'Distribution (small) tables'!$D$3:$S$13,14,FALSE) -> 0
C12: D135 | D12: =VLOOKUP($C12,'Distribution (small) tables'!$D$45:$S$51,13,FALSE) -> 5.4054054 | E12: =VLOOKUP($C12,'Distribution (small) tables'!$D$32:$S$39,13,FALSE) -> 18.518519 | F12: =VLOOKUP($C12,'Distribution (small) tables'!$D$19:$S$26,13,FALSE) -> 20.689655 | G12: =VLOOKUP($C12,'Distribution (small) tables'!$D$3:$S$13,13,FALSE) -> 9.0909091 | K12: D135 | L12: =VLOOKUP($K12,'Distribution (small) tables'!$D$45:$S$51,10,FALSE) -> 5.4054054 | M12: =VLOOKUP($K12,'Distribution (small) tables'!$D$32:$S$39,10,FALSE) -> 18.518519 | N12: =VLOOKUP($K12,'Distribution (small) tables'!$D$19:$S$26,10,FALSE) -> 10.344828 | O12: =VLOOKUP($K12,'Distribution (small) tables'!$D$3:$S$13,10,FALSE) -> 6.0606061 | S12: D135 | T12: =VLOOKUP($S12,'Distribution (small) tables'!$D$45:$S$51,14,FALSE) -> 18.918919 | U12: =VLOOKUP($S12,'Distribution (small) tables'!$D$32:$S$39,14,FALSE) -> 685.18519 | V12: =VLOOKUP($S12,'Distribution (small) tables'!$D$19:$S$26,14,FALSE) -> 172.41379 | W12: =VLOOKUP($S12,'Distribution (small) tables'!$D$3:$S$13,14,FALSE) -> 33.333333
C13: D155 | D13: =VLOOKUP($C13,'Distribution (medium) tables'!$D$45:$S$55,13,FALSE) -> 4.2857143 | E13: =VLOOKUP($C13,'Distribution (small) tables'!$D$32:$S$39,13,FALSE) -> 4.5454545 | F13: =VLOOKUP($C13,'Distribution (small) tables'!$D$19:$S$26,13,FALSE) -> 1.3333333 | G13: =VLOOKUP($C13,'Distribution (small) tables'!$D$3:$S$13,13,FALSE) -> 1.4925373 | K13: D155 | L13: =VLOOKUP($K13,'Distribution (medium) tables'!$D$45:$S$55,10,FALSE) -> 0.71428571 | M13: =VLOOKUP($K13,'Distribution (small) tables'!$D$32:$S$39,10,FALSE) -> 1.1363636 | N13: =VLOOKUP($K13,'Distribution (small) tables'!$D$19:$S$26,10,FALSE) -> 0 | O13: =VLOOKUP($K13,'Distribution (small) tables'!$D$3:$S$13,10,FALSE) -> 1.4925373 | S13: D155 | T13: =VLOOKUP($S13,'Distribution (medium) tables'!$D$45:$S$55,14,FALSE) -> 5 | U13: =VLOOKUP($S13,'Distribution (small) tables'!$D$32:$S$39,14,FALSE) -> 13.636364 | V13: =VLOOKUP($S13,'Distribution (small) tables'!$D$19:$S$26,14,FALSE) -> 0 | W13: =VLOOKUP($S13,'Distribution (small) tables'!$D$3:$S$13,14,FALSE) -> 108.95522
C14: D168 | D14: =VLOOKUP($C14,'Distribution (small) tables'!$D$45:$S$51,13,FALSE) -> 5.0847458 | E14: =VLOOKUP($C14,'Distribution (medium) tables'!$D$29:$S$39,13,FALSE) -> 2.4193548 | F14: =VLOOKUP($C14,'Distribution (small) tables'!$D$19:$S$26,13,FALSE) -> 8.1632653 | G14: =VLOOKUP($C14,'Distribution (small) tables'!$D$3:$S$13,13,FALSE) -> 1.7857143 | K14: D168 | L14: =VLOOKUP($K14,'Distribution (small) tables'!$D$45:$S$51,10,FALSE) -> 1.6949153 | M14: =VLOOKUP($K14,'Distribution (medium) tables'!$D$29:$S$39,10,FALSE) -> 0.80645161 | N14: =VLOOKUP($K14,'Distribution (small) tables'!$D$19:$S$26,10,FALSE) -> 6.122449 | O14: =VLOOKUP($K14,'Distribution (small) tables'!$D$3:$S$13,10,FALSE) -> 0 | S14: D168 | T14: =VLOOKUP($S14,'Distribution (small) tables'!$D$45:$S$51,14,FALSE) -> 1.6949153 | U14: =VLOOKUP($S14,'Distribution (medium) tables'!$D$29:$S$39,14,FALSE) -> 20.967742 | V14: =VLOOKUP($S14,'Distribution (small) tables'!$D$19:$S$26,14,FALSE) -> 247.95918 | W14: =VLOOKUP($S14,'Distribution (small) tables'!$D$3:$S$13,14,FALSE) -> 0
C15: D180 | D15: - | E15: - | F15: - | G15: =VLOOKUP($C15,'Distribution (small) tables'!$D$3:$S$13,13,FALSE) -> 0 | K15: D180 | L15: - | M15: - | N15: - | O15: =VLOOKUP($K15,'Distribution (small) tables'!$D$3:$S$13,10,FALSE) -> 0 | S15: D180 | T15: - | U15: - | V15: - | W15: =VLOOKUP($S15,'Distribution (small) tables'!$D$3:$S$13,14,FALSE) -> 0
B16: Distribution < 100 employees | D16: ='Distribution (small) tables'!P52 -> 6.9464544 | E16: ='Distribution (small) tables'!P40 -> 5.3107358 | F16: ='Distribution (small) tables'!P27 -> 6.0046189 | G16: ='Distribution (small) tables'!P14 -> 4.209163 | J16: Distribution < 100 employees | L16: ='Distribution (small) tables'!M52 -> 3.4732272 | M16: ='Distribution (small) tables'!$M40 -> 3.4635233 | N16: ='Distribution (small) tables'!$M27 -> 3.0023095 | O16: ='Distribution (small) tables'!$M14 -> 1.9426906 | R16: Distribution < 100 employees | T16: ='Distribution (small) tables'!Q52 -> 18.234443 | U16: ='Distribution (small) tables'!$Q40 -> 98.133161 | V16: ='Distribution (small) tables'!$Q27 -> 70.323326 | W16: ='Distribution (small) tables'!Q14 -> 32.005828
B17: Distribution Total | D17: ='Distribution (small) tables'!P53 -> 4.0364076 | E17: ='Distribution (small) tables'!P41 -> 3.4836378 | F17: ='Distribution (small) tables'!P28 -> 4.4190757 | G17: ='Distribution (small) tables'!P15 -> 3.358192 | J17: Distribution Total | L17: ='Distribution (small) tables'!M53 -> 1.4470141 | M17: ='Distribution (small) tables'!$M41 -> 1.7039533 | N17: ='Distribution (small) tables'!$M28 -> 1.6308494 | O17: ='Distribution (small) tables'!$M15 -> 1.3160482 | R17: Distribution Total | T17: ='Distribution (small) tables'!Q53 -> 27.740783 | U17: ='Distribution (small) tables'!$Q41 -> 29.629854 | V17: ='Distribution (small) tables'!$Q28 -> 29.907673 | W17: ='Distribution (small) tables'!$Q15 -> 19.902582
B18: Industry Total | D18: ='Distribution (small) tables'!P54 -> 2.5277512 | E18: ='Distribution (small) tables'!P42 -> 2.2409818 | F18: ='Distribution (small) tables'!P29 -> 2.6935977 | G18: ='Distribution (small) tables'!P16 -> 2.2341678 | J18: Industry Total | L18: ='Distribution (small) tables'!M54 -> 0.85833296 | M18: ='Distribution (small) tables'!$M42 -> 0.94000915 | N18: ='Distribution (small) tables'!$M29 -> 1.0175814 | O18: ='Distribution (small) tables'!$M16 -> 0.93715091 | R18: Industry Total | T18: ='Distribution (small) tables'!Q54 -> 16.135085 | U18: ='Distribution (small) tables'!$Q42 -> 15.814714 | V18: ='Distribution (small) tables'!$Q29 -> 15.192639 | W18: ='Distribution (small) tables'!$Q16 -> 15.223079
C20: Select your respondent code -> | G20: 1 | K20: Select your respondent code -> | O20: 1 | S20: Select your respondent code -> | W20: 1
D21: 1 | E21: 2 | F21: 3 | G21: 4 | L21: 1 | M21: 2 | N21: 3 | O21: 4 | T21: 1 | U21: 2 | V21: 3 | W21: 4
B23: TRIFR Respondent | D23: 2016 | E23: 2017 | F23: 2018 | G23: 2019 | K23: LTIFR Respondent | L23: 2016 | M23: 2017 | N23: 2018 | O23: 2019 | S23: LTISR Respondent | T23: 2016 | U23: 2017 | V23: 2018 | W23: 2019
B24: =INDEX($C$5:$C$15,$G$20,1) -> D50 | D24: =INDEX($D$5:$G$15,$G$20,D$21) -> 14.545455 | E24: =INDEX($D$5:$G$15,$G$20,E$21) -> 8.9285714 | F24: =INDEX($D$5:$G$15,$G$20,F$21) -> 13.333333 | G24: =INDEX($D$5:$G$15,$G$20,G$21) -> 8.3798883 | K24: =INDEX($K$5:$K$15,$O$20,1) -> D50 | L24: =INDEX($L$5:$O$15,$O$20,L$21) -> 5.4545455 | M24: =INDEX($L$5:$O$15,$O$20,M$21) -> 7.1428571 | N24: =INDEX($L$5:$O$15,$O$20,N$21) -> 10 | O24: =INDEX($L$5:$O$15,$O$20,O$21) -> 2.7932961 | S24: =INDEX($S$5:$S$15,$W$20,1) -> D50 | T24: =INDEX($T$5:$W$15,$W$20,T$21) -> 36.363636 | U24: =INDEX($T$5:$W$15,$W$20,U$21) -> 214.28571 | V24: =INDEX($T$5:$W$15,$W$20,V$21) -> 216.66667 | W24: =INDEX($T$5:$W$15,$W$20,W$21) -> 56.843575
B25: Small-size distribution | D25: =D16 -> 6.9464544 | E25: =E16 -> 5.3107358 | F25: =F16 -> 6.0046189 | G25: =G16 -> 4.209163 | K25: Small-size distribution | L25: =L16 -> 3.4732272 | M25: =M16 -> 3.4635233 | N25: =N16 -> 3.0023095 | O25: =O16 -> 1.9426906 | S25: Small-size distribution | T25: =T16 -> 18.234443 | U25: =U16 -> 98.133161 | V25: =V16 -> 70.323326 | W25: =W16 -> 32.005828
B26: Distribution Total | D26: =D17 -> 4.0364076 | E26: =E17 -> 3.4836378 | F26: =F17 -> 4.4190757 | G26: =G17 -> 3.358192 | K26: Distribution Total | L26: =L17 -> 1.4470141 | M26: =M17 -> 1.7039533 | N26: =N17 -> 1.6308494 | O26: =O17 -> 1.3160482 | S26: Distribution Total | T26: =T17 -> 27.740783 | U26: =U17 -> 29.629854 | V26: =V17 -> 29.907673 | W26: =W17 -> 19.902582
B27: Industry Total | D27: =D18 -> 2.5277512 | E27: =E18 -> 2.2409818 | F27: =F18 -> 2.6935977 | G27: =G18 -> 2.2341678 | K27: Industry Total | L27: =L18 -> 0.85833296 | M27: =M18 -> 0.94000915 | N27: =N18 -> 1.0175814 | O27: =O18 -> 0.93715091 | S27: Industry Total | T27: =T18 -> 16.135085 | U27: =U18 -> 15.814714 | V27: =V18 -> 15.192639 | W27: =W18 -> 15.223079

Sheet Distribution (medium) tables
B2: Distribution peers having ≥ 100 and < 250 employees YE June 2019 | D2: Code | E2: FTEs | F2: Fatalities | G2: LTIs | H2: RWIs | I2: MTIs | J2: TRIs | K2: Days Lost to LTIs | L2: Days of Restricted Work | M2: LTIFR | N2: RWIFR | O2: MTIFR | P2: TRIFR | Q2: LTISR | R2: RWISR | S2: ATLR to LTIs
B3: Peer group respondents | D3: D55 | E3: 131 (NCD) | F3: 0 | G3: 2 | H3: 0 | I3: 7 | J3: 9 | K3: 5 | L3: 0 | M3: 1.5267176 | N3: 0 | O3: 5.3435115 | P3: 6.870229 | Q3: 3.8167939 | R3: 0 | S3: 2.5
D4: D85 | E4: 174 | F4: 0 | G4: 9 | H4: 0 | I4: 8 | J4: 17 | K4: 44 | L4: 0 | M4: 5.1724138 | N4: 0 | O4: 4.5977011 | P4: 9.7701149 | Q4: 25.287356 | R4: 0 | S4: 4.8888889
D5: D100 | E5: 125 (CNU) | F5: 0 | G5: 7 | H5: 1 | I5: 1 | J5: 9 | K5: 175 | L5: 12 | M5: 5.6 | N5: 0.8 | O5: 0.8 | P5: 7.2 | Q5: 140 | R5: 9.6 | S5: 25
D6: D110 | E6: 226 (NCD) | F6: 0 | G6: 1 | H6: 4 | I6: 3 | J6: 8 | K6: 3 | L6: 10 | M6: 0.44247788 | N6: 1.7699115 | O6: 1.3274336 | P6: 3.539823 | Q6: 1.3274336 | R6: 4.4247788 | S6: 3
D7: D115 | E7: 153 (CNU) | F7: 0 | G7: 1 | H7: 0 | I7: 2 | J7: 3 | K7: 72 | L7: 0 | M7: 0.65359477 | N7: 0 | O7: 1.3071895 | P7: 1.9607843 | Q7: 47.058824 | R7: 0 | S7: 72
D8: D145 | E8: 165 | F8: 0 | G8: 0 | H8: 0 | I8: 2 | J8: 2 | K8: 0 | L8: 0 | M8: 0 | N8: 0 | O8: 1.2121212 | P8: 1.2121212 | Q8: 0 | R8: 0 | S8: 0
D9: D150 | E9: 227 | F9: 0 | G9: 0 | H9: 0 | I9: 0 | J9: 0 | K9: 0 | L9: 0 | M9: 0 | N9: 0 | O9: 0 | P9: 0 | Q9: 0 | R9: 0 | S9: 0
D10: D160 | E10: 174 (CNU) | F10: 0 | G10: 3 | H10: 3 | I10: 0 | J10: 6 | K10: 37 | L10: 21 | M10: 1.7241379 | N10: 1.7241379 | O10: 0 | P10: 3.4482759 | Q10: 21.264368 | R10: 12.068966 | S10: 12.333333
B11: Peer group summary | E11: 1375 | F11: 0 | G11: 23 | H11: 8 | I11: 23 | J11: 54 | K11: 336 | L11: 43 | M11: 1.6727273 | N11: 0.58181818 | O11: 1.6727273 | P11: 3.9272727 | Q11: 24.436364 | R11: 3.1272727 | S11: 14.608696
B12: Distribution summary | E12: 6610.7 | F12: 0 | G12: 87 | H12: 50 | I12: 85 | J12: 222 | K12: 1315.7 | L12: 456 | M12: 1.3160482 | N12: 0.75634955 | O12: 1.2857942 | P12: 3.358192 | Q12: 19.902582 | R12: 6.8979079 | S12: 15.122989
B13: Industry summary | E13: 13338.3 | F13: 0 | G13: 125 | H13: 65 | I13: 108 | J13: 298 | K13: 2030.5 | L13: 914 | M13: 0.93715091 | N13: 0.48731847 | O13: 0.80969839 | P13: 2.2341678 | Q13: 15.223079 | R13: 6.8524475 | S13: 16.244
B15: Distribution peers having ≥ 100 and < 250 employees YE June 2018 | D15: Code | E15: FTEs | F15: Fatalities | G15: LTIs | H15: RWIs | I15: MTIs | J15: TRIs | K15: Days Lost to LTIs | L15: Days of Restricted Work | M15: LTIFR | N15: RWIFR | O15: MTIFR | P15: TRIFR | Q15: LTISR | R15: RWISR | S15: ATLR to LTIs
B16: Peer group respondents | D16: D55 | E16: 132 (CNU) | F16: 0 | G16: 3 | H16: 1 | I16: 5 | J16: 9 | K16: 27 | L16: 5 | M16: 2.2727273 | N16: 0.75757576 | O16: 3.7878788 | P16: 6.8181818 | Q16: 20.454545 | R16: 3.7878788 | S16: 9
D17: D85 | E17: 165 | F17: 0 | G17: 4 | H17: 0 | I17: 15 | J17: 19 | K17: 105 | L17: 0 | M17: 2.4242424 | N17: 0 | O17: 9.0909091 | P17: 11.515152 | Q17: 63.636364 | R17: 0 | S17: 26.25
D18: D100 | E18: 127 (CNU) | F18: 0 | G18: 6 | H18: 0 | I18: 0 | J18: 6 | K18: 416 | L18: 0 | M18: 4.7244094 | N18: 0 | O18: 0 | P18: 4.7244094 | Q18: 327.55906 | R18: 0 | S18: 69.333333
D19: D105 | E19: 129 (NCD) | F19: 0 | G19: 3 | H19: 0 | I19: 2 | J19: 5 | K19: 18 | L19: 0 | M19: 2.3255814 | N19: 0 | O19: 1.5503876 | P19: 3.875969 | Q19: 13.953488 | R19: 0 | S19: 6
D20: D115 | E20: 149 (NCD) | F20: 0 | G20: 4 | H20: 0 | I20: 3 | J20: 7 | K20: 0 | L20: 0 | M20: 2.6845638 | N20: 0 | O20: 2.0134228 | P20: 4.6979866 | Q20: 0 | R20: 0 | S20: 0
D21: D145 | E21: 122 | F21: 0 | G21: 1 | H21: 0 | I21: 4 | J21: 5 | K21: 3 | L21: 0 | M21: 0.81967213 | N21: 0 | O21: 3.2786885 | P21: 4.0983607 | Q21: 2.4590164 | R21: 0 | S21: 3
D22: D150 | E22: 140 (NCD) | F22: 0 | G22: 0 | H22: 0 | I22: 0 | J22: 0 | K22: 0 | L22: 0 | M22: 0 | N22: 0 | O22: 0 | P22: 0 | Q22: 0 | R22: 0 | S22: 0
D23: D160 | E23: 172 (NCD) | F23: 0 | G23: 1 | H23: 0 | I23: 1 | J23: 2 | K23: 1 | L23: 0 | M23: 0.58139535 | N23: 0 | O23: 0.58139535 | P23: 1.1627907 | Q23: 0.58139535 | R23: 0 | S23: 1
B24: Peer group summary | E24: 1136 | F24: 0 | G24: 22 | H24: 1 | I24: 30 | J24: 53 | K24: 570 | L24: 5 | M24: 1.9366197 | N24: 0.088028169 | O24: 2.6408451 | P24: 4.665493 | Q24: 50.176056 | R24: 0.44014085 | S24: 25.909091
B25: Distribution summary | E25: 5702.55 | F25: 0 | G25: 93 | H25: 34 | I25: 125 | J25: 252 | K25: 1705.5 | L25: 659 | M25: 1.6308494 | N25: 0.5962245 | O25: 2.1920018 | P25: 4.4190757 | Q25: 29.907673 | R25: 11.556234 | S25: 18.33871
B26: Industry summary | E26: 13365.025 | F26: 0 | G26: 136 | H26: 60 | I26: 164 | J26: 360 | K26: 2030.5 | L26: 914 | M26: 1.0175814 | N26: 0.44893296 | O26: 1.2270834 | P26: 2.6935977 | Q26: 15.192639 | R26: 6.8387454 | S26: 14.930147
B28: Distribution peers having ≥ 100 and < 250 employees YE June 2017 | D28: Code | E28: FTEs | F28: Fatalities | G28: LTIs | H28: RWIs | I28: MTIs | J28: TRIs | K28: Days Lost to LTIs | L28: Days of Restricted Work | M28: LTIFR | N28: RWIFR | O28: MTIFR | P28: TRIFR | Q28: LTISR | R28: RWISR | S28: ATLR to LTIs
B29: Peer group respondents | D29: D55 | E29: 133 (CNU) | F29: 0 | G29: 2 | H29: 2 | I29: 9 | J29: 13 | K29: 65 | L29: 22 | M29: 1.5037594 | N29: 1.5037594 | O29: 6.7669173 | P29: 9.7744361 | Q29: 48.87218 | R29: 16.541353 | S29: 32.5
D30: D85 | E30: 134 (NCD) | F30: 0 | G30: 7 | H30: 0 | I30: 0 | J30: 7 | K30: 180 | L30: 15 | M30: 5.2238806 | N30: 0 | O30: 0 | P30: 5.2238806 | Q30: 134.32836 | R30: 11.19403 | S30: 25.714286
D31: D95 | E31: 246 | F31: 0 | G31: 3 | H31: 2 | I31: 2 | J31: 7 | K31: 21 | L31: 10 | M31: 1.2195122 | N31: 0.81300813 | O31: 0.81300813 | P31: 2.8455285 | Q31: 8.5365854 | R31: 4.0650407 | S31: 7
D32: D100 | E32: 119 (CNU) | F32: 0 | G32: 5 | H32: 0 | I32: 1 | J32: 6 | K32: 28 | L32: 0 | M32: 4.2016807 | N32: 0 | O32: 0.84033613 | P32: 5.0420168 | Q32: 23.529412 | R32: 0 | S32: 5.6
D33: D110 | E33: 163 | F33: 0 | G33: 5 | H33: 2 | I33: 0 | J33: 7 | K33: 67 | L33: 94 | M33: 3.0674847 | N33: 1.2269939 | O33: 0 | P33: 4.2944785 | Q33: 41.104294 | R33: 57.668712 | S33: 13.4
D34: D115 | E34: 160 (NCD) | F34: 0 | G34: 7 | H34: N/A | I34: 3 | J34: 10 | K34: N/A | L34: N/A | M34: 4.375 | N34: N/A | O34: 1.875 | P34: 6.25 | Q34: N/A | R34: N/A | S34: #VALUE!
D35: D125 | E35: 245 (NCD) | F35: 0 | G35: 9 | H35: 2 | I35: 7 | J35: 18 | K35: 43 | L35: 3 | M35: 3.6734694 | N35: 0.81632653 | O35: 2.8571429 | P35: 7.3469388 | Q35: 17.55102 | R35: 1.2244898 | S35: 5
D36: D145 | E36: 153 (NCD) | F36: 0 | G36: 3 | H36: 0 | I36: 2 | J36: 5 | K36: 56 | L36: 70 | M36: 1.9607843 | N36: 0 | O36: 1.3071895 | P36: 3.2679739 | Q36: 36.601307 | R36: 45.751634 | S36: 18.666667
D37: D150 | E37: 133 (NCD) | F37: 0 | G37: 0 | H37: 0 | I37: 0 | J37: 0 | K37: 0 | L37: 0 | M37: 0 | N37: 0 | O37: 0 | P37: 0 | Q37: 0 | R37: 0 | S37: 0
D38: D160 | E38: 137 (NCD) | F38: 0 | G38: 1 | H38: 1 | I38: 0 | J38: 2 | K38: 42 | L38: 5 | M38: 0.72992701 | N38: 0.72992701 | O38: 0 | P38: 1.459854 | Q38: 30.656934 | R38: 3.649635 | S38: 42
D39: D168 | E39: 124 | F39: 0 | G39: 1 | H39: 0 | I39: 2 | J39: 3 | K39: 26 | L39: 7 | M39: 0.80645161 | N39: 0 | O39: 1.6129032 | P39: 2.4193548 | Q39: 20.967742 | R39: 5.6451613 | S39: 26
B40: Peer group summary | E40: 1747 | F40: 0 | G40: 43 | H40: 9 | I40: 26 | J40: 78 | K40: 528 | L40: 226 | M40: 2.4613623 | N40: 0.51516886 | O40: 1.4882656 | P40: 4.4647968 | Q40: 30.22324 | R40: 12.936463 | S40: 12.27907
B41: Distribution summary | E41: 5281.835 | F41: 0 | G41: 90 | H41: 15 | I41: 79 | J41: 184 | K41: 1565 | L41: 542 | M41: 1.7039533 | N41: 0.28399221 | O41: 1.4956923 | P41: 3.4836378 | Q41: 29.629854 | R41: 10.261585 | S41: 17.388889
B42: Industry summary | E42: 13297.743 | F42: 0 | G42: 125 | H42: 25 | I42: 148 | J42: 298 | K42: 2103 | L42: 703 | M42: 0.94000915 | N42: 0.18800183 | O42: 1.1129708 | P42: 2.2409818 | Q42: 15.814714 | R42: 5.2866115 | S42: 16.824
B44: Distribution peers having ≥ 100 and < 250 employees YE June 2016 | D44: Code | E44: FTEs | F44: Fatalities | G44: LTIs | H44: RWIs | I44: MTIs | J44: TRIs | K44: Days Lost to LTIs | L44: Days of Restricted Work | M44: LTIFR | N44: RWIFR | O44: MTIFR | P44: TRIFR | Q44: LTISR | R44: RWISR | S44: ATLR to LTIs
B45: Peer group respondents | D45: D55 | E45: 131 (NCD) | F45: 0 | G45: 1 | H45: 2 | I45: 7 | J45: 10 | K45: 28 | L45: 21 | M45: 0.76335878 | N45: 1.5267176 | O45: 5.3435115 | P45: 7.6335878 | Q45: 21.374046 | R45: 16.030534 | S45: 28
D46: D85 | E46: 161 | F46: 0 | G46: 11 | H46: 0 | I46: 15 | J46: 26 | K46: 127 | L46: 45 | M46: 6.8322981 | N46: 0 | O46: 9.3167702 | P46: 16.149068 | Q46: 78.881988 | R46: 27.950311 | S46: 11.545455
D47: D100 | E47: 112 (CNU) | F47: 0 | G47: 8 | H47: 0 | I47: 2 | J47: 10 | K47: 23 | L47: 0 | M47: 7.1428571 | N47: 0 | O47: 1.7857143 | P47: 8.9285714 | Q47: 20.535714 | R47: 0 | S47: 2.875
D48: D105 | E48: 124.294 (CNU) | F48: 0 | G48: 0 | H48: N/A | I48: 4 | J48: 4 | K48: 0 | L48: N/A | M48: 0 | N48: N/A | O48: 3.2181763 | P48: 3.2181763 | Q48: 0 | R48: N/A | S48: 0
D49: D110 | E49: 109 | F49: 0 | G49: 3 | H49: 0 | I49: 0 | J49: 3 | K49: 34 | L49: 50 | M49: 2.7522936 | N49: 0 | O49: 0 | P49: 2.7522936 | Q49: 31.192661 | R49: 45.87156 | S49: 11.333333
D50: D115 | E50: 184.401 | F50: 0 | G50: 2 | H50: N/A | I50: N/A | J50: 2 | K50: 11 | L50: N/A | M50: 1.0845928 | N50: N/A | O50: N/A | P50: 1.0845928 | Q50: 5.9652605 | R50: N/A | S50: 5.5
D51: D125 | E51: 233 (NCD) | F51: 0 | G51: 4 | H51: 8 | I51: 12 | J51: 24 | K51: 48 | L51: 131 | M51: 1.7167382 | N51: 3.4334764 | O51: 5.1502146 | P51: 10.300429 | Q51: 20.600858 | R51: 56.223176 | S51: 12
D52: D145 | E52: 165 (NCD) | F52: 0 | G52: 1 | H52: 0 | I52: 0 | J52: 1 | K52: 58 | L52: 0 | M52: 0.60606061 | N52: 0 | O52: 0 | P52: 0.60606061 | Q52: 35.151515 | R52: 0 | S52: 58
D53: D150 | E53: 135 (NCD) | F53: 0 | G53: 1 | H53: 0 | I53: 0 | J53: 1 | K53: 25 | L53: 0 | M53: 0.74074074 | N53: 0 | O53: 0 | P53: 0.74074074 | Q53: 18.518519 | R53: 0 | S53: 25
D54: D155 | E54: 140 | F54: 0 | G54: 1 | H54: 2 | I54: 3 | J54: 6 | K54: 7 | L54: 6 | M54: 0.71428571 | N54: 1.4285714 | O54: 2.1428571 | P54: 4.2857143 | Q54: 5 | R54: 4.2857143 | S54: 7
D55: D160 | E55: 139 (NCD) | F55: 0 | G55: 5 | H55: 1 | I55: 0 | J55: 6 | K55: 172 | L55: 2 | M55: 3.5971223 | N55: 0.71942446 | O55: 0 | P55: 4.3165468 | Q55: 123.74101 | R55: 1.4388489 | S55: 34.4
B56: Peer group summary | E56: 1633.695 | F56: 0 | G56: 37 | H56: 13 | I56: 43 | J56: 93 | K56: 533 | L56: 255 | M56: 2.2648046 | N56: 0.79574217 | O56: 2.6320702 | P56: 5.692617 | Q56: 32.625429 | R56: 15.608789 | S56: 14.405405
B57: Distribution summary | E57: 5252.195 | F57: 0 | G57: 76 | H57: 17 | I57: 119 | J57: 212 | K57: 1457 | L57: 398 | M57: 1.4470141 | N57: 0.3236742 | O57: 2.2657194 | P57: 4.0364076 | Q57: 27.740783 | R57: 7.5777841 | S57: 19.171053
B58: Industry summary | E58: 12699.035 | F58: 0 | G58: 109 | H58: 33 | I58: 179 | J58: 321 | K58: 2049 | L58: 958 | M58: 0.85833296 | N58: 0.25986227 | O58: 1.409556 | P58: 2.5277512 | Q58: 16.135085 | R58: 7.5438805 | S58: 18.798165

Sheet Distribution (medium) graphs
B2: Total Recordable Injury Frequency Rate | J2: Lost Time Injury Frequency Rate | R2: Lost Time Injury Severity Rate
B3: TRIFR - 5-year results - Medium-size distribution peer group | J3: LTIFR - 5-year results - Medium-size distribution peer group | R3: LTISR - 5-year results - Medium-size distribution peer group
D4: 2016 | E4: 2017 | F4: 2018 | G4: 2019 | L4: 2016 | M4: 2017 | N4: 2018 | O4: 2019 | T4: 2016 | U4: 2017 | V4: 2018 | W4: 2019
B5: Respondent code | C5: D55 | D5: =VLOOKUP($C5,'Distribution (medium) tables'!$D$45:$S$55,13,FALSE) -> 7.6335878 | E5: =VLOOKUP($C5,'Distribution (medium) tables'!$D$29:$S$39,13,FALSE) -> 9.7744361 | F5: =VLOOKUP($C5,'Distribution (medium) tables'!$D$16:$S$23,13,FALSE) -> 6.8181818 | G5: =VLOOKUP($C5,'Distribution (medium) tables'!$D$3:$S$10,13,FALSE) -> 6.870229 | J5: Respondent code | K5: D55 | L5: =VLOOKUP($K5,'Distribution (medium) tables'!$D$45:$S$55,10,FALSE) -> 0.76335878 | M5: =VLOOKUP($K5,'Distribution (medium) tables'!$D$29:$S$39,10,FALSE) -> 1.5037594 | N5: =VLOOKUP($K5,'Distribution (medium) tables'!$D$16:$S$23,10,FALSE) -> 2.2727273 | O5: =VLOOKUP($K5,'Distribution (medium) tables'!$D$3:$S$10,10,FALSE) -> 1.5267176 | R5: Respondent code | S5: D55 | T5: =VLOOKUP($S5,'Distribution (medium) tables'!$D$45:$S$55,14,FALSE) -> 21.374046 | U5: =VLOOKUP($S5,'Distribution (medium) tables'!$D$29:$S$39,14,FALSE) -> 48.87218 | V5: =VLOOKUP($S5,'Distribution (medium) tables'!$D$16:$S$23,14,FALSE) -> 20.454545 | W5: =VLOOKUP($S5,'Distribution (medium) tables'!$D$3:$S$10,14,FALSE) -> 3.8167939
C6: D85 | D6: =VLOOKUP($C6,'Distribution (medium) tables'!$D$45:$S$55,13,FALSE) -> 16.149068 | E6: =VLOOKUP($C6,'Distribution (medium) tables'!$D$29:$S$39,13,FALSE) -> 5.2238806 | F6: =VLOOKUP($C6,'Distribution (medium) tables'!$D$16:$S$23,13,FALSE) -> 11.515152 | G6: =VLOOKUP($C6,'Distribution (medium) tables'!$D$3:$S$10,13,FALSE) -> 9.7701149 | K6: D85 | L6: =VLOOKUP($K6,'Distribution (medium) tables'!$D$45:$S$55,10,FALSE) -> 6.8322981 | M6: =VLOOKUP($K6,'Distribution (medium) tables'!$D$29:$S$39,10,FALSE) -> 5.2238806 | N6: =VLOOKUP($K6,'Distribution (medium) tables'!$D$16:$S$23,10,FALSE) -> 2.4242424 | O6: =VLOOKUP($K6,'Distribution (medium) tables'!$D$3:$S$10,10,FALSE) -> 5.1724138 | S6: D85 | T6: =VLOOKUP($S6,'Distribution (medium) tables'!$D$45:$S$55,14,FALSE) -> 78.881988 | U6: =VLOOKUP($S6,'Distribution (medium) tables'!$D$29:$S$39,14,FALSE) -> 134.32836 | V6: =VLOOKUP($S6,'Distribution (medium) tables'!$D$16:$S$23,14,FALSE) -> 63.636364 | W6: =VLOOKUP($S6,'Distribution (medium) tables'!$D$3:$S$10,14,FALSE) -> 25.287356
C7: D100 | D7: =VLOOKUP($C7,'Distribution (medium) tables'!$D$45:$S$55,13,FALSE) -> 8.9285714 | E7: =VLOOKUP($C7,'Distribution (medium) tables'!$D$29:$S$39,13,FALSE) -> 5.0420168 | F7: =VLOOKUP($C7,'Distribution (medium) tables'!$D$16:$S$23,13,FALSE) -> 4.7244094 | G7: =VLOOKUP($C7,'Distribution (medium) tables'!$D$3:$S$10,13,FALSE) -> 7.2 | K7: D100 | L7: =VLOOKUP($K7,'Distribution (medium) tables'!$D$45:$S$55,10,FALSE) -> 7.1428571 | M7: =VLOOKUP($K7,'Distribution (medium) tables'!$D$29:$S$39,10,FALSE) -> 4.2016807 | N7: =VLOOKUP($K7,'Distribution (medium) tables'!$D$16:$S$23,10,FALSE) -> 4.7244094 | O7: =VLOOKUP($K7,'Distribution (medium) tables'!$D$3:$S$10,10,FALSE) -> 5.6 | S7: D100 | T7: =VLOOKUP($S7,'Distribution (medium) tables'!$D$45:$S$55,14,FALSE) -> 20.535714 | U7: =VLOOKUP($S7,'Distribution (medium) tables'!$D$29:$S$39,14,FALSE) -> 23.529412 | V7: =VLOOKUP($S7,'Distribution (medium) tables'!$D$16:$S$23,14,FALSE) -> 327.55906 | W7: =VLOOKUP($S7,'Distribution (medium) tables'!$D$3:$S$10,14,FALSE) -> 140
C8: D105 | D8: =VLOOKUP('Distribution (medium) graphs'!$C8,'Distribution (medium) tables'!$D$45:$S$55,13,FALSE) -> 3.2181763 | E8: =VLOOKUP('Distribution (medium) graphs'!$C8,'Distribution (small) tables'!$D$32:$S$39,13,FALSE) -> 0 | F8: =VLOOKUP('Distribution (medium) graphs'!$C8,'Distribution (medium) tables'!$D$16:$S$23,13,FALSE) -> 3.875969 | G8: - | K8: D105 | L8: =VLOOKUP('Distribution (medium) graphs'!$K8,'Distribution (medium) tables'!$D$45:$S$55,10,FALSE) -> 0 | M8: =VLOOKUP('Distribution (medium) graphs'!$K8,'Distribution (small) tables'!$D$32:$S$39,10,FALSE) -> 0 | N8: =VLOOKUP('Distribution (medium) graphs'!$K8,'Distribution (medium) tables'!$D$16:$S$23,10,FALSE) -> 2.3255814 | O8: - | S8: D105 | T8: =VLOOKUP($S8,'Distribution (medium) tables'!$D$45:$S$55,14,FALSE) -> 0 | U8: =VLOOKUP($S8,'Distribution (small) tables'!$D$32:$S$39,14,FALSE) -> 0 | V8: =VLOOKUP($S8,'Distribution (medium) tables'!$D$16:$S$23,14,FALSE) -> 13.953488 | W8: -
C9: D110 | D9: - | E9: - | F9: - | G9: =VLOOKUP($C9,'Distribution (medium) tables'!$D$3:$S$10,13,FALSE) -> 3.539823 | K9: D110 | L9: - | M9: - | N9: - | O9: =VLOOKUP($K9,'Distribution (medium) tables'!$D$3:$S$10,10,FALSE) -> 0.44247788 | S9: D110 | T9: - | U9: - | V9: - | W9: =VLOOKUP($S9,'Distribution (medium) tables'!$D$3:$S$10,14,FALSE) -> 1.3274336
C10: D115 | D10: =VLOOKUP($C10,'Distribution (medium) tables'!$D$45:$S$55,13,FALSE) -> 1.0845928 | E10: =VLOOKUP($C10,'Distribution (medium) tables'!$D$29:$S$39,13,FALSE) -> 6.25 | F10: =VLOOKUP($C10,'Distribution (medium) tables'!$D$16:$S$23,13,FALSE) -> 4.6979866 | G10: =VLOOKUP($C10,'Distribution (medium) tables'!$D$3:$S$10,13,FALSE) -> 1.9607843 | K10: D115 | L10: =VLOOKUP($K10,'Distribution (medium) tables'!$D$45:$S$55,10,FALSE) -> 1.0845928 | M10: =VLOOKUP($K10,'Distribution (medium) tables'!$D$29:$S$39,10,FALSE) -> 4.375 | N10: =VLOOKUP($K10,'Distribution (medium) tables'!$D$16:$S$23,10,FALSE) -> 2.6845638 | O10: =VLOOKUP($K10,'Distribution (medium) tables'!$D$3:$S$10,10,FALSE) -> 0.65359477 | S10: D115 | T10: =VLOOKUP($S10,'Distribution (medium) tables'!$D$45:$S$55,14,FALSE) -> 5.9652605 | U10: =VLOOKUP($S10,'Distribution (medium) tables'!$D$29:$S$39,14,FALSE) -> N/A | V10: =VLOOKUP($S10,'Distribution (medium) tables'!$D$16:$S$23,14,FALSE) -> 0 | W10: =VLOOKUP($S10,'Distribution (medium) tables'!$D$3:$S$10,14,FALSE) -> 47.058824
C11: D145 | D11: =VLOOKUP($C11,'Distribution (medium) tables'!$D$45:$S$55,13,FALSE) -> 0.60606061 | E11: =VLOOKUP($C11,'Distribution (medium) tables'!$D$29:$S$39,13,FALSE) -> 3.2679739 | F11: =VLOOKUP($C11,'Distribution (medium) tables'!$D$16:$S$23,13,FALSE) -> 4.0983607 | G11: =VLOOKUP($C11,'Distribution (medium) tables'!$D$3:$S$10,13,FALSE) -> 1.2121212 | K11: D145 | L11: =VLOOKUP($K11,'Distribution (medium) tables'!$D$45:$S$55,10,FALSE) -> 0.60606061 | M11: =VLOOKUP($K11,'Distribution (medium) tables'!$D$29:$S$39,10,FALSE) -> 1.9607843 | N11: =VLOOKUP($K11,'Distribution (medium) tables'!$D$16:$S$23,10,FALSE) -> 0.81967213 | O11: =VLOOKUP($K11,'Distribution (medium) tables'!$D$3:$S$10,10,FALSE) -> 0 | S11: D145 | T11: =VLOOKUP($S11,'Distribution (medium) tables'!$D$45:$S$55,14,FALSE) -> 35.151515 | U11: =VLOOKUP($S11,'Distribution (medium) tables'!$D$29:$S$39,14,FALSE) -> 36.601307 | V11: =VLOOKUP($S11,'Distribution (medium) tables'!$D$16:$S$23,14,FALSE) -> 2.4590164 | W11: =VLOOKUP($S11,'Distribution (medium) tables'!$D$3:$S$10,14,FALSE) -> 0
C12: D150 | D12: =VLOOKUP($C12,'Distribution (medium) tables'!$D$45:$S$55,13,FALSE) -> 0.74074074 | E12: =VLOOKUP($C12,'Distribution (medium) tables'!$D$29:$S$39,13,FALSE) -> 0 | F12: =VLOOKUP($C12,'Distribution (medium) tables'!$D$16:$S$23,13,FALSE) -> 0 | G12: =VLOOKUP($C12,'Distribution (medium) tables'!$D$3:$S$10,13,FALSE) -> 0 | K12: D150 | L12: =VLOOKUP($K12,'Distribution (medium) tables'!$D$45:$S$55,10,FALSE) -> 0.74074074 | M12: =VLOOKUP($K12,'Distribution (medium) tables'!$D$29:$S$39,10,FALSE) -> 0 | N12: =VLOOKUP($K12,'Distribution (medium) tables'!$D$16:$S$23,10,FALSE) -> 0 | O12: =VLOOKUP($K12,'Distribution (medium) tables'!$D$3:$S$10,10,FALSE) -> 0 | S12: D150 | T12: =VLOOKUP($S12,'Distribution (medium) tables'!$D$45:$S$55,14,FALSE) -> 18.518519 | U12: =VLOOKUP($S12,'Distribution (medium) tables'!$D$29:$S$39,14,FALSE) -> 0 | V12: =VLOOKUP($S12,'Distribution (medium) tables'!$D$16:$S$23,14,FALSE) -> 0 | W12: =VLOOKUP($S12,'Distribution (medium) tables'!$D$3:$S$10,14,FALSE) -> 0
C13: D160 | D13: =VLOOKUP($C13,'Distribution (medium) tables'!$D$45:$S$55,13,FALSE) -> 4.3165468 | E13: =VLOOKUP($C13,'Distribution (medium) tables'!$D$29:$S$39,13,FALSE) -> 1.459854 | F13: =VLOOKUP($C13,'Distribution (medium) tables'!$D$16:$S$23,13,FALSE) -> 1.1627907 | G13: =VLOOKUP($C13,'Distribution (medium) tables'!$D$3:$S$10,13,FALSE) -> 3.4482759 | K13: D160 | L13: =VLOOKUP($K13,'Distribution (medium) tables'!$D$45:$S$55,10,FALSE) -> 3.5971223 | M13: =VLOOKUP($K13,'Distribution (medium) tables'!$D$29:$S$39,10,FALSE) -> 0.72992701 | N13: =VLOOKUP($K13,'Distribution (medium) tables'!$D$16:$S$23,10,FALSE) -> 0.58139535 | O13: =VLOOKUP($K13,'Distribution (medium) tables'!$D$16:$S$23,10,FALSE) -> 0.58139535 | S13: D160 | T13: =VLOOKUP($S13,'Distribution (medium) tables'!$D$45:$S$55,14,FALSE) -> 123.74101 | U13: =VLOOKUP($S13,'Distribution (medium) tables'!$D$29:$S$39,14,FALSE) -> 30.656934 | V13: =VLOOKUP($S13,'Distribution (medium) tables'!$D$16:$S$23,14,FALSE) -> 0.58139535 | W13: =VLOOKUP($S13,'Distribution (medium) tables'!$D$3:$S$10,14,FALSE) -> 21.264368
B14: Distribution ≥ 100 and < 250 employees | D14: ='Distribution (medium) tables'!P56 -> 5.692617 | E14: ='Distribution (medium) tables'!$P40 -> 4.4647968 | F14: ='Distribution (medium) tables'!$P24 -> 4.665493 | G14: ='Distribution (medium) tables'!$P11 -> 3.9272727 | J14: Distribution ≥ 100 and < 250 employees | L14: ='Distribution (medium) tables'!M56 -> 2.2648046 | M14: ='Distribution (medium) tables'!$M40 -> 2.4613623 | N14: ='Distribution (medium) tables'!$M24 -> 1.9366197 | O14: ='Distribution (medium) tables'!$M11 -> 1.6727273 | R14: Distribution ≥ 100 and < 250 employees | T14: ='Distribution (medium) tables'!Q56 -> 32.625429 | U14: ='Distribution (medium) tables'!$Q40 -> 30.22324 | V14: ='Distribution (medium) tables'!$Q24 -> 50.176056 | W14: ='Distribution (medium) tables'!$Q11 -> 24.436364
B15: Distribution Total | D15: ='Distribution (medium) tables'!P57 -> 4.0364076 | E15: ='Distribution (medium) tables'!$P41 -> 3.4836378 | F15: ='Distribution (medium) tables'!$P25 -> 4.4190757 | G15: ='Distribution (medium) tables'!$P12 -> 3.358192 | J15: Distribution Total | L15: ='Distribution (medium) tables'!M57 -> 1.4470141 | M15: ='Distribution (medium) tables'!$M41 -> 1.7039533 | N15: ='Distribution (medium) tables'!$M25 -> 1.6308494 | O15: ='Distribution (medium) tables'!$M12 -> 1.3160482 | R15: Distribution Total | T15: ='Distribution (medium) tables'!Q57 -> 27.740783 | U15: ='Distribution (medium) tables'!$Q41 -> 29.629854 | V15: ='Distribution (medium) tables'!$Q25 -> 29.907673 | W15: ='Distribution (medium) tables'!$Q12 -> 19.902582
B16: Industry Total | D16: ='Distribution (medium) tables'!P58 -> 2.5277512 | E16: ='Distribution (medium) tables'!$P42 -> 2.2409818 | F16: ='Distribution (medium) tables'!$P26 -> 2.6935977 | G16: ='Distribution (medium) tables'!$P13 -> 2.2341678 | J16: Industry Total | L16: ='Distribution (medium) tables'!M58 -> 0.85833296 | M16: ='Distribution (medium) tables'!$M42 -> 0.94000915 | N16: ='Distribution (medium) tables'!$M26 -> 1.0175814 | O16: ='Distribution (medium) tables'!$M13 -> 0.93715091 | R16: Industry Total | T16: ='Distribution (medium) tables'!Q58 -> 16.135085 | U16: ='Distribution (medium) tables'!$Q42 -> 15.814714 | V16: ='Distribution (medium) tables'!$Q26 -> 15.192639 | W16: ='Distribution (medium) tables'!$Q13 -> 15.223079
B18: Select your respondent code -> | G18: 4 | K18: Select your respondent code -> | O18: 1 | S18: Select your respondent code -> | W18: 1
D19: 1 | E19: 2 | F19: 3 | G19: 4 | L19: 1 | M19: 2 | N19: 3 | O19: 4 | T19: 1 | U19: 2 | V19: 3 | W19: 4
C21: TRIFR Respondent | D21: 2016 | E21: 2017 | F21: 2018 | G21: 2019 | K21: LTIFR Respondent | L21: 2016 | M21: 2017 | N21: 2018 | O21: 2019 | S21: LTISR Respondent | T21: 2016 | U21: 2017 | V21: 2018 | W21: 2019
C22: =INDEX($C$5:$C$13,$G$18,1) -> D105 | D22: =INDEX($D$5:$G$13,$G$18,D$19) -> 3.2181763 | E22: =INDEX($D$5:$G$13,$G$18,E$19) -> 0 | F22: =INDEX($D$5:$G$13,$G$18,F$19) -> 3.875969 | G22: =INDEX($D$5:$G$13,$G$18,G$19) -> - | K22: =INDEX($K$5:$K$13,$O$18,1) -> D55 | L22: =INDEX($L$5:$O$13,$O$18,L$19) -> 0.76335878 | M22: =INDEX($L$5:$O$13,$O$18,M$19) -> 1.5037594 | N22: =INDEX($L$5:$O$13,$O$18,N$19) -> 2.2727273 | O22: =INDEX($L$5:$O$13,$O$18,O$19) -> 1.5267176 | S22: =INDEX($S$5:$S$13,$W$18,1) -> D55 | T22: =INDEX($T$5:$W$13,$W$18,T$19) -> 21.374046 | U22: =INDEX($T$5:$W$13,$W$18,U$19) -> 48.87218 | V22: =INDEX($T$5:$W$13,$W$18,V$19) -> 20.454545 | W22: =INDEX($T$5:$W$13,$W$18,W$19) -> 3.8167939
C23: Medium-size distribution | D23: =D14 -> 5.692617 | E23: =E14 -> 4.4647968 | F23: =F14 -> 4.665493 | G23: =G14 -> 3.9272727 | K23: Medium-size distribution | L23: =L14 -> 2.2648046 | M23: =M14 -> 2.4613623 | N23: =N14 -> 1.9366197 | O23: =O14 -> 1.6727273 | S23: Medium-size distribution | T23: =T14 -> 32.625429 | U23: =U14 -> 30.22324 | V23: =V14 -> 50.176056 | W23: =W14 -> 24.436364
C24: Distribution Total | D24: =D15 -> 4.0364076 | E24: =E15 -> 3.4836378 | F24: =F15 -> 4.4190757 | G24: =G15 -> 3.358192 | K24: Distribution Total | L24: =L15 -> 1.4470141 | M24: =M15 -> 1.7039533 | N24: =N15 -> 1.6308494 | O24: =O15 -> 1.3160482 | S24: Distribution Total | T24: =T15 -> 27.740783 | U24: =U15 -> 29.629854 | V24: =V15 -> 29.907673 | W24: =W15 -> 19.902582
C25: Industry Total | D25: =D16 -> 2.5277512 | E25: =E16 -> 2.2409818 | F25: =F16 -> 2.6935977 | G25: =G16 -> 2.2341678 | K25: Industry Total | L25: =L16 -> 0.85833296 | M25: =M16 -> 0.94000915 | N25: =N16 -> 1.0175814 | O25: =O16 -> 0.93715091 | S25: Industry Total | T25: =T16 -> 16.135085 | U25: =U16 -> 15.814714 | V25: =V16 -> 15.192639 | W25: =W16 -> 15.223079

Sheet Distribution (large) tables
B2: Distribution peers having ≥ 250 employees YE June 2019 | D2: Code | E2: FTEs | F2: Fatalities | G2: LTIs | H2: RWIs | I2: MTIs | J2: TRIs | K2: Days Lost to LTIs | L2: Days of Restricted Work | M2: LTIFR | N2: RWIFR | O2: MTIFR | P2: TRIFR | Q2: LTISR | R2: RWISR | S2: ATLR to LTIs
B3: Peer group respondents | D3: D60 | E3: 433 | F3: 0 | G3: 3 | H3: 8 | I3: 3 | J3: 14 | K3: 179 | L3: 90 | M3: 0.69284065 | N3: 1.8475751 | O3: 0.69284065 | P3: 3.2332564 | Q3: 41.339492 | R3: 20.785219 | S3: 59.666667
D4: D75 | E4: 433 | F4: 0 | G4: 3 | H4: 8 | I4: 3 | J4: 14 | K4: 179 | L4: 90 | M4: 0.69284065 | N4: 1.8475751 | O4: 0.69284065 | P4: 3.2332564 | Q4: 41.339492 | R4: 20.785219 | S4: 59.666667
D5: D95 | E5: 254 | F5: 0 | G5: 4 | H5: 2 | I5: 3 | J5: 9 | K5: 43 | L5: 15 | M5: 1.5748031 | N5: 0.78740157 | O5: 1.1811024 | P5: 3.5433071 | Q5: 16.929134 | R5: 5.9055118 | S5: 10.75
D6: D120 | E6: 277 (CNU) | F6: 0 | G6: 14 | H6: 0 | I6: 3 | J6: 17 | K6: 161 | L6: 0 | M6: 5.0541516 | N6: 0 | O6: 1.0830325 | P6: 6.1371841 | Q6: 58.122744 | R6: 0 | S6: 11.5
D7: D125 | E7: 261 (CNU) | F7: 0 | G7: 12 | H7: 0 | I7: 10 | J7: 22 | K7: 82 | L7: 0 | M7: 4.5977011 | N7: 0 | O7: 3.8314176 | P7: 8.4291188 | Q7: 31.417625 | R7: 0 | S7: 6.8333333
D8: D140 | E8: 725 | F8: 0 | G8: 11 | H8: 0 | I8: 11 | J8: 22 | K8: 125 | L8: 27 | M8: 1.5172414 | N8: 0 | O8: 1.5172414 | P8: 3.0344828 | Q8: 17.241379 | R8: 3.7241379 | S8: 11.363636
D9: D165 | E9: 1103 | F9: 0 | G9: 4 | H9: 23 | I9: 13 | J9: 40 | K9: 55 | L9: 181 | M9: 0.36264733 | N9: 2.0852221 | O9: 1.1786038 | P9: 3.6264733 | Q9: 4.9864007 | R9: 16.409791 | S9: 13.75
D10: D170 | E10: 371 | F10: 0 | G10: 0 | H10: 2 | I10: 1 | J10: 3 | K10: 0 | L10: 5 | M10: 0 | N10: 0.53908356 | O10: 0.26954178 | P10: 0.80862534 | Q10: 0 | R10: 1.3477089 | S10: 0
B11: Peer group summary | E11: 4618 | F11: 0 | G11: 52 | H11: 40 | I11: 50 | J11: 142 | K11: 782 | L11: 355 | M11: 1.1260286 | N11: 0.86617583 | O11: 1.0827198 | P11: 3.0749242 | Q11: 16.933738 | R11: 7.6873105 | S11: 15.038462
B12: Distribution summary | E12: 6610.7 | F12: 0 | G12: 87 | H12: 50 | I12: 85 | J12: 222 | K12: 1315.7 | L12: 456 | M12: 1.3160482 | N12: 0.75634955 | O12: 1.2857942 | P12: 3.358192 | Q12: 19.902582 | R12: 6.8979079 | S12: 15.122989
B13: Industry summary | E13: 13338.3 | F13: 0 | G13: 125 | H13: 65 | I13: 108 | J13: 298 | K13: 2030.5 | L13: 914 | M13: 0.93715091 | N13: 0.48731847 | O13: 0.80969839 | P13: 2.2341678 | Q13: 15.223079 | R13: 6.8524475 | S13: 16.244
B15: Distribution peers having ≥ 250 employees YE June 2018 | D15: Code | E15: FTEs | F15: Fatalities | G15: LTIs | H15: RWIs | I15: MTIs | J15: TRIs | K15: Days Lost to LTIs | L15: Days of Restricted Work | M15: LTIFR | N15: RWIFR | O15: MTIFR | P15: TRIFR | Q15: LTISR | R15: RWISR | S15: ATLR to LTIs
B16: Peer group respondents | D16: D75 | E16: 421 | F16: 0 | G16: 5 | H16: 9 | I16: 9 | J16: 23 | K16: 12 | L16: 0 | M16: 1.1876485 | N16: 2.1377672 | O16: 2.1377672 | P16: 5.4631829 | Q16: 2.8503563 | R16: 0 | S16: 2.4
D17: D95 | E17: 293 | F17: 0 | G17: 1 | H17: 2 | I17: 4 | J17: 7 | K17: 3 | L17: 5 | M17: 0.34129693 | N17: 0.68259386 | O17: 1.3651877 | P17: 2.3890785 | Q17: 1.0238908 | R17: 1.7064846 | S17: 3
D18: D110 | E18: 492 | F18: 0 | G18: 9 | H18: 2 | I18: 2 | J18: 13 | K18: 47 | L18: 21 | M18: 1.8292683 | N18: 0.40650407 | O18: 0.40650407 | P18: 2.6422764 | Q18: 9.5528455 | R18: 4.2682927 | S18: 5.2222222
D19: D120 | E19: 260 (CNU) | F19: 0 | G19: 13 | H19: 0 | I19: 5 | J19: 18 | K19: 205 | L19: 0 | M19: 5 | N19: 0 | O19: 1.9230769 | P19: 6.9230769 | Q19: 78.846154 | R19: 0 | S19: 15.769231
D20: D125 | E20: 270 | F20: 0 | G20: 10 | H20: 4 | I20: 10 | J20: 24 | K20: 40 | L20: 0 | M20: 3.7037037 | N20: 1.4814815 | O20: 3.7037037 | P20: 8.8888889 | Q20: 14.814815 | R20: 0 | S20: 4
D21: D140 | E21: 720 | F21: 0 | G21: 12 | H21: 1 | I21: 16 | J21: 29 | K21: 363 | L21: 300 | M21: 1.6666667 | N21: 0.13888889 | O21: 2.2222222 | P21: 4.0277778 | Q21: 50.416667 | R21: 41.666667 | S21: 30.25
D22: D165 | E22: 1011.55 | F22: 0 | G22: 6 | H22: 10 | I22: 32 | J22: 48 | K22: 101 | L22: 296 | M22: 0.59314913 | N22: 0.98858188 | O22: 3.163462 | P22: 4.745193 | Q22: 9.984677 | R22: 29.262024 | S22: 16.833333
D23: D170 | E23: 323 | F23: 0 | G23: 0 | H23: 0 | I23: 4 | J23: 4 | K23: 0 | L23: 0 | M23: 0 | N23: 0 | O23: 1.2383901 | P23: 1.2383901 | Q23: 0 | R23: 0 | S23: 0
D24: D180 | E24: 343 | F24: 0 | G24: 2 | H24: 2 | I24: 3 | J24: 7 | K24: 60 | L24: 30 | M24: 0.58309038 | N24: 0.58309038 | O24: 0.87463557 | P24: 2.0408163 | Q24: 17.492711 | R24: 8.7463557 | S24: 30
B25: Peer group summary | E25: 4133.55 | F25: 0 | G25: 58 | H25: 30 | I25: 85 | J25: 173 | K25: 831 | L25: 652 | M25: 1.4031523 | N25: 0.72576841 | O25: 2.0563438 | P25: 4.1852645 | Q25: 20.103785 | R25: 15.773367 | S25: 14.327586
B26: Distribution summary | E26: 5702.55 | F26: 0 | G26: 93 | H26: 34 | I26: 125 | J26: 252 | K26: 1705.5 | L26: 659 | M26: 1.6308494 | N26: 0.5962245 | O26: 2.1920018 | P26: 4.4190757 | Q26: 29.907673 | R26: 11.556234 | S26: 18.33871
B27: Industry summary | E27: 13365.025 | F27: 0 | G27: 136 | H27: 60 | I27: 164 | J27: 360 | K27: 2030.5 | L27: 914 | M27: 1.0175814 | N27: 0.44893296 | O27: 1.2270834 | P27: 2.6935977 | Q27: 15.192639 | R27: 6.8387454 | S27: 14.930147
B29: Distribution peers having ≥ 250 employees YE June 2017 | D29: Code | E29: FTEs | F29: Fatalities | G29: LTIs | H29: RWIs | I29: MTIs | J29: TRIs | K29: Days Lost to LTIs | L29: Days of Restricted Work | M29: LTIFR | N29: RWIFR | O29: MTIFR | P29: TRIFR | Q29: LTISR | R29: RWISR | S29: ATLR to LTIs
B30: Peer group respondents | D30: D75 | E30: 374 | F30: 0 | G30: 9 | H30: 0 | I30: 10 | J30: 19 | K30: 163 | L30: N/A | M30: 2.4064171 | N30: 0 | O30: 2.6737968 | P30: 5.0802139 | Q30: 43.582888 | R30: 0 | S30: 18.111111
D31: D120 | E31: 269 (CNU) | F31: 0 | G31: 8 | H31: 0 | I31: 9 | J31: 17 | K31: 76 | L31: 101 | M31: 2.9739777 | N31: 0 | O31: 3.3457249 | P31: 6.3197026 | Q31: 28.252788 | R31: 37.546468 | S31: 9.5
D32: D140 | E32: 661 | F32: 0 | G32: 6 | H32: 0 | I32: 3 | J32: 9 | K32: 82 | L32: 139 | M32: 0.90771558 | N32: 0 | O32: 0.45385779 | P32: 1.3615734 | Q32: 12.405446 | R32: 21.028744 | S32: 13.666667
D33: D165 | E33: 996.75 | F33: 0 | G33: 4 | H33: 0 | I33: 18 | J33: 22 | K33: 213 | L33: 22 | M33: 0.40130424 | N33: 0 | O33: 1.8058691 | P33: 2.2071733 | Q33: 21.369451 | R33: 2.2071733 | S33: 53.25
D34: D170 | E34: 329 | F34: 0 | G34: 0 | H34: 0 | I34: 2 | J34: 2 | K34: 0 | L34: 0 | M34: 0 | N34: 0 | O34: 0.60790274 | P34: 0.60790274 | Q34: 0 | R34: 0 | S34: 0
D35: D180 | E35: 472 (NCD) | F35: 0 | G35: 5 | H35: 5 | I35: 4 | J35: 14 | K35: 78 | L35: 49 | M35: 1.059322 | N35: 1.059322 | O35: 0.84745763 | P35: 2.9661017 | Q35: 16.525424 | R35: 10.381356 | S35: 15.6
B36: Peer group summary | E36: 3101.75 | F36: 0 | G36: 32 | H36: 5 | I36: 46 | J36: 83 | K36: 612 | L36: 311 | M36: 1.0316757 | N36: 0.16119932 | O36: 1.4830338 | P36: 2.6759088 | Q36: 19.730797 | R36: 10.026598 | S36: 19.125
B37: Distribution summary | E37: 5281.835 | F37: 0 | G37: 90 | H37: 15 | I37: 79 | J37: 184 | K37: 1565 | L37: 542 | M37: 1.7039533 | N37: 0.28399221 | O37: 1.4956923 | P37: 3.4836378 | Q37: 29.629854 | R37: 10.261585 | S37: 17.388889
B38: Industry summary | E38: 13297.743 | F38: 0 | G38: 125 | H38: 25 | I38: 148 | J38: 298 | K38: 2103 | L38: 703 | M38: 0.94000915 | N38: 0.18800183 | O38: 1.1129708 | P38: 2.2409818 | Q38: 15.814714 | R38: 5.2866115 | S38: 16.824
B40: Distribution peers having ≥ 250 employees YE June 2016 | D40: Code | E40: FTEs | F40: Fatalities | G40: LTIs | H40: RWIs | I40: MTIs | J40: TRIs | K40: Days Lost to LTIs | L40: Days of Restricted Work | M40: LTIFR | N40: RWIFR | O40: MTIFR | P40: TRIFR | Q40: LTISR | R40: RWISR | S40: ATLR to LTIs
B41: Peer group respondents | D41: D75 | E41: 367 | F41: 0 | G41: 3 | H41: 2 | I41: 11 | J41: 16 | K41: 9 | L41: 28 | M41: 0.81743869 | N41: 0.54495913 | O41: 2.9972752 | P41: 4.359673 | Q41: 2.4523161 | R41: 7.6294278 | S41: 3
D42: D95 | E42: 314 | F42: 0 | G42: 1 | H42: 1 | I42: 5 | J42: 7 | K42: 101 | L42: 9 | M42: 0.31847134 | N42: 0.31847134 | O42: 1.5923567 | P42: 2.2292994 | Q42: 32.165605 | R42: 2.866242 | S42: 101
D43: D120 | E43: 271 (CNU) | F43: 0 | G43: 12 | H43: 0 | I43: 14 | J43: 26 | K43: 323 | L43: 28 | M43: 4.4280443 | N43: 0 | O43: 5.1660517 | P43: 9.5940959 | Q43: 119.18819 | R43: 10.332103 | S43: 26.916667
D44: D140 | E44: 657 | F44: 0 | G44: 6 | H44: 0 | I44: 9 | J44: 15 | K44: 258 | L44: 27 | M44: 0.91324201 | N44: 0 | O44: 1.369863 | P44: 2.283105 | Q44: 39.269406 | R44: 4.109589 | S44: 43
D45: D165 | E45: 1025 | F45: 0 | G45: 3 | H45: N/A | I45: 23 | J45: 26 | K45: 96 | L45: N/A | M45: 0.29268293 | N45: N/A | O45: 2.2439024 | P45: 2.5365854 | Q45: 9.3658537 | R45: N/A | S45: 32
D46: D170 | E46: 333 | F46: 0 | G46: 1 | H46: 0 | I46: 0 | J46: 1 | K46: 42 | L46: 0 | M46: 0.3003003 | N46: 0 | O46: 0 | P46: 0.3003003 | Q46: 12.612613 | R46: 0 | S46: 42
D47: D180 | E47: 306 | F47: 0 | G47: 1 | H47: 1 | I47: 2 | J47: 4 | K47: 32 | L47: 4 | M47: 0.32679739 | N47: 0.32679739 | O47: 0.65359477 | P47: 1.3071895 | Q47: 10.457516 | R47: 1.3071895 | S47: 32
B48: Peer group summary | E48: 3273 | F48: 0 | G48: 27 | H48: 4 | I48: 64 | J48: 95 | K48: 861 | L48: 96 | M48: 0.82493126 | N48: 0.12221204 | O48: 1.9553926 | P48: 2.9025359 | Q48: 26.306141 | R48: 2.9330889 | S48: 31.888889
B49: Distribution summary | E49: 5252.195 | F49: 0 | G49: 76 | H49: 17 | I49: 119 | J49: 212 | K49: 1457 | L49: 398 | M49: 1.4470141 | N49: 0.3236742 | O49: 2.2657194 | P49: 4.0364076 | Q49: 27.740783 | R49: 7.5777841 | S49: 19.171053
B50: Industry summary | E50: 12699.035 | F50: 0 | G50: 109 | H50: 33 | I50: 179 | J50: 321 | K50: 2049 | L50: 958 | M50: 0.85833296 | N50: 0.25986227 | O50: 1.409556 | P50: 2.5277512 | Q50: 16.135085 | R50: 7.5438805 | S50: 18.798165

Sheet Distribution (large) graphs
B2: Total Recordable Injury Frequency Rate | J2: Lost Time Injury Frequency Rate | R2: Lost Time Injury Severity Rate
B3: TRIFR - 5-year results - Large-size distribution peer group | J3: LTIFR - 5-year results - Large-size distribution peer group | R3: LTISR - 5-year results - Large-size distribution peer group
D4: 2016 | E4: 2017 | F4: 2018 | G4: 2019 | L4: 2016 | M4: 2017 | N4: 2018 | O4: 2019 | T4: 2016 | U4: 2017 | V4: 2018 | W4: 2019
B5: Respondent code | C5: D60 | D5: =IFERROR(VLOOKUP($C5,'Distribution (large) tables'!$D$41:$S$47,13,FALSE),"-") -> - | E5: =IFERROR(VLOOKUP($C5,'Distribution (large) tables'!$D$30:$S$35,13,FALSE),"-") -> - | F5: =IFERROR(VLOOKUP($C5,'Distribution (large) tables'!$D$16:$S$24,13,FALSE),"-") -> - | G5: =IFERROR(VLOOKUP($C5,'Distribution (large) tables'!$D$3:$S$10,13,FALSE),"-") -> 3.2332564 | J5: Respondent code | K5: D60 | L5: - | M5: - | N5: - | O5: =VLOOKUP($K5,'Distribution (large) tables'!$D$3:$S$10,10,FALSE) -> 0.69284065 | R5: Respondent code | S5: D60 | T5: - | U5: - | V5: - | W5: =VLOOKUP($S5,'Distribution (large) tables'!$D$3:$S$10,14,FALSE) -> 41.339492
C6: D75 | D6: =IFERROR(VLOOKUP($C6,'Distribution (large) tables'!$D$41:$S$47,13,FALSE),"-") -> 4.359673 | E6: =VLOOKUP($C6,'Distribution (large) tables'!$D$29:$S$39,13,FALSE) -> 5.0802139 | F6: =IFERROR(VLOOKUP($C6,'Distribution (large) tables'!$D$16:$S$24,13,FALSE),"-") -> 5.4631829 | G6: =IFERROR(VLOOKUP($C6,'Distribution (large) tables'!$D$3:$S$10,13,FALSE),"-") -> 3.2332564 | K6: D75 | L6: =VLOOKUP($K6,'Distribution (large) tables'!$D$41:$S$47,10,FALSE) -> 0.81743869 | M6: =VLOOKUP($K6,'Distribution (large) tables'!$D$29:$S$39,10,FALSE) -> 2.4064171 | N6: =VLOOKUP($K6,'Distribution (large) tables'!$D$16:$S$24,10,FALSE) -> 1.1876485 | O6: =VLOOKUP($K6,'Distribution (large) tables'!$D$3:$S$10,10,FALSE) -> 0.69284065 | S6: D75 | T6: =VLOOKUP($S6,'Distribution (large) tables'!$D$41:$S$47,14,FALSE) -> 2.4523161 | U6: =VLOOKUP($S6,'Distribution (large) tables'!$D$29:$S$39,14,FALSE) -> 43.582888 | V6: =VLOOKUP($S6,'Distribution (large) tables'!$D$16:$S$24,14,FALSE) -> 2.8503563 | W6: =VLOOKUP($S6,'Distribution (large) tables'!$D$3:$S$10,14,FALSE) -> 41.339492
C7: D95 | D7: =IFERROR(VLOOKUP($C7,'Distribution (large) tables'!$D$41:$S$47,13,FALSE),"-") -> 2.2292994 | E7: =VLOOKUP($C7,'Distribution (medium) tables'!$D$29:$S$39,13,FALSE) -> 2.8455285 | F7: =IFERROR(VLOOKUP($C7,'Distribution (large) tables'!$D$16:$S$24,13,FALSE),"-") -> 2.3890785 | G7: =IFERROR(VLOOKUP($C7,'Distribution (large) tables'!$D$3:$S$10,13,FALSE),"-") -> 3.5433071 | K7: D95 | L7: =VLOOKUP($K7,'Distribution (large) tables'!$D$41:$S$47,10,FALSE) -> 0.31847134 | M7: =VLOOKUP($K7,'Distribution (medium) tables'!$D$29:$S$39,10,FALSE) -> 1.2195122 | N7: =VLOOKUP($K7,'Distribution (large) tables'!$D$16:$S$24,10,FALSE) -> 0.34129693 | O7: =VLOOKUP($K7,'Distribution (large) tables'!$D$3:$S$10,10,FALSE) -> 1.5748031 | S7: D95 | T7: =VLOOKUP($S7,'Distribution (large) tables'!$D$41:$S$47,14,FALSE) -> 32.165605 | U7: =VLOOKUP($S7,'Distribution (medium) tables'!$D$29:$S$39,14,FALSE) -> 8.5365854 | V7: =VLOOKUP($S7,'Distribution (large) tables'!$D$16:$S$24,14,FALSE) -> 1.0238908 | W7: =VLOOKUP($S7,'Distribution (large) tables'!$D$3:$S$10,14,FALSE) -> 16.929134
C8: D110 | D8: =VLOOKUP($C8,'Distribution (medium) tables'!$D$45:$S$55,13,FALSE) -> 2.7522936 | E8: =VLOOKUP($C8,'Distribution (medium) tables'!$D$29:$S$39,13,FALSE) -> 4.2944785 | F8: =IFERROR(VLOOKUP($C8,'Distribution (large) tables'!$D$16:$S$24,13,FALSE),"-") -> 2.6422764 | G8: =IFERROR(VLOOKUP($C8,'Distribution (large) tables'!$D$3:$S$10,13,FALSE),"-") -> - | K8: D110 | L8: =VLOOKUP($K8,'Distribution (medium) tables'!$D$45:$S$55,10,FALSE) -> 2.7522936 | M8: =VLOOKUP($K8,'Distribution (medium) tables'!$D$29:$S$39,10,FALSE) -> 3.0674847 | N8: =VLOOKUP($K8,'Distribution (large) tables'!$D$16:$S$24,10,FALSE) -> 1.8292683 | O8: - | S8: D110 | T8: =VLOOKUP($S8,'Distribution (medium) tables'!$D$45:$S$55,14,FALSE) -> 31.192661 | U8: =VLOOKUP($S8,'Distribution (medium) tables'!$D$29:$S$39,14,FALSE) -> 41.104294 | V8: =VLOOKUP($S8,'Distribution (large) tables'!$D$16:$S$24,14,FALSE) -> 9.5528455 | W8: -
C9: D120 | D9: =IFERROR(VLOOKUP($C9,'Distribution (large) tables'!$D$41:$S$47,13,FALSE),"-") -> 9.5940959 | E9: =IFERROR(VLOOKUP($C9,'Distribution (large) tables'!$D$30:$S$35,13,FALSE),"-") -> 6.3197026 | F9: =IFERROR(VLOOKUP($C9,'Distribution (large) tables'!$D$16:$S$24,13,FALSE),"-") -> 6.9230769 | G9: =IFERROR(VLOOKUP($C9,'Distribution (large) tables'!$D$3:$S$10,13,FALSE),"-") -> 6.1371841 | K9: D120 | L9: =VLOOKUP($K9,'Distribution (large) tables'!$D$41:$S$47,10,FALSE) -> 4.4280443 | M9: =VLOOKUP($K9,'Distribution (large) tables'!$D$30:$S$35,10,FALSE) -> 2.9739777 | N9: =VLOOKUP($K9,'Distribution (large) tables'!$D$16:$S$24,10,FALSE) -> 5 | O9: =VLOOKUP($K9,'Distribution (large) tables'!$D$3:$S$10,10,FALSE) -> 5.0541516 | S9: D120 | T9: =VLOOKUP($S9,'Distribution (large) tables'!$D$41:$S$47,14,FALSE) -> 119.18819 | U9: =VLOOKUP($S9,'Distribution (large) tables'!$D$30:$S$35,14,FALSE) -> 28.252788 | V9: =VLOOKUP($S9,'Distribution (large) tables'!$D$16:$S$24,14,FALSE) -> 78.846154 | W9: =VLOOKUP($S9,'Distribution (large) tables'!$D$3:$S$10,14,FALSE) -> 58.122744
C10: D125 | D10: =VLOOKUP($C10,'Distribution (medium) tables'!$D$45:$S$55,13,FALSE) -> 10.300429 | E10: =VLOOKUP($C10,'Distribution (medium) tables'!$D$29:$S$39,13,FALSE) -> 7.3469388 | F10: =IFERROR(VLOOKUP($C10,'Distribution (large) tables'!$D$16:$S$24,13,FALSE),"-") -> 8.8888889 | G10: =IFERROR(VLOOKUP($C10,'Distribution (large) tables'!$D$3:$S$10,13,FALSE),"-") -> 8.4291188 | K10: D125 | L10: =VLOOKUP($K10,'Distribution (medium) tables'!$D$45:$S$55,10,FALSE) -> 1.7167382 | M10: =VLOOKUP($K10,'Distribution (medium) tables'!$D$29:$S$39,10,FALSE) -> 3.6734694 | N10: =VLOOKUP($K10,'Distribution (large) tables'!$D$16:$S$24,10,FALSE) -> 3.7037037 | O10: =VLOOKUP($K10,'Distribution (large) tables'!$D$3:$S$10,10,FALSE) -> 4.5977011 | S10: D125 | T10: =VLOOKUP($S10,'Distribution (medium) tables'!$D$45:$S$55,14,FALSE) -> 20.600858 | U10: =VLOOKUP($S10,'Distribution (medium) tables'!$D$29:$S$39,14,FALSE) -> 17.55102 | V10: =VLOOKUP($S10,'Distribution (large) tables'!$D$16:$S$24,14,FALSE) -> 14.814815 | W10: =VLOOKUP($S10,'Distribution (large) tables'!$D$3:$S$10,14,FALSE) -> 31.417625
C11: D140 | D11: =IFERROR(VLOOKUP($C11,'Distribution (large) tables'!$D$41:$S$47,13,FALSE),"-") -> 2.283105 | E11: =IFERROR(VLOOKUP($C11,'Distribution (large) tables'!$D$30:$S$35,13,FALSE),"-") -> 1.3615734 | F11: =IFERROR(VLOOKUP($C11,'Distribution (large) tables'!$D$16:$S$24,13,FALSE),"-") -> 4.0277778 | G11: =IFERROR(VLOOKUP($C11,'Distribution (large) tables'!$D$3:$S$10,13,FALSE),"-") -> 3.0344828 | K11: D140 | L11: =VLOOKUP($K11,'Distribution (large) tables'!$D$41:$S$47,10,FALSE) -> 0.91324201 | M11: =VLOOKUP($K11,'Distribution (large) tables'!$D$30:$S$35,10,FALSE) -> 0.90771558 | N11: =VLOOKUP($K11,'Distribution (large) tables'!$D$16:$S$24,10,FALSE) -> 1.6666667 | O11: =VLOOKUP($K11,'Distribution (large) tables'!$D$3:$S$10,10,FALSE) -> 1.5172414 | S11: D140 | T11: =VLOOKUP($S11,'Distribution (large) tables'!$D$41:$S$47,14,FALSE) -> 39.269406 | U11: =VLOOKUP($S11,'Distribution (large) tables'!$D$30:$S$35,14,FALSE) -> 12.405446 | V11: =VLOOKUP($S11,'Distribution (large) tables'!$D$16:$S$24,14,FALSE) -> 50.416667 | W11: =VLOOKUP($S11,'Distribution (large) tables'!$D$3:$S$10,14,FALSE) -> 17.241379
C12: D165 | D12: =IFERROR(VLOOKUP($C12,'Distribution (large) tables'!$D$41:$S$47,13,FALSE),"-") -> 2.5365854 | E12: =IFERROR(VLOOKUP($C12,'Distribution (large) tables'!$D$30:$S$35,13,FALSE),"-") -> 2.2071733 | F12: =IFERROR(VLOOKUP($C12,'Distribution (large) tables'!$D$16:$S$24,13,FALSE),"-") -> 4.745193 | G12: =IFERROR(VLOOKUP($C12,'Distribution (large) tables'!$D$3:$S$10,13,FALSE),"-") -> 3.6264733 | K12: D165 | L12: =VLOOKUP($K12,'Distribution (large) tables'!$D$41:$S$47,10,FALSE) -> 0.29268293 | M12: =VLOOKUP($K12,'Distribution (large) tables'!$D$30:$S$35,10,FALSE) -> 0.40130424 | N12: =VLOOKUP($K12,'Distribution (large) tables'!$D$16:$S$24,10,FALSE) -> 0.59314913 | O12: =VLOOKUP($K12,'Distribution (large) tables'!$D$3:$S$10,10,FALSE) -> 0.36264733 | S12: D165 | T12: =VLOOKUP($S12,'Distribution (large) tables'!$D$41:$S$47,14,FALSE) -> 9.3658537 | U12: =VLOOKUP($S12,'Distribution (large) tables'!$D$30:$S$35,14,FALSE) -> 21.369451 | V12: =VLOOKUP($S12,'Distribution (large) tables'!$D$16:$S$24,14,FALSE) -> 9.984677 | W12: =VLOOKUP($S12,'Distribution (large) tables'!$D$3:$S$10,14,FALSE) -> 4.9864007
C13: D170 | D13: =IFERROR(VLOOKUP($C13,'Distribution (large) tables'!$D$41:$S$47,13,FALSE),"-") -> 0.3003003 | E13: =IFERROR(VLOOKUP($C13,'Distribution (large) tables'!$D$30:$S$35,13,FALSE),"-") -> 0.60790274 | F13: =IFERROR(VLOOKUP($C13,'Distribution (large) tables'!$D$16:$S$24,13,FALSE),"-") -> 1.2383901 | G13: =IFERROR(VLOOKUP($C13,'Distribution (large) tables'!$D$3:$S$10,13,FALSE),"-") -> 0.80862534 | K13: D170 | L13: =VLOOKUP($K13,'Distribution (large) tables'!$D$41:$S$47,10,FALSE) -> 0.3003003 | M13: =VLOOKUP($K13,'Distribution (large) tables'!$D$30:$S$35,10,FALSE) -> 0 | N13: =VLOOKUP($K13,'Distribution (large) tables'!$D$16:$S$24,10,FALSE) -> 0 | O13: =VLOOKUP($K13,'Distribution (large) tables'!$D$3:$S$10,10,FALSE) -> 0 | S13: D170 | T13: =VLOOKUP($S13,'Distribution (large) tables'!$D$41:$S$47,14,FALSE) -> 12.612613 | U13: =VLOOKUP($S13,'Distribution (large) tables'!$D$30:$S$35,14,FALSE) -> 0 | V13: =VLOOKUP($S13,'Distribution (large) tables'!$D$16:$S$24,14,FALSE) -> 0 | W13: =VLOOKUP($S13,'Distribution (large) tables'!$D$3:$S$10,14,FALSE) -> 0
C14: D180 | D14: =IFERROR(VLOOKUP($C14,'Distribution (large) tables'!$D$41:$S$47,13,FALSE),"-") -> 1.3071895 | E14: =IFERROR(VLOOKUP($C14,'Distribution (large) tables'!$D$30:$S$35,13,FALSE),"-") -> 2.9661017 | F14: =IFERROR(VLOOKUP($C14,'Distribution (large) tables'!$D$16:$S$24,13,FALSE),"-") -> 2.0408163 | G14: =IFERROR(VLOOKUP($C14,'Distribution (large) tables'!$D$3:$S$10,13,FALSE),"-") -> - | K14: D180 | L14: =VLOOKUP($K14,'Distribution (large) tables'!$D$41:$S$47,10,FALSE) -> 0.32679739 | M14: =VLOOKUP($K14,'Distribution (large) tables'!$D$30:$S$35,10,FALSE) -> 1.059322 | N14: =VLOOKUP($K14,'Distribution (large) tables'!$D$16:$S$24,10,FALSE) -> 0.58309038 | O14: - | S14: D180 | T14: =VLOOKUP($S14,'Distribution (large) tables'!$D$41:$S$47,14,FALSE) -> 10.457516 | U14: =VLOOKUP($S14,'Distribution (large) tables'!$D$30:$S$35,14,FALSE) -> 16.525424 | V14: =VLOOKUP($S14,'Distribution (large) tables'!$D$16:$S$24,14,FALSE) -> 17.492711 | W14: -
B15: Distribution ≥ 250 employees | D15: ='Distribution (large) tables'!P48 -> 2.9025359 | E15: ='Distribution (large) tables'!$P36 -> 2.6759088 | F15: ='Distribution (large) tables'!$P25 -> 4.1852645 | G15: ='Distribution (large) tables'!$P11 -> 3.0749242 | J15: Distribution ≥ 250 employees | L15: ='Distribution (large) tables'!M48 -> 0.82493126 | M15: ='Distribution (large) tables'!$M36 -> 1.0316757 | N15: ='Distribution (large) tables'!$M25 -> 1.4031523 | O15: ='Distribution (large) tables'!$M11 -> 1.1260286 | R15: Distribution ≥ 250 employees | T15: ='Distribution (large) tables'!Q48 -> 26.306141 | U15: ='Distribution (large) tables'!$Q36 -> 19.730797 | V15: ='Distribution (large) tables'!$Q25 -> 20.103785 | W15: ='Distribution (large) tables'!$Q11 -> 16.933738
B16: Distribution Total | D16: ='Distribution (large) tables'!P49 -> 4.0364076 | E16: ='Distribution (large) tables'!$P37 -> 3.4836378 | F16: ='Distribution (large) tables'!$P26 -> 4.4190757 | G16: ='Distribution (large) tables'!$P12 -> 3.358192 | J16: Distribution Total | L16: ='Distribution (large) tables'!M49 -> 1.4470141 | M16: ='Distribution (large) tables'!$M37 -> 1.7039533 | N16: ='Distribution (large) tables'!$M26 -> 1.6308494 | O16: ='Distribution (large) tables'!$M12 -> 1.3160482 | R16: Distribution Total | T16: ='Distribution (large) tables'!Q49 -> 27.740783 | U16: ='Distribution (large) tables'!$Q37 -> 29.629854 | V16: ='Distribution (large) tables'!$Q26 -> 29.907673 | W16: ='Distribution (large) tables'!$Q12 -> 19.902582
B17: Industry Total | D17: ='Distribution (large) tables'!P50 -> 2.5277512 | E17: ='Distribution (large) tables'!$P38 -> 2.2409818 | F17: ='Distribution (large) tables'!$P27 -> 2.6935977 | G17: ='Distribution (large) tables'!$P13 -> 2.2341678 | J17: Industry Total | L17: ='Distribution (large) tables'!M50 -> 0.85833296 | M17: ='Distribution (large) tables'!$M38 -> 0.94000915 | N17: ='Distribution (large) tables'!$M27 -> 1.0175814 | O17: ='Distribution (large) tables'!$M13 -> 0.93715091 | R17: Industry Total | T17: ='Distribution (large) tables'!Q50 -> 16.135085 | U17: ='Distribution (large) tables'!$Q38 -> 15.814714 | V17: ='Distribution (large) tables'!$Q27 -> 15.192639 | W17: ='Distribution (large) tables'!$Q13 -> 15.223079
B19: Select your respondent code -> | G19: 1 | O19: 1 | W19: 1
D20: 1 | E20: 2 | F20: 3 | G20: 4 | L20: 1 | M20: 2 | N20: 3 | O20: 4 | T20: 1 | U20: 2 | V20: 3 | W20: 4
C22: TRIFR Respondent | D22: 2016 | E22: 2017 | F22: 2018 | G22: 2019 | K22: LTIFR Respondent | L22: 2016 | M22: 2017 | N22: 2018 | O22: 2019 | S22: LTISR Respondent | T22: 2016 | U22: 2017 | V22: 2018 | W22: 2019
C23: =INDEX($C$5:$C$14,$G$19,1) -> D60 | D23: =INDEX($D$5:$G$14,$G$19,D$20) -> - | E23: =INDEX($D$5:$G$14,$G$19,E$20) -> - | F23: =INDEX($D$5:$G$14,$G$19,F$20) -> - | G23: =INDEX($D$5:$G$14,$G$19,G$20) -> 3.2332564 | K23: =INDEX($K$5:$K$14,$O$19,1) -> D60 | L23: =INDEX($L$5:$O$14,$O$19,L$20) -> - | M23: =INDEX($L$5:$O$14,$O$19,M$20) -> - | N23: =INDEX($L$5:$O$14,$O$19,N$20) -> - | O23: =INDEX($L$5:$O$14,$O$19,O$20) -> 0.69284065 | S23: =INDEX($S$5:$S$14,$W$19,1) -> D60 | T23: =INDEX($T$5:$W$14,$W$19,T$20) -> - | U23: =INDEX($T$5:$W$14,$W$19,U$20) -> - | V23: =INDEX($T$5:$W$14,$W$19,V$20) -> - | W23: =INDEX($T$5:$W$14,$W$19,W$20) -> 41.339492
C24: Large-size distribution | D24: =D15 -> 2.9025359 | E24: =E15 -> 2.6759088 | F24: =F15 -> 4.1852645 | G24: =G15 -> 3.0749242 | K24: Large-size distribution | L24: =L15 -> 0.82493126 | M24: =M15 -> 1.0316757 | N24: =N15 -> 1.4031523 | O24: =O15 -> 1.1260286 | S24: Large-size distribution | T24: =T15 -> 26.306141 | U24: =U15 -> 19.730797 | V24: =V15 -> 20.103785 | W24: =W15 -> 16.933738
C25: Distribution Total | D25: =D16 -> 4.0364076 | E25: =E16 -> 3.4836378 | F25: =F16 -> 4.4190757 | G25: =G16 -> 3.358192 | K25: Distribution Total | L25: =L16 -> 1.4470141 | M25: =M16 -> 1.7039533 | N25: =N16 -> 1.6308494 | O25: =O16 -> 1.3160482 | S25: Distribution Total | T25: =T16 -> 27.740783 | U25: =U16 -> 29.629854 | V25: =V16 -> 29.907673 | W25: =W16 -> 19.902582
C26: Industry Total | D26: =D17 -> 2.5277512 | E26: =E17 -> 2.2409818 | F26: =F17 -> 2.6935977 | G26: =G17 -> 2.2341678 | K26: Industry Total | L26: =L17 -> 0.85833296 | M26: =M17 -> 0.94000915 | N26: =N17 -> 1.0175814 | O26: =O17 -> 0.93715091 | S26: Industry Total | T26: =T17 -> 16.135085 | U26: =U17 -> 15.814714 | V26: =V17 -> 15.192639 | W26: =W17 -> 15.223079
