Workbook
Name InputOrgGroupingByYear: [1]Input!$AR$2:$AR$1031
Name LTIFRBySector: OFFSET('[1]Tables by Sector'!$BS$3,0,0,COUNTA('[1]Tables by Sector'!$BS:$BS)-1,6)
Name LTISRBySector: OFFSET('[1]Tables by Sector'!$DS$4,0,0,COUNTA('[1]Tables by Sector'!$DS:$DS)-1,6)
Name MTIFRBySector: OFFSET('[1]Tables by Sector'!$BE$3,0,0,COUNTA('[1]Tables by Sector'!$BE:$BE)-1,6)
Name RWIFRBySector: OFFSET('[2]Tables by Sector'!$BK$3,0,0,COUNTA('[2]Tables by Sector'!$BK:$BK)-1,6)
Name RWISRBySector: OFFSET('[2]Tables by Sector'!$CW$4,0,0,COUNTA('[2]Tables by Sector'!$CW:$CW)-1,6)
Name TRIFRBySector: OFFSET('[1]Tables by Sector'!$BZ$3,0,0,COUNTA('[1]Tables by Sector'!$BZ:$BZ)-1,6)

Sheet Contents
B3: Electricity Supply Industry - Safety Performance Trends and Benchmark by Sector and Peer Groups
B4: Four years to 30 June 2019*
C6: This benchmarking document is provided by the EEA to survey respondents. It complements the 2018 ESI Safety Performance Indicators Report and enables respondents to extract data, tables and graphs for internal use and reporting. Information contained in this document are confidential and should not be made accessible outside of the participating ESI companies, to the public, or to government agencies.
C9: All frequency and severity rates gathered in this document are based on 200,000 hours worked (equivalent to 100 FTEs), and all reporting years end on 30 June.
C10: Note that LTI data and related indicators do not include Fatalities, as defined in the 2018 EEA survey specifications.
C11: * Benchmarking data is provided stating at 2015 because calculations for severity rates now use calendar days rather than working days. This information is only available starting from 2015
C13: The table of contents below contains hyperlinks that will direct you to the appropriate spreadsheets and cells.
B15: Table of Contents
C17: 1. Industry summary data
D18: Full summary table of industry data for YE 2019, 2018, 2017 and 2016 | K18: Select year in drop-down list in table
D19: Table: Fatalities by Sector since 2004 | H19: Graph: ESI LTI number and LTIFR since 2009
D20: Table: LTIs by Sector since 2009 | H20: Graph: LTIFR by Sector since 2009
D21: Table: LTIFR by Sector since 2009 | H21: Graph: LTIFR by Sector and FTE Grouping since 2009
D22: Table: LTISR by Sector since 2016 | H22: Graph: LTISR by Sector since 2016
D23: Table: ATLR to LTIs by Sector since 2016 | H23: Graph: ATLR to LTIs by Sector since 2016
C24: 2. Individual Respondents Benchmark Tables
D25: Full benchmark tables for YE 2019, 2018, 2017 and 2016 for each peer group:
E26: Generation sector
E27: Transmission sector
E28: Small-size distribution sector (less than 100 employees)
E29: Medium-size distribution sector (between 100 and 250 employees)
E30: Large-size distribution sector (more than 250 employees)
C31: 3. Individual Respondents Benchmark Graphs
D32: TRIFR, LTIFR and LTISR benchmark graphs for YE 2019, 2018, 2017 and 2016 for each peer group:
E33: Generation sector | L33: Select respondent code in drop-down list in tables
E34: Transmission sector
E35: Small-size distribution sector (less than 100 employees)
E36: Medium-size distribution sector (between 100 and 250 employees)
E37: Large-size distribution sector (more than 250 employees)
D38: Note: LTIFR data available in the white area (left), LTISR data on the grey area (right) of the sheet
C40: Note to Distribution respondents: Distribution respondents that have switched peer groups in previous years will find their LTIFR and LTISR benchmark results among the tables in the peer groups to which they belonged in previous years. Their LTIFR and LTISR charts are however inserted among the peer group in which they belong in 2018.
C42: Abbreviations and formulas used in this document:
C43: General
C44: NCD | D44: No Contractor Data provided
C45: CNU | D45: Contractors Not Used
C46: FTE | D46: Full-time Equivalent Employees. One full-time employee is considered to work 40 hours a week, 50 weeks a year.
C47: Injuries or illnesses
C48: LTI | D48: Lost Time Injury or Illness
C49: RWI | D49: Restricted Work Injury or Illness
C50: MTI | D50: Medical Treatment Injury or Illness
...

Sheet All Industry - Data
A1: Year ended 2019 | B1: 1
A2: Year ended 2018 | B2: 2
A3: Year ended 2017 | B3: 3 | C3: Year ended 2018 | D3: FTEs | E3: Fatalities | F3: LTIs | G3: RWIs | H3: MTIs | I3: TRIs | J3: Days Lost to LTIs | K3: Days of Restricted Work | L3: LTIFR | M3: RWIFR | N3: MTIFR | O3: TRIFR | P3: LTISR | Q3: RWISR | R3: ATLR to LTIs
A4: Year ended 2016 | B4: 4 | C4: Generation | D4: 4911.1 | E4: 0 | F4: 28 | G4: 8 | H4: 15 | I4: 51 | J4: 284 | K4: 75 | L4: 0.57013704 | M4: 0.1628963 | N4: 0.30543056 | O4: 1.0384639 | P4: 5.7828185 | Q4: 1.5271528 | R4: 10.142857
C5: Transmission | D5: 1816.5 | E5: 0 | F5: 10 | G5: 7 | H5: 8 | I5: 25 | J5: 64 | K5: 36 | L5: 0.55050922 | M5: 0.38535645 | N5: 0.44040738 | O5: 1.3762731 | P5: 3.523259 | Q5: 1.9818332 | R5: 6.4
C6: Distribution < 100 employees | D6: 617.7 | E6: 0 | F6: 12 | G6: 2 | H6: 12 | I6: 26 | J6: 197.7 | K6: 58 | L6: 1.9426906 | M6: 0.32378177 | N6: 1.9426906 | O6: 4.209163 | P6: 32.005828 | Q6: 9.3896714 | R6: 16.475
C7: Distribution ≥ 100 and < 250 empl. | D7: 1375 | E7: 0 | F7: 23 | G7: 8 | H7: 23 | I7: 54 | J7: 336 | K7: 43 | L7: 1.6727273 | M7: 0.58181818 | N7: 1.6727273 | O7: 3.9272727 | P7: 24.436364 | Q7: 3.1272727 | R7: 14.608696
C8: Distribution ≥ 250 employees | D8: 4618 | E8: 0 | F8: 52 | G8: 40 | H8: 50 | I8: 142 | J8: 782 | K8: 355 | L8: 1.1260286 | M8: 0.86617583 | N8: 1.0827198 | O8: 3.0749242 | P8: 16.933738 | Q8: 7.6873105 | R8: 15.038462
C9: Distribution total | D9: 6610.7 | E9: 0 | F9: 87 | G9: 50 | H9: 85 | I9: 222 | J9: 1315.7 | K9: 456 | L9: 1.3160482 | M9: 0.75634955 | N9: 1.2857942 | O9: 3.358192 | P9: 19.902582 | Q9: 6.8979079 | R9: 15.122989
C10: Industry | D10: 13338.3 | E10: 0 | F10: 125 | G10: 65 | H10: 108 | I10: 298 | J10: 2030.5 | K10: 914 | L10: 0.93715091 | M10: 0.48731847 | N10: 0.80969839 | O10: 2.2341678 | P10: 15.223079 | Q10: 6.8524475 | R10: 16.244
C12: Year ended 2018 | D12: FTEs | E12: Fatalities | F12: LTIs | G12: RWIs | H12: MTIs | I12: TRIs | J12: Days Lost to LTIs | K12: Days of Restricted Work | L12: LTIFR | M12: RWIFR | N12: MTIFR | O12: TRIFR | P12: LTISR | Q12: RWISR | R12: ATLR to LTIs
C13: Generation | D13: 5948.8746 | E13: 0 | F13: 39 | G13: 21 | H13: 28 | I13: 88 | J13: 298 | K13: 219 | L13: 0.65558618 | M13: 0.35300794 | N13: 0.47067726 | O13: 1.4792714 | P13: 5.0093508 | Q13: 3.6813686 | R13: 7.6410256
C14: Transmission | D14: 1713.6 | E14: 0 | F14: 4 | G14: 5 | H14: 11 | I14: 20 | J14: 27 | K14: 36 | L14: 0.2334267 | M14: 0.29178338 | N14: 0.64192344 | O14: 1.1671335 | P14: 1.5756303 | Q14: 2.1008403 | R14: 6.75
C15: Distribution < 100 employees | D15: 433 | E15: 0 | F15: 13 | G15: 3 | H15: 10 | I15: 26 | J15: 304.5 | K15: 2 | L15: 3.0023095 | M15: 0.69284065 | N15: 2.3094688 | O15: 6.0046189 | P15: 70.323326 | Q15: 0.46189376 | R15: 23.423077
C16: Distribution ≥ 100 and < 250 empl. | D16: 1136 | E16: 0 | F16: 22 | G16: 1 | H16: 30 | I16: 53 | J16: 570 | K16: 5 | L16: 1.9366197 | M16: 0.088028169 | N16: 2.6408451 | O16: 4.665493 | P16: 50.176056 | Q16: 0.44014085 | R16: 25.909091
C17: Distribution ≥ 250 employees | D17: 4133.55 | E17: 0 | F17: 58 | G17: 30 | H17: 85 | I17: 173 | J17: 831 | K17: 652 | L17: 1.4031523 | M17: 0.72576841 | N17: 2.0563438 | O17: 4.1852645 | P17: 20.103785 | Q17: 15.773367 | R17: 14.327586
C18: Distribution total | D18: 5702.55 | E18: 0 | F18: 93 | G18: 34 | H18: 125 | I18: 252 | J18: 1705.5 | K18: 659 | L18: 1.6308494 | M18: 0.5962245 | N18: 2.1920018 | O18: 4.4190757 | P18: 29.907673 | Q18: 11.556234 | R18: 18.33871
C19: Industry | D19: 13365.025 | E19: 0 | F19: 136 | G19: 60 | H19: 164 | I19: 360 | J19: 2030.5 | K19: 914 | L19: 1.0175814 | M19: 0.44893296 | N19: 1.2270834 | O19: 2.6935977 | P19: 15.192639 | Q19: 6.8387454 | R19: 14.930147
C21: Year ended 2017 | D21: FTEs | E21: Fatalities | F21: LTIs | G21: RWIs | H21: MTIs | I21: TRIs | J21: Days Lost to LTIs | K21: Days of Restricted Work | L21: LTIFR | M21: RWIFR | N21: MTIFR | O21: TRIFR | P21: LTISR | Q21: RWISR | R21: ATLR to LTIs
C22: Generation | D22: 6310.5025 | E22: 0 | F22: 32 | G22: 8 | H22: 57 | I22: 97 | J22: 317 | K22: 137 | L22: 0.50709115 | M22: 0.12677279 | N22: 0.90325612 | O22: 1.5371201 | P22: 5.0233718 | Q22: 2.170984 | R22: 9.90625
C23: Transmission | D23: 1705.4053 | E23: 0 | F23: 3 | G23: 2 | H23: 12 | I23: 17 | J23: 221 | K23: 24 | L23: 0.17591126 | M23: 0.11727417 | N23: 0.70364503 | O23: 0.99683046 | P23: 12.958796 | Q23: 1.4072901 | R23: 73.666667
C24: Distribution < 100 employees | D24: 433.085 | E24: 0 | F24: 15 | G24: 1 | H24: 7 | I24: 23 | J24: 425 | K24: 5 | L24: 3.4635233 | M24: 0.23090156 | N24: 1.6163109 | O24: 5.3107358 | P24: 98.133161 | Q24: 1.1545078 | R24: 28.333333
C25: Distribution ≥ 100 and < 250 empl. | D25: 1747 | E25: 0 | F25: 43 | G25: 9 | H25: 26 | I25: 78 | J25: 528 | K25: 226 | L25: 2.4613623 | M25: 0.51516886 | N25: 1.4882656 | O25: 4.4647968 | P25: 30.22324 | Q25: 12.936463 | R25: 12.27907
C26: Distribution ≥ 250 employees | D26: 3101.75 | E26: 0 | F26: 32 | G26: 5 | H26: 46 | I26: 83 | J26: 612 | K26: 311 | L26: 1.0316757 | M26: 0.16119932 | N26: 1.4830338 | O26: 2.6759088 | P26: 19.730797 | Q26: 10.026598 | R26: 19.125
C27: Distribution total | D27: 5281.835 | E27: 0 | F27: 90 | G27: 15 | H27: 79 | I27: 184 | J27: 1565 | K27: 542 | L27: 1.7039533 | M27: 0.28399221 | N27: 1.4956923 | O27: 3.4836378 | P27: 29.629854 | Q27: 10.261585 | R27: 17.388889
C28: Industry | D28: 13297.743 | E28: 0 | F28: 125 | G28: 25 | H28: 148 | I28: 298 | J28: 2103 | K28: 703 | L28: 0.94000915 | M28: 0.18800183 | N28: 1.1129708 | O28: 2.2409818 | P28: 15.814714 | Q28: 5.2866115 | R28: 16.824
C30: Year ended 2016 | D30: FTEs | E30: Fatalities | F30: LTIs | G30: RWIs | H30: MTIs | I30: TRIs | J30: Days Lost to LTIs | K30: Days of Restricted Work | L30: LTIFR | M30: RWIFR | N30: MTIFR | O30: TRIFR | P30: LTISR | Q30: RWISR | R30: ATLR to LTIs
C31: Generation | D31: 5772.5395 | E31: 0 | F31: 25 | G31: 16 | H31: 42 | I31: 83 | J31: 432 | K31: 560 | L31: 0.43308495 | M31: 0.27717437 | N31: 0.72758272 | O31: 1.437842 | P31: 7.483708 | Q31: 9.701103 | R31: 17.28
C32: Transmission | D32: 1674.3002 | E32: 0 | F32: 8 | G32: 0 | H32: 18 | I32: 26 | J32: 160 | K32: 0 | L32: 0.47781158 | M32: 0 | N32: 1.0750761 | O32: 1.5528876 | P32: 9.5562316 | Q32: 0 | R32: 20
C33: Distribution < 100 employees | D33: 345.5 | E33: 0 | F33: 12 | G33: 0 | H33: 12 | I33: 24 | J33: 63 | K33: 47 | L33: 3.4732272 | M33: 0 | N33: 3.4732272 | O33: 6.9464544 | P33: 18.234443 | Q33: 13.603473 | R33: 5.25
C34: Distribution ≥ 100 and < 250 empl. | D34: 1633.695 | E34: 0 | F34: 37 | G34: 13 | H34: 43 | I34: 93 | J34: 533 | K34: 255 | L34: 2.2648046 | M34: 0.79574217 | N34: 2.6320702 | O34: 5.692617 | P34: 32.625429 | Q34: 15.608789 | R34: 14.405405
C35: Distribution ≥ 250 employees | D35: 3273 | E35: 0 | F35: 27 | G35: 4 | H35: 64 | I35: 95 | J35: 861 | K35: 96 | L35: 0.82493126 | M35: 0.12221204 | N35: 1.9553926 | O35: 2.9025359 | P35: 26.306141 | Q35: 2.9330889 | R35: 31.888889
C36: Distribution total | D36: 5252.195 | E36: 0 | F36: 76 | G36: 17 | H36: 119 | I36: 212 | J36: 1457 | K36: 398 | L36: 1.4470141 | M36: 0.3236742 | N36: 2.2657194 | O36: 4.0364076 | P36: 27.740783 | Q36: 7.5777841 | R36: 19.171053
C37: Industry | D37: 12699.035 | E37: 0 | F37: 109 | G37: 33 | H37: 179 | I37: 321 | J37: 2049 | K37: 958 | L37: 0.85833296 | M37: 0.25986227 | N37: 1.409556 | O37: 2.5277512 | P37: 16.135085 | Q37: 7.5438805 | R37: 18.798165

Sheet All Industry
B2: Electricity Supply Industry - Summary of safety data and performance indicators
B3: 1 | C3: FTEs | D3: Fatalities | E3: LTIs | F3: RWIs | G3: MTIs | H3: TRIs | I3: Days Lost to LTIs | J3: Days of Restricted Work | K3: LTIFR | L3: RWIFR | M3: MTIFR | N3: TRIFR | O3: LTISR | P3: RWISR | Q3: ATLR to LTIs
B4: Generation | C4: =OFFSET('All Industry - Data'!D4,($B$3-1)*9,0) -> 4911.1 | D4: =OFFSET('All Industry - Data'!E4,($B$3-1)*9,0) -> 0 | E4: =OFFSET('All Industry - Data'!F4,($B$3-1)*9,0) -> 28 | F4: =OFFSET('All Industry - Data'!G4,($B$3-1)*9,0) -> 8 | G4: =OFFSET('All Industry - Data'!H4,($B$3-1)*9,0) -> 15 | H4: =OFFSET('All Industry - Data'!I4,($B$3-1)*9,0) -> 51 | I4: =OFFSET('All Industry - Data'!J4,($B$3-1)*9,0) -> 284 | J4: =OFFSET('All Industry - Data'!K4,($B$3-1)*9,0) -> 75 | ... Q4: =OFFSET('All Industry - Data'!R4,($B$3-1)*9,0) -> 10.142857
B5: Transmission | C5: =OFFSET('All Industry - Data'!D5,($B$3-1)*9,0) -> 1816.5 | D5: =OFFSET('All Industry - Data'!E5,($B$3-1)*9,0) -> 0 | E5: =OFFSET('All Industry - Data'!F5,($B$3-1)*9,0) -> 10 | F5: =OFFSET('All Industry - Data'!G5,($B$3-1)*9,0) -> 7 | G5: =OFFSET('All Industry - Data'!H5,($B$3-1)*9,0) -> 8 | H5: =OFFSET('All Industry - Data'!I5,($B$3-1)*9,0) -> 25 | I5: =OFFSET('All Industry - Data'!J5,($B$3-1)*9,0) -> 64 | J5: =OFFSET('All Industry - Data'!K5,($B$3-1)*9,0) -> 36 | ... Q5: =OFFSET('All Industry - Data'!R5,($B$3-1)*9,0) -> 6.4
B6: Distribution < 100 employees | C6: =OFFSET('All Industry - Data'!D6,($B$3-1)*9,0) -> 617.7 | D6: =OFFSET('All Industry - Data'!E6,($B$3-1)*9,0) -> 0 | E6: =OFFSET('All Industry - Data'!F6,($B$3-1)*9,0) -> 12 | F6: =OFFSET('All Industry - Data'!G6,($B$3-1)*9,0) -> 2 | G6: =OFFSET('All Industry - Data'!H6,($B$3-1)*9,0) -> 12 | H6: =OFFSET('All Industry - Data'!I6,($B$3-1)*9,0) -> 26 | I6: =OFFSET('All Industry - Data'!J6,($B$3-1)*9,0) -> 197.7 | J6: =OFFSET('All Industry - Data'!K6,($B$3-1)*9,0) -> 58 | ... Q6: =OFFSET('All Industry - Data'!R6,($B$3-1)*9,0) -> 16.475
B7: Distribution ≥ 100 and < 250 empl. | C7: =OFFSET('All Industry - Data'!D7,($B$3-1)*9,0) -> 1375 | D7: =OFFSET('All Industry - Data'!E7,($B$3-1)*9,0) -> 0 | E7: =OFFSET('All Industry - Data'!F7,($B$3-1)*9,0) -> 23 | F7: =OFFSET('All Industry - Data'!G7,($B$3-1)*9,0) -> 8 | G7: =OFFSET('All Industry - Data'!H7,($B$3-1)*9,0) -> 23 | H7: =OFFSET('All Industry - Data'!I7,($B$3-1)*9,0) -> 54 | I7: =OFFSET('All Industry - Data'!J7,($B$3-1)*9,0) -> 336 | J7: =OFFSET('All Industry - Data'!K7,($B$3-1)*9,0) -> 43 | ... Q7: =OFFSET('All Industry - Data'!R7,($B$3-1)*9,0) -> 14.608696
B8: Distribution ≥ 250 employees | C8: =OFFSET('All Industry - Data'!D8,($B$3-1)*9,0) -> 4618 | D8: =OFFSET('All Industry - Data'!E8,($B$3-1)*9,0) -> 0 | E8: =OFFSET('All Industry - Data'!F8,($B$3-1)*9,0) -> 52 | F8: =OFFSET('All Industry - Data'!G8,($B$3-1)*9,0) -> 40 | G8: =OFFSET('All Industry - Data'!H8,($B$3-1)*9,0) -> 50 | H8: =OFFSET('All Industry - Data'!I8,($B$3-1)*9,0) -> 142 | I8: =OFFSET('All Industry - Data'!J8,($B$3-1)*9,0) -> 782 | J8: =OFFSET('All Industry - Data'!K8,($B$3-1)*9,0) -> 355 | ... Q8: =OFFSET('All Industry - Data'!R8,($B$3-1)*9,0) -> 15.038462
B9: Distribution total | C9: =OFFSET('All Industry - Data'!D9,($B$3-1)*9,0) -> 6610.7 | D9: =OFFSET('All Industry - Data'!E9,($B$3-1)*9,0) -> 0 | E9: =OFFSET('All Industry - Data'!F9,($B$3-1)*9,0) -> 87 | F9: =OFFSET('All Industry - Data'!G9,($B$3-1)*9,0) -> 50 | G9: =OFFSET('All Industry - Data'!H9,($B$3-1)*9,0) -> 85 | H9: =OFFSET('All Industry - Data'!I9,($B$3-1)*9,0) -> 222 | I9: =OFFSET('All Industry - Data'!J9,($B$3-1)*9,0) -> 1315.7 | J9: =OFFSET('All Industry - Data'!K9,($B$3-1)*9,0) -> 456 | ... Q9: =OFFSET('All Industry - Data'!R9,($B$3-1)*9,0) -> 15.122989
B10: Industry | C10: =OFFSET('All Industry - Data'!D10,($B$3-1)*9,0) -> 13338.3 | D10: =OFFSET('All Industry - Data'!E10,($B$3-1)*9,0) -> 0 | E10: =OFFSET('All Industry - Data'!F10,($B$3-1)*9,0) -> 125 | F10: =OFFSET('All Industry - Data'!G10,($B$3-1)*9,0) -> 65 | G10: =OFFSET('All Industry - Data'!H10,($B$3-1)*9,0) -> 108 | H10: =OFFSET('All Industry - Data'!I10,($B$3-1)*9,0) -> 298 | I10: =OFFSET('All Industry - Data'!J10,($B$3-1)*9,0) -> 2030.5 | J10: =OFFSET('All Industry - Data'!K10,($B$3-1)*9,0) -> 914 | ... Q10: =OFFSET('All Industry - Data'!R10,($B$3-1)*9,0) -> 16.244
B12: Fatalities by Sector
B13: Year End | C13: Generation | D13: Transmission | E13: Distribution | F13: Industry Total
B14: 2004 | C14: 0 | D14: 1 | E14: 0 | F14: 1
B15: 2005 | C15: 0 | D15: 1 | E15: 1 | F15: 2
B16: 2006 | C16: 0 | D16: 0 | E16: 0 | F16: 0
B17: 2007 | C17: 0 | D17: 0 | E17: 1 | F17: 1
B18: 2008 | C18: 0 | D18: 0 | E18: 2 | F18: 2
B19: 2009 | C19: 0 | D19: 0 | E19: 0 | F19: 0
B20: 2010 | C20: 0 | D20: 0 | E20: 1 | F20: 1
B21: 2011 | C21: 0 | D21: 1 | E21: 1 | F21: 2
B22: 2012 | C22: 0 | D22: 0 | E22: 0 | F22: 0
B23: 2013 | C23: 0 | D23: 1 | E23: 1 | F23: 2
B24: 2014 | C24: 0 | D24: 0 | E24: 0 | F24: 0
B25: 2015 | C25: 0 | D25: 0 | E25: 0 | F25: 0
... B29: 2019 | C29: 0 | D29: 0 | E29: 0 | F29: 0
B31: LTIs by Sector
B32: Year End | C32: Generation | D32: Transmission | E32: Distribution < 100 FTEs | F32: Distribution >=100, < 250 FTEs | G32: Distribution >= 250 FTEs | H32: Distribution Total | I32: Industry Total
B33: 2009 | C33: 40 | D33: 5 | E33: 40 | F33: 61 | G33: 21 | H33: 122 | I33: 167
B34: 2010 | C34: 44 | D34: 7 | E34: 33 | F34: 60 | G34: 27 | H34: 120 | I34: 171
B35: 2011 | C35: 34 | D35: 12 | E35: 27 | F35: 46 | G35: 18 | H35: 91 | I35: 137
B36: 2012 | C36: 22 | D36: 9 | E36: 30 | F36: 44 | G36: 24 | H36: 98 | I36: 129
B37: 2013 | C37: 24 | D37: 12 | E37: 14 | F37: 56 | G37: 30 | H37: 100 | I37: 136
B38: 2014 | C38: 25 | D38: 15 | E38: 17 | F38: 40 | G38: 18 | H38: 75 | I38: 115
B39: 2015 | C39: 29 | D39: 13 | E39: 15 | F39: 42 | G39: 41 | H39: 98 | I39: 140
B40: 2016 | C40: 25 | D40: 8 | E40: 12 | F40: 37 | G40: 27 | H40: 76 | I40: 109
B41: 2017 | C41: 32 | D41: 3 | E41: 15 | F41: 43 | G41: 32 | H41: 90 | I41: 125
B42: 2018 | C42: 39 | D42: 4 | E42: 13 | F42: 22 | G42: 58 | H42: 93 | I42: 136
B43: 2019 | C43: 28 | D43: 10 | E43: 12 | F43: 23 | G43: 52 | H43: 87 | I43: 125
B45: LTIFR by Sector
B46: Year End | C46: Generation | D46: Transmission | E46: Distribution < 100 FTEs | F46: Distribution >=100, < 250 FTEs | G46: Distribution >= 250 FTEs | H46: Distribution Total | I46: Industry Total
B47: 2009 | C47: 0.71792663 | D47: 0.38314176 | E47: 6.3979527 | F47: 4.561191 | G47: 1.0515774 | H47: 3.0811426 | I47: 1.5411349
...

Sheet Generation tables
B2: Generation YE June 2019 | D2: Code | E2: FTEs | F2: Fatalities | G2: LTIs | H2: RWIs | I2: MTIs | J2: TRIs | K2: Days Lost to LTIs | L2: Days of Restricted Work | M2: LTIFR | N2: RWIFR | O2: MTIFR | P2: TRIFR | Q2: LTISR | R2: RWISR | S2: ATLR to LTIs
B3: Peer group respondents | D3: G10 | E3: 723.3 | F3: 0 | G3: 8 | H3: 0 | I3: 4 | J3: 12 | K3: 61 | L3: 0 | M3: 1.1060418 | N3: 0 | O3: 0.55302088 | P3: 1.6590626 | Q3: 8.4335684 | R3: 0 | S3: 8.6
D4: G12 | E4: 2 | F4: 0 | G4: 0 | H4: 0 | I4: 0 | J4: 0 | K4: 0 | L4: 0 | M4: 0 | N4: 0 | O4: 0 | P4: 0 | Q4: 0 | R4: 0
D5: G15 | E5: 818 | F5: 0 | G5: 1 | H5: 0 | I5: 2 | J5: 3 | K5: 7 | L5: 0 | M5: 0.12224939 | N5: 0 | O5: 0.24449878 | P5: 0.36674817 | Q5: 0.85574572 | R5: 0 | S5: 9.5555556
D6: G20 | E6: 82 | F6: 0 | G6: 2 | H6: 0 | I6: 0 | J6: 2 | K6: 117 | L6: 0 | M6: 2.4390244 | N6: 0 | O6: 0 | P6: 2.4390244 | Q6: 142.68293 | R6: 0 | S6: 2
D7: G25 | E7: 984.8 | F7: 0 | G7: 4 | H7: 1 | I7: 3 | J7: 8 | K7: 17 | L7: 8 | M7: 0.40617384 | N7: 0.10154346 | O7: 0.30463038 | P7: 0.81234768 | Q7: 1.7262388 | R7: 0.81234768 | S7: 3.7777778
D8: G35 | E8: 1127 | F8: 0 | G8: 5 | H8: 2 | I8: 1 | J8: 8 | K8: 54 | L8: 9 | M8: 0.44365572 | N8: 0.17746229 | O8: 0.088731145 | P8: 0.70984916 | Q8: 4.7914818 | R8: 0.7985803 | S8: 6.4545455
D9: G40 | E9: 1138 | F9: 0 | G9: 5 | H9: 4 | I9: 3 | J9: 12 | K9: 22 | L9: 30 | M9: 0.43936731 | N9: 0.35149385 | O9: 0.26362039 | P9: 1.0544815 | Q9: 1.9332162 | R9: 2.6362039 | S9: 15.5
D10: G50 | E10: 25 | F10: 0 | G10: 3 | H10: 1 | I10: 1 | J10: 5 | K10: 6 | L10: 28 | M10: 12 | N10: 4 | O10: 4 | P10: 20 | Q10: 24 | R10: 112 | S10: 0
D11: G55 | E11: 9 (CNU) | F11: 0 | G11: 0 | H11: 0 | I11: 1 | J11: 1 | K11: 0 | L11: 0 | M11: 0 | N11: 0 | O11: 11.111111 | P11: 11.111111 | Q11: 0 | R11: 0 | S11: 0
D12: G60 | E12: 2 | F12: 0 | G12: 0 | H12: 0 | I12: 0 | J12: 0 | K12: 0 | L12: 0 | M12: 0 | N12: 0 | O12: 0 | P12: 0 | Q12: 0 | R12: 0 | S12: 0
B13: Peer group summary | E13: 4911.1 | F13: 0 | G13: 28 | H13: 8 | I13: 15 | J13: 51 | K13: 284 | L13: 75 | M13: 0.57013704 | N13: 0.1628963 | O13: 0.30543056 | P13: 1.0384639 | Q13: 5.7828185 | R13: 1.5271528 | S13: 10.142857
B14: Industry summary | E14: 13338.3 | F14: 0 | G14: 125 | H14: 65 | I14: 108 | J14: 298 | K14: 2030.5 | L14: 914 | M14: 0.93715091 | N14: 0.48731847 | O14: 0.80969839 | P14: 2.2341678 | Q14: 15.223079 | R14: 6.8524475 | S14: 16.244
B16: Generation YE June 2018 | D16: Code | E16: FTEs | F16: Fatalities | G16: LTIs | H16: RWIs | I16: MTIs | J16: TRIs | K16: Days Lost to LTIs | L16: Days of Restricted Work | M16: LTIFR | N16: RWIFR | O16: MTIFR | P16: TRIFR | Q16: LTISR | R16: RWISR | S16: ATLR to LTIs
B17: Peer group respondents | D17: G10 | E17: 706.26062 | F17: 0 | G17: 5 | H17: 1 | I17: 2 | J17: 8 | K17: 43 | L17: 8 | M17: 0.70795396 | N17: 0.14159079 | O17: 0.28318158 | P17: 1.1327263 | Q17: 6.0884041 | R17: 1.1327263 | S17: 8.6
D18: G15 | E18: 806.3415 | F18: 0 | G18: 9 | H18: 0 | I18: 11 | J18: 20 | K18: 86 | L18: 0 | M18: 1.1161524 | N18: 0 | O18: 1.3641863 | P18: 2.4803387 | Q18: 10.665456 | R18: 0 | S18: 9.5555556
D19: G20 | E19: 18 | F19: 0 | G19: 1 | H19: 1 | I19: 2 | J19: 4 | K19: 2 | L19: 0 | M19: 5.5555556 | N19: 5.5555556 | O19: 11.111111 | P19: 22.222222 | Q19: 11.111111 | R19: 0 | S19: 2
D20: G25 | E20: 1262.723 | F20: 0 | G20: 9 | H20: 3 | I20: 4 | J20: 16 | K20: 34 | L20: 14 | M20: 0.71274539 | N20: 0.2375818 | O20: 0.31677573 | P20: 1.2671029 | Q20: 2.6925937 | R20: 1.1087151 | S20: 3.7777778
D21: G35 | E21: 1561.0805 | F21: 0 | G21: 11 | H21: 4 | I21: 4 | J21: 19 | K21: 71 | L21: 87 | M21: 0.70464015 | N21: 0.25623278 | O21: 0.25623278 | P21: 1.2171057 | Q21: 4.5481319 | R21: 5.573063 | S21: 6.4545455
D22: G40 | E22: 1555.469 | F22: 0 | G22: 4 | H22: 12 | I22: 5 | J22: 21 | K22: 62 | L22: 110 | M22: 0.25715717 | N22: 0.7714715 | O22: 0.32144646 | P22: 1.3500751 | Q22: 3.9859361 | R22: 7.0718221 | S22: 15.5
D23: G50 | E23: 27 | F23: 0 | G23: 0 | H23: 0 | I23: 0 | J23: 0 | K23: 0 | L23: 0 | M23: 0 | N23: 0 | O23: 0 | P23: 0 | Q23: 0 | R23: 0 | S23: 0
D24: G55 | E24: 8 (CNU) | F24: 0 | G24: 0 | H24: 0 | I24: 0 | J24: 0 | K24: 0 | L24: 0 | M24: 0 | N24: 0 | O24: 0 | P24: 0 | Q24: 0 | R24: 0 | S24: 0
D25: G60 | E25: 2 | F25: 0 | G25: 0 | H25: 0 | I25: 0 | J25: 0 | K25: 0 | L25: 0 | M25: 0 | N25: 0 | O25: 0 | P25: 0 | Q25: 0 | R25: 0 | S25: 0
D26: G65 | E26: 2 | F26: 0 | G26: 0 | H26: 0 | I26: 0 | J26: 0 | K26: 0 | L26: 0 | M26: 0 | N26: 0 | O26: 0 | P26: 0 | Q26: 0 | R26: 0 | S26: 0
B27: Peer group summary | E27: 5948.8746 | F27: 0 | G27: 39 | H27: 21 | I27: 28 | J27: 88 | K27: 298 | L27: 219 | M27: 0.65558618 | N27: 0.35300794 | O27: 0.35300794 | P27: 1.4792714 | Q27: 7.6410256 | R27: 3.6813686 | S27: 7.6410256
B28: Industry summary | E28: 13365.025 | F28: 0 | G28: 136 | H28: 60 | I28: 164 | J28: 360 | K28: 2030.5 | L28: 914 | M28: 1.0175814 | N28: 0.44893296 | O28: 1.2270834 | P28: 2.6935977 | Q28: 15.192639 | R28: 6.8387454 | S28: 14.930147
B30: Generation YE June 2017 | D30: Code | E30: FTEs | F30: Fatalities | G30: LTIs | H30: RWIs | I30: MTIs | J30: TRIs | K30: Days Lost to LTIs | L30: Days of Restricted Work | M30: LTIFR | N30: RWIFR | O30: MTIFR | P30: TRIFR | Q30: LTISR | R30: RWISR | S30: ATLR to LTIs
B31: Peer group respondents | D31: G10 | E31: 962.337 | F31: 0 | G31: 1 | H31: 1 | I31: 4 | J31: 6 | K31: 53 | L31: 10 | M31: 0.1039137 | N31: 0.1039137 | O31: 0.41565481 | P31: 0.62348221 | Q31: 5.5074262 | R31: 1.039137 | S31: 53
D32: G11 | E32: 74 | F32: 0 | G32: 0 | H32: 0 | I32: 0 | J32: 0 | K32: 0 | L32: 0 | M32: 0 | N32: 0 | O32: 0 | P32: 0 | Q32: 0 | R32: 0 | S32: 0
D33: G15 | E33: 801.159 | F33: 0 | G33: 9 | H33: 0 | I33: 18 | J33: 27 | K33: 110 | L33: 0 | M33: 1.1233725 | N33: 0 | O33: 2.246745 | P33: 3.3701175 | Q33: 13.730109 | R33: 0 | S33: 12.222222
D34: G20 | E34: 14.5 (NCD) | F34: 0 | G34: 0 | H34: 0 | I34: 0 | J34: 0 | K34: 0 | L34: 0 | M34: 0 | N34: 0 | O34: 0 | P34: 0 | Q34: 0 | R34: 0 | S34: 0
D35: G25 | E35: 1236.4735 | F35: 0 | G35: 10 | H35: 1 | I35: 11 | J35: 22 | K35: 89 | L35: 17 | M35: 0.80875166 | N35: 0.080875166 | O35: 0.88962683 | P35: 1.7792537 | Q35: 7.1978898 | R35: 1.3748778 | S35: 8.9
D36: G35 | E36: 1855.1605 | F36: 0 | G36: 7 | H36: 3 | I36: 3 | J36: 13 | K36: 63 | L36: 17 | M36: 0.37732584 | N36: 0.16171108 | O36: 0.16171108 | P36: 0.70074799 | Q36: 3.3959326 | R36: 0.91636276 | S36: 9
D37: G40 | E37: 1275.5875 | F37: 0 | G37: 2 | H37: 3 | I37: 5 | J37: 10 | K37: 1 | L37: 93 | M37: 0.1567905 | N37: 0.23518575 | O37: 0.39197625 | P37: 0.78395249 | Q37: 0.078395249 | R37: 7.2907582 | S37: 0.5
D38: G50 | E38: 91.285 | F38: 0 | G38: 3 | H38: 0 | I38: 16 | J38: 19 | K38: 1 | L38: 0 | M38: 3.2864107 | N38: 0 | O38: 17.527524 | P38: 20.813934 | Q38: 1.0954702 | R38: 0 | S38: 0.33333333
B39: Peer group summary | E39: 6310.5025 | F39: 0 | G39: 32 | H39: 8 | I39: 57 | J39: 97 | K39: 0 | L39: 0 | M39: 0.50709115 | N39: 0.12677279 | O39: 0.12677279 | P39: 1.5371201 | Q39: 0 | R39: 0 | S39: 0
B40: Industry summary | E40: 13297.743 | F40: 0 | G40: 125 | H40: 25 | I40: 148 | J40: 298 | K40: 2103 | L40: 703 | M40: 0.94000915 | N40: 0.18800183 | O40: 1.1129708 | P40: 2.2409818 | Q40: 15.814714 | R40: 5.2866115 | S40: 16.824
B42: Generation YE June 2016 | D42: Code | E42: FTEs | F42: Fatalities | G42: LTIs | H42: RWIs | I42: MTIs | J42: TRIs | K42: Days Lost to LTIs | L42: Days of Restricted Work | M42: LTIFR | N42: RWIFR | O42: MTIFR | P42: TRIFR | Q42: LTISR | R42: RWISR | S42: ATLR to LTIs
B43: Peer group respondents | D43: G10 | E43: 740.59 | F43: 0 | G43: 6 | H43: 2 | I43: 7 | J43: 15 | K43: 99 | L43: 309 | M43: 0.81016487 | N43: 0.27005496 | O43: 0.94519235 | P43: 2.0254122 | Q43: 13.36772 | R43: 41.723491 | S43: 16.5
D44: G11 | E44: 7 | F44: 0 | G44: 0 | H44: 0 | I44: 0 | J44: 0 | K44: 0 | L44: 0 | M44: 0 | N44: 0 | O44: 0 | P44: 0 | Q44: 0 | R44: 0 | S44: 0
...

Sheet Generation graphs
B2: Total Recordable Injury Frequency Rate | J2: Lost Time Injury Frequency Rate | R2: Lost Time Injury Severity Rate
B3: TRIFR - 5-year results - Generation peer group | D3: Year Ended | J3: LTIFR - 5-year results - Generation peer group | R3: LTISR - 5-year results - Generation peer group
D4: 2016 | E4: 2017 | F4: 2018 | G4: 2019 | L4: 2016 | M4: 2017 | N4: 2018 | O4: 2019 | T4: 2016 | U4: 2017 | V4: 2018 | W4: 2019
B5: Respondent code | C5: G10 | D5: =VLOOKUP($C5,'Generation tables'!$D$43:$S$50,13,FALSE) -> 2.0254122 | E5: =VLOOKUP($C5,'Generation tables'!$D$31:$S$38,13,FALSE) -> 0.62348221 | F5: =VLOOKUP($C5,'Generation tables'!$D$17:$S$26,13,FALSE) -> 1.1327263 | G5: =VLOOKUP($C5,'Generation tables'!$D$3:$S$12,13,FALSE) -> 1.6590626 | J5: Respondent code | K5: G10 | L5: =VLOOKUP($K5,'Generation tables'!$D$43:$S$50,10,FALSE) -> 0.81016487 | M5: =VLOOKUP($K5,'Generation tables'!$D$31:$S$38,10,FALSE) -> 0.1039137 | N5: =VLOOKUP($K5,'Generation tables'!$D$17:$S$26,10,FALSE) -> 0.70795396 | O5: =VLOOKUP($K5,'Generation tables'!$D$3:$S$12,10,FALSE) -> 1.1060418 | R5: Respondent code | S5: G10 | T5: =VLOOKUP($S5,'Generation tables'!$D$43:$S$50,14,FALSE) -> 13.36772 | U5: =VLOOKUP($S5,'Generation tables'!$D$31:$S$38,14,FALSE) -> 5.5074262 | V5: =VLOOKUP($S5,'Generation tables'!$D$17:$S$26,14,FALSE) -> 6.0884041 | W5: =VLOOKUP($S5,'Generation tables'!$D$3:$S$12,14,FALSE) -> 8.4335684
C6: G12 | D6: - | E6: - | F6: - | G6: =VLOOKUP($C6,'Generation tables'!$D$3:$S$12,13,FALSE) -> 0 | K6: G12 | L6: - | M6: - | N6: - | O6: =VLOOKUP($K6,'Generation tables'!$D$3:$S$12,10,FALSE) -> 0 | S6: G12 | T6: - | U6: - | V6: - | W6: =VLOOKUP($S6,'Generation tables'!$D$3:$S$12,14,FALSE) -> 0
C7: G15 | D7: =VLOOKUP($C7,'Generation tables'!$D$43:$S$50,13,FALSE) -> 1.8082943 | E7: =VLOOKUP($C7,'Generation tables'!$D$31:$S$38,13,FALSE) -> 3.3701175 | F7: =VLOOKUP($C7,'Generation tables'!$D$17:$S$26,13,FALSE) -> 2.4803387 | G7: =VLOOKUP($C7,'Generation tables'!$D$3:$S$12,13,FALSE) -> 0.36674817 | K7: G15 | L7: =VLOOKUP($K7,'Generation tables'!$D$43:$S$50,10,FALSE) -> 0.2411059 | M7: =VLOOKUP($K7,'Generation tables'!$D$31:$S$38,10,FALSE) -> 1.1233725 | N7: =VLOOKUP($K7,'Generation tables'!$D$17:$S$26,10,FALSE) -> 1.1161524 | O7: =VLOOKUP($K7,'Generation tables'!$D$3:$S$12,10,FALSE) -> 0.12224939 | S7: G15 | T7: =VLOOKUP($S7,'Generation tables'!$D$43:$S$50,14,FALSE) -> 3.3754827 | U7: =VLOOKUP($S7,'Generation tables'!$D$31:$S$38,14,FALSE) -> 13.730109 | V7: =VLOOKUP($S7,'Generation tables'!$D$17:$S$26,14,FALSE) -> 10.665456 | W7: =VLOOKUP($S7,'Generation tables'!$D$3:$S$12,14,FALSE) -> 0.85574572
C8: G20 | D8: =VLOOKUP($C8,'Generation tables'!$D$43:$S$50,13,FALSE) -> 0 | E8: =VLOOKUP($C8,'Generation tables'!$D$31:$S$38,13,FALSE) -> 0 | F8: =VLOOKUP($C8,'Generation tables'!$D$17:$S$26,13,FALSE) -> 22.222222 | G8: =VLOOKUP($C8,'Generation tables'!$D$3:$S$12,13,FALSE) -> 2.4390244 | K8: G20 | L8: =VLOOKUP($K8,'Generation tables'!$D$43:$S$50,10,FALSE) -> 0 | M8: =VLOOKUP($K8,'Generation tables'!$D$31:$S$38,10,FALSE) -> 0 | N8: =VLOOKUP($K8,'Generation tables'!$D$17:$S$26,10,FALSE) -> 5.5555556 | O8: =VLOOKUP($K8,'Generation tables'!$D$3:$S$12,10,FALSE) -> 2.4390244 | S8: G20 | T8: =VLOOKUP($S8,'Generation tables'!$D$43:$S$50,14,FALSE) -> 0 | U8: =VLOOKUP($S8,'Generation tables'!$D$31:$S$38,14,FALSE) -> 0 | V8: =VLOOKUP($S8,'Generation tables'!$D$17:$S$26,14,FALSE) -> 11.111111 | W8: =VLOOKUP($S8,'Generation tables'!$D$3:$S$12,14,FALSE) -> 142.68293
C9: G25 | D9: =VLOOKUP($C9,'Generation tables'!$D$43:$S$50,13,FALSE) -> 1.1555936 | E9: =VLOOKUP($C9,'Generation tables'!$D$31:$S$38,13,FALSE) -> 1.7792537 | F9: =VLOOKUP($C9,'Generation tables'!$D$17:$S$26,13,FALSE) -> 1.2671029 | G9: =VLOOKUP($C9,'Generation tables'!$D$3:$S$12,13,FALSE) -> 0.81234768 | K9: G25 | L9: =VLOOKUP($K9,'Generation tables'!$D$43:$S$50,10,FALSE) -> 0.44445906 | M9: =VLOOKUP($K9,'Generation tables'!$D$31:$S$38,10,FALSE) -> 0.80875166 | N9: =VLOOKUP($K9,'Generation tables'!$D$17:$S$26,10,FALSE) -> 0.71274539 | O9: =VLOOKUP($K9,'Generation tables'!$D$3:$S$12,10,FALSE) -> 0.40617384 | S9: G25 | T9: =VLOOKUP($S9,'Generation tables'!$D$43:$S$50,14,FALSE) -> 11.911503 | U9: =VLOOKUP($S9,'Generation tables'!$D$31:$S$38,14,FALSE) -> 7.1978898 | V9: =VLOOKUP($S9,'Generation tables'!$D$17:$S$26,14,FALSE) -> 2.6925937 | W9: =VLOOKUP($S9,'Generation tables'!$D$3:$S$12,14,FALSE) -> 1.7262388
C10: G35 | D10: =VLOOKUP($C10,'Generation tables'!$D$43:$S$50,13,FALSE) -> 1.2090985 | E10: =VLOOKUP($C10,'Generation tables'!$D$31:$S$38,13,FALSE) -> 0.70074799 | F10: =VLOOKUP($C10,'Generation tables'!$D$17:$S$26,13,FALSE) -> 1.2171057 | G10: =VLOOKUP($C10,'Generation tables'!$D$3:$S$12,13,FALSE) -> 0.70984916 | K10: G35 | L10: =VLOOKUP($K10,'Generation tables'!$D$43:$S$50,10,FALSE) -> 0.30227462 | M10: =VLOOKUP($K10,'Generation tables'!$D$31:$S$38,10,FALSE) -> 0.37732584 | N10: =VLOOKUP($K10,'Generation tables'!$D$17:$S$26,10,FALSE) -> 0.70464015 | O10: =VLOOKUP($K10,'Generation tables'!$D$3:$S$12,10,FALSE) -> 0.44365572 | S10: G35 | T10: =VLOOKUP($S10,'Generation tables'!$D$43:$S$50,14,FALSE) -> 2.9723671 | U10: =VLOOKUP($S10,'Generation tables'!$D$31:$S$38,14,FALSE) -> 3.3959326 | V10: =VLOOKUP($S10,'Generation tables'!$D$17:$S$26,14,FALSE) -> 4.5481319 | W10: =VLOOKUP($S10,'Generation tables'!$D$3:$S$12,14,FALSE) -> 4.7914818
C11: G40 | D11: =VLOOKUP($C11,'Generation tables'!$D$43:$S$50,13,FALSE) -> 1.3053303 | E11: =VLOOKUP($C11,'Generation tables'!$D$31:$S$38,13,FALSE) -> 0.78395249 | F11: =VLOOKUP($C11,'Generation tables'!$D$17:$S$26,13,FALSE) -> 1.3500751 | G11: =VLOOKUP($C11,'Generation tables'!$D$3:$S$12,13,FALSE) -> 1.0544815 | K11: G40 | L11: =VLOOKUP($K11,'Generation tables'!$D$43:$S$50,10,FALSE) -> 0.55942726 | M11: =VLOOKUP($K11,'Generation tables'!$D$31:$S$38,10,FALSE) -> 0.1567905 | N11: =VLOOKUP($K11,'Generation tables'!$D$17:$S$26,10,FALSE) -> 0.25715717 | O11: =VLOOKUP($K11,'Generation tables'!$D$3:$S$12,10,FALSE) -> 0.43936731 | S11: G40 | T11: =VLOOKUP($S11,'Generation tables'!$D$43:$S$50,14,FALSE) -> 10.442642 | U11: =VLOOKUP($S11,'Generation tables'!$D$31:$S$38,14,FALSE) -> 0.078395249 | V11: =VLOOKUP($S11,'Generation tables'!$D$17:$S$26,14,FALSE) -> 3.9859361 | W11: =VLOOKUP($S11,'Generation tables'!$D$3:$S$12,14,FALSE) -> 1.9332162
C12: G50 | D12: - | E12: =VLOOKUP($C12,'Generation tables'!$D$31:$S$38,13,FALSE) -> 20.813934 | F12: =VLOOKUP($C12,'Generation tables'!$D$17:$S$26,13,FALSE) -> 0 | G12: =VLOOKUP($C12,'Generation tables'!$D$3:$S$12,13,FALSE) -> 20 | K12: G50 | L12: - | M12: =VLOOKUP($K12,'Generation tables'!$D$31:$S$38,10,FALSE) -> 3.2864107 | N12: =VLOOKUP($K12,'Generation tables'!$D$17:$S$26,10,FALSE) -> 0 | O12: =VLOOKUP($K12,'Generation tables'!$D$3:$S$12,10,FALSE) -> 12 | S12: G50 | T12: - | U12: =VLOOKUP($S12,'Generation tables'!$D$31:$S$38,14,FALSE) -> 1.0954702 | V12: =VLOOKUP($S12,'Generation tables'!$D$17:$S$26,14,FALSE) -> 0 | W12: =VLOOKUP($S12,'Generation tables'!$D$3:$S$12,14,FALSE) -> 24
C13: G55 | D13: - | E13: - | F13: =VLOOKUP($C13,'Generation tables'!$D$17:$S$26,13,FALSE) -> 0 | G13: =VLOOKUP($C13,'Generation tables'!$D$3:$S$12,13,FALSE) -> 11.111111 | K13: G55 | L13: - | M13: - | N13: =VLOOKUP($K13,'Generation tables'!$D$17:$S$26,10,FALSE) -> 0 | O13: =VLOOKUP($K13,'Generation tables'!$D$3:$S$12,10,FALSE) -> 0 | S13: G55 | T13: - | U13: - | V13: =VLOOKUP($S13,'Generation tables'!$D$17:$S$26,14,FALSE) -> 0 | W13: =VLOOKUP($S13,'Generation tables'!$D$3:$S$12,14,FALSE) -> 0
C14: G60 | D14: - | E14: - | F14: =VLOOKUP($C14,'Generation tables'!$D$17:$S$26,13,FALSE) -> 0 | G14: =VLOOKUP($C14,'Generation tables'!$D$3:$S$12,13,FALSE) -> 0 | K14: G60 | L14: - | M14: - | N14: =VLOOKUP($K14,'Generation tables'!$D$17:$S$26,10,FALSE) -> 0 | O14: =VLOOKUP($K14,'Generation tables'!$D$3:$S$12,10,FALSE) -> 0 | S14: G60 | T14: - | U14: - | V14: =VLOOKUP($S14,'Generation tables'!$D$17:$S$26,14,FALSE) -> 0 | W14: =VLOOKUP($S14,'Generation tables'!$D$3:$S$12,14,FALSE) -> 0
C15: G65 | D15: - | E15: - | F15: =VLOOKUP($C15,'Generation tables'!$D$17:$S$26,13,FALSE) -> 0 | G15: - | K15: G65 | L15: - | M15: - | N15: =VLOOKUP($K15,'Generation tables'!$D$17:$S$26,10,FALSE) -> 0 | O15: - | S15: G65 | T15: - | U15: - | V15: =VLOOKUP($S15,'Generation tables'!$D$17:$S$26,14,FALSE) -> 0 | W15: -
B16: Generation | D16: ='Generation tables'!P51 -> 1.437842 | E16: ='Generation tables'!P39 -> 1.5371201 | F16: ='Generation tables'!P27 -> 1.4792714 | G16: ='Generation tables'!P13 -> 1.0384639 | J16: Generation | L16: ='Generation tables'!M51 -> 0.43308495 | M16: ='Generation tables'!M39 -> 0.50709115 | N16: ='Generation tables'!M27 -> 0.65558618 | O16: ='Generation tables'!M13 -> 0.57013704 | R16: Generation | T16: ='Generation tables'!Q51 -> 17.28 | U16: ='Generation tables'!Q39 -> 0 | V16: ='Generation tables'!Q27 -> 7.6410256 | W16: ='Generation tables'!Q13 -> 5.7828185
B17: Industry Total | D17: ='Generation tables'!P52 -> 2.5277512 | E17: ='Generation tables'!P40 -> 2.2409818 | F17: ='Generation tables'!P28 -> 2.6935977 | G17: ='Generation tables'!P14 -> 2.2341678 | J17: Industry Total | L17: ='Generation tables'!M52 -> 0.85833296 | M17: ='Generation tables'!M40 -> 0.94000915 | N17: ='Generation tables'!M28 -> 1.0175814 | O17: ='Generation tables'!M14 -> 0.93715091 | R17: Industry Total | T17: ='Generation tables'!Q52 -> 16.135085 | U17: ='Generation tables'!Q40 -> 15.814714 | V17: ='Generation tables'!Q28 -> 15.192639 | W17: ='Generation tables'!Q14 -> 15.223079
C19: Select your respondent code -> | G19: 1 | K19: Select your respondent code -> | O19: 1 | S19: Select your respondent code -> | W19: 1
D20: 1 | E20: 2 | F20: 3 | G20: 4 | L20: 1 | M20: 2 | N20: 3 | O20: 4 | T20: 1 | U20: 2 | V20: 3 | W20: 4
C22: TRIFR Respondent | D22: 2016 | E22: 2017 | F22: 2018 | G22: 2019 | K22: LTIFR Respondent | L22: 2016 | M22: 2017 | N22: 2018 | O22: 2019 | S22: LTISR Respondent | T22: 2016 | U22: 2017 | V22: 2018 | W22: 2019
C23: =INDEX($C$5:$C$15,$G$19,1) -> G10 | D23: =INDEX($D$5:$G$15,$G$19,D$20) -> 2.0254122 | E23: =INDEX($D$5:$G$15,$G$19,E$20) -> 0.62348221 | F23: =INDEX($D$5:$G$15,$G$19,F$20) -> 1.1327263 | G23: =INDEX($D$5:$G$15,$G$19,G$20) -> 1.6590626 | K23: =INDEX($K$5:$K$15,$O$19,1) -> G10 | L23: =INDEX($L$5:$O$15,$O$19,L$20) -> 0.81016487 | M23: =INDEX($L$5:$O$15,$O$19,M$20) -> 0.1039137 | N23: =INDEX($L$5:$O$15,$O$19,N$20) -> 0.70795396 | O23: =INDEX($L$5:$O$15,$O$19,O$20) -> 1.1060418 | S23: =INDEX($S$5:$S$15,$W$19,1) -> G10 | T23: =INDEX($T$5:$W$15,$W$19,T$20) -> 13.36772 | U23: =INDEX($T$5:$W$15,$W$19,U$20) -> 5.5074262 | V23: =INDEX($T$5:$W$15,$W$19,V$20) -> 6.0884041 | W23: =INDEX($T$5:$W$15,$W$19,W$20) -> 8.4335684
C24: Generation | D24: =D16 -> 1.437842 | E24: =E16 -> 1.5371201 | F24: =F16 -> 1.4792714 | G24: =G16 -> 1.0384639 | K24: Generation | L24: =L16 -> 0.43308495 | M24: =M16 -> 0.50709115 | N24: =N16 -> 0.65558618 | O24: =O16 -> 0.57013704 | S24: Generation | T24: =T16 -> 17.28 | U24: =U16 -> 0 | V24: =V16 -> 7.6410256 | W24: =W16 -> 5.7828185
C25: Industry Total | D25: =D17 -> 2.5277512 | E25: =E17 -> 2.2409818 | F25: =F17 -> 2.6935977 | G25: =G17 -> 2.2341678 | K25: Industry Total | L25: =L17 -> 0.85833296 | M25: =M17 -> 0.94000915 | N25: =N17 -> 1.0175814 | O25: =O17 -> 0.93715091 | S25: Industry Total | T25: =T17 -> 16.135085 | U25: =U17 -> 15.814714 | V25: =V17 -> 15.192639 | W25: =W17 -> 15.223079

Sheet Transmission tables
B2: Transmission YE June 2019 | D2: Code | E2: FTEs | F2: Fatalities | G2: LTIs | H2: RWIs | I2: MTIs | J2: TRIs | K2: Days Lost to LTIs | L2: Days of Restricted Work | M2: LTIFR | N2: RWIFR | O2: MTIFR | P2: TRIFR | Q2: LTISR | R2: RWISR | S2: ATLR to LTIs
B3: Peer group respondents | D3: T45 | E3: 1713.6 | F3: 0 | G3: 4 | H3: 5 | I3: 11 | J3: 20 | K3: 27 | L3: 36 | M3: 0.2334267 | N3: 0.29178338 | O3: 0.64192344 | P3: 1.1671335 | Q3: 1.5756303 | R3: 2.1008403 | S3: 6.75
B4: Peer group summary | E4: 1816.5 | F4: 0 | G4: 10 | H4: 7 | I4: 8 | J4: 25 | K4: 64 | L4: 36 | M4: 0.55050922 | N4: 0.38535645 | O4: 0.44040738 | P4: 1.3762731 | Q4: 3.523259 | R4: 1.9818332 | S4: 6.4
B5: Industry summary | E5: 13338.3 | F5: 0 | G5: 125 | H5: 65 | I5: 108 | J5: 298 | K5: 2030.5 | L5: 914 | M5: 0.93715091 | N5: 0.48731847 | O5: 0.80969839 | P5: 2.2341678 | Q5: 15.223079 | R5: 6.8524475 | S5: 16.244
B7: Transmission YE June 2018 | D7: Code | E7: FTEs | F7: Fatalities | G7: LTIs | H7: RWIs | I7: MTIs | J7: TRIs | K7: Days Lost to LTIs | L7: Days of Restricted Work | M7: LTIFR | N7: RWIFR | O7: MTIFR | P7: TRIFR | Q7: LTISR | R7: RWISR | S7: ATLR to LTIs
B8: Peer group respondents | D8: T45 | E8: 1713.6 | F8: 0 | G8: 4 | H8: 5 | I8: 11 | J8: 20 | K8: 27 | L8: 36 | M8: 0.2334267 | N8: 0.29178338 | O8: 0.64192344 | P8: 1.1671335 | Q8: 1.5756303 | R8: 2.1008403 | S8: 6.75
B9: Peer group summary | E9: 1713.6 | F9: 0 | G9: 4 | H9: 5 | I9: 11 | J9: 20 | K9: 27 | L9: 36 | M9: 0.2334267 | N9: 0.29178338 | O9: 0.64192344 | P9: 1.1671335 | Q9: 1.5756303 | R9: 2.1008403 | S9: 6.75
B10: Industry summary | E10: 13365.025 | F10: 0 | G10: 136 | H10: 60 | I10: 164 | J10: 360 | K10: 2030.5 | L10: 914 | M10: 1.0175814 | N10: 0.44893296 | O10: 1.2270834 | P10: 2.6935977 | Q10: 15.192639 | R10: 6.8387454 | S10: 14.930147
B12: Transmission YE June 2017 | D12: Code | E12: FTEs | F12: Fatalities | G12: LTIs | H12: RWIs | I12: MTIs | J12: TRIs | K12: Days Lost to LTIs | L12: Days of Restricted Work | M12: LTIFR | N12: RWIFR | O12: MTIFR | P12: TRIFR | Q12: LTISR | R12: RWISR | S12: ATLR to LTIs
B13: Peer group respondents | D13: T45 | E13: 1705.4053 | F13: 0 | G13: 3 | H13: 2 | I13: 12 | J13: 17 | K13: 221 | L13: 24 | M13: 0.17591126 | N13: 0.11727417 | O13: 0.70364503 | P13: 0.99683046 | Q13: 12.958796 | R13: 1.4072901 | S13: 73.666667
B14: Peer group summary | E14: 1705.4053 | F14: 0 | G14: 3 | H14: 2 | I14: 12 | J14: 17 | K14: 221 | L14: 24 | M14: 0.17591126 | N14: 0.11727417 | O14: 0.70364503 | P14: 0.99683046 | Q14: 12.958796 | R14: 1.4072901 | S14: 73.666667
B15: Industry summary | E15: 13297.743 | F15: 0 | G15: 125 | H15: 25 | I15: 148 | J15: 298 | K15: 2103 | L15: 703 | M15: 0.94000915 | N15: 0.18800183 | O15: 1.1129708 | P15: 2.2409818 | Q15: 15.814714 | R15: 5.2866115 | S15: 16.824
B17: Transmission YE June 2016 | D17: Code | E17: FTEs | F17: Fatalities | G17: LTIs | H17: RWIs | I17: MTIs | J17: TRIs | K17: Days Lost to LTIs | L17: Days of Restricted Work | M17: LTIFR | N17: RWIFR | O17: MTIFR | P17: TRIFR | Q17: LTISR | R17: RWISR | S17: ATLR to LTIs
B18: Peer group respondents | D18: T45 | E18: 1674.3002 | F18: 0 | G18: 8 | H18: N/A | I18: 18 | J18: 26 | K18: 160 | L18: N/A | M18: 0.47781158 | N18: N/A | O18: 1.0750761 | P18: 1.5528876 | Q18: 9.5562316 | R18: N/A | S18: 20
B19: Peer group summary | E19: 1674.3002 | F19: 0 | G19: 8 | H19: 0 | I19: 18 | J19: 26 | K19: 160 | L19: 0 | M19: 0.47781158 | N19: 0 | O19: 1.0750761 | P19: 1.5528876 | Q19: 9.5562316 | R19: 0 | S19: 20
B20: Industry summary | E20: 12699.035 | F20: 0 | G20: 109 | H20: 33 | I20: 179 | J20: 321 | K20: 2049 | L20: 958 | M20: 0.85833296 | N20: 0.25986227 | O20: 1.409556 | P20: 2.5277512 | Q20: 16.135085 | R20: 7.5438805 | S20: 18.798165

Sheet Transmission graphs
B3: TRIFR - 5-year results - Transmission peer group | C3: Year Ended | I3: LTIFR - 5-year results - Transmission peer group | P3: LTISR - 5-year results - Transmission peer group
C4: 2016 | D4: 2017 | E4: 2018 | F4: 2019 | J4: 2016 | K4: 2017 | L4: 2018 | M4: 2019 | Q4: 2016 | R4: 2017 | S4: 2018 | T4: 2019
B5: T45 / Transmission | C5: ='Transmission tables'!P18 -> 1.5528876 | D5: ='Transmission tables'!P13 -> 0.99683046 | E5: ='Transmission tables'!P8 -> 1.1671335 | F5: ='Transmission tables'!P3 -> 1.1671335 | I5: T45 / Transmission | J5: ='Transmission tables'!M18 -> 0.47781158 | K5: ='Transmission tables'!M13 -> 0.17591126 | L5: ='Transmission tables'!M8 -> 0.2334267 | M5: ='Transmission tables'!M3 -> 0.2334267 | P5: T45 / Transmission | Q5: ='Transmission tables'!Q18 -> 9.5562316 | R5: ='Transmission tables'!Q13 -> 12.958796 | S5: ='Transmission tables'!Q8 -> 1.5756303 | T5: ='Transmission tables'!Q3 -> 1.5756303
B6: Transmission | C6: ='Transmission tables'!P19 -> 1.5528876 | D6: ='Transmission tables'!P14 -> 0.99683046 | E6: ='Transmission tables'!P9 -> 1.1671335 | F6: ='Transmission tables'!P4 -> 1.3762731 | I6: Transmission | J6: ='Transmission tables'!M19 -> 0.47781158 | K6: ='Transmission tables'!M14 -> 0.17591126 | L6: ='Transmission tables'!M9 -> 0.2334267 | M6: ='Transmission tables'!M4 -> 0.55050922 | P6: Transmission | Q6: ='Transmission tables'!Q19 -> 9.5562316 | R6: ='Transmission tables'!Q14 -> 12.958796 | S6: ='Transmission tables'!Q9 -> 1.5756303 | T6: ='Transmission tables'!Q4 -> 3.523259
B7: Industry Total | C7: ='Transmission tables'!P20 -> 2.5277512 | D7: ='Transmission tables'!P15 -> 2.2409818 | E7: ='Transmission tables'!P10 -> 2.6935977 | F7: ='Transmission tables'!P5 -> 2.2341678 | I7: Industry Total | J7: ='Transmission tables'!M20 -> 0.85833296 | K7: ='Transmission tables'!M15 -> 0.94000915 | L7: ='Transmission tables'!M10 -> 1.0175814 | M7: ='Transmission tables'!M5 -> 0.93715091 | P7: Industry Total | Q7: ='Transmission tables'!Q20 -> 16.135085 | R7: ='Transmission tables'!Q15 -> 15.814714 | S7: ='Transmission tables'!Q10 -> 15.192639 | T7: ='Transmission tables'!Q5 -> 15.223079

Sheet Distribution (small) tables
B2: Distribution peers having < 100 employees YE June 2019 | D2: Code | E2: FTEs | F2: Fatalities | G2: LTIs | H2: RWIs | I2: MTIs | J2: TRIs | K2: Days Lost to LTIs | L2: Days of Restricted Work | M2: LTIFR | N2: RWIFR | O2: MTIFR | P2: TRIFR | Q2: LTISR | R2: RWISR | S2: ATLR to LTIs
B3: Peer group respondents | D3: D50 | E3: 71.6 | F3: 0 | G3: 2 | H3: 0 | I3: 4 | J3: 6 | K3: 40.7 | L3: 0 | M3: 2.7932961 | N3: 0 | O3: 5.5865922 | P3: 8.3798883 | Q3: 56.843575 | R3: 0 | S3: 20.35
D4: D65 | E4: 60.3 (NCD) | F4: 0 | G4: 3 | H4: 0 | I4: 4 | J4: 7 | K4: 39 | L4: 0 | M4: 4.9751244 | N4: 0 | O4: 6.6334992 | P4: 11.608624 | Q4: 64.676617 | R4: 0 | S4: 13
D5: D70 | E5: 68 (CNU) | F5: 0 | G5: 1 | H5: 1 | I5: 0 | J5: 2 | K5: 8 | L5: 3 | M5: 1.4705882 | N5: 1.4705882 | O5: 0 | P5: 2.9411765 | Q5: 11.764706 | R5: 4.4117647 | S5: 8
D6: D80 | E6: 72.8 (NCD) | F6: 0 | G6: 0 | H6: 0 | I6: 3 | J6: 3 | K6: 0 | L6: 0 | M6: 0 | N6: 0 | O6: 4.1208791 | P6: 4.1208791 | Q6: 0 | R6: 0 | S6: 0
D7: D105 | E7: 92 (NCD) | F7: 0 | G7: 3 | H7: 0 | I7: 0 | J7: 3 | K7: 26 | L7: 0 | M7: 3.2608696 | N7: 0 | O7: 0 | P7: 3.2608696 | Q7: 28.26087 | R7: 0 | S7: 8.6666667
D8: D128 | E8: 53 | F8: 0 | G8: 0 | H8: 0 | I8: 0 | J8: 0 | K8: 0 | L8: 0 | M8: 0 | N8: 0 | O8: 0 | P8: 0 | Q8: 0 | R8: 0 | S8: 0
D9: D130 | E9: 44 | F9: 0 | G9: 0 | H9: 0 | I9: 0 | J9: 0 | K9: 0 | L9: 0 | M9: 0 | N9: 0 | O9: 0 | P9: 0 | Q9: 0 | R9: 0 | S9: 0
D10: D135 | E10: 33 | F10: 0 | G10: 2 | H10: 1 | I10: 0 | J10: 3 | K10: 11 | L10: 23 | M10: 6.0606061 | N10: 3.030303 | O10: 0 | P10: 9.0909091 | Q10: 33.333333 | R10: 69.69697 | S10: 5.5
D11: D155 | E11: 67 | F11: 0 | G11: 1 | H11: 0 | I11: 0 | J11: 1 | K11: 73 | L11: 32 | M11: 1.4925373 | N11: 0 | O11: 0 | P11: 1.4925373 | Q11: 108.95522 | R11: 47.761194 | S11: 73
D12: D168 | E12: 56 | F12: 0 | G12: 0 | H12: 0 | I12: 1 | J12: 1 | K12: 0 | L12: 0 | M12: 0 | N12: 0 | O12: 1.7857143 | P12: 1.7857143 | Q12: 0 | R12: 0 | S12: 0
D13: D180 | E13: 129 (NCD) | F13: 0 | G13: 0 | H13: 0 | I13: 0 | J13: 0 | K13: 0 | L13: 0 | M13: 0 | N13: 0 | O13: 0 | P13: 0 | Q13: 0 | R13: 0 | S13: 0
B14: Peer group summary | E14: 617.7 | F14: 0 | G14: 12 | H14: 2 | I14: 12 | J14: 26 | K14: 197.7 | L14: 58 | M14: 1.9426906 | N14: 0.32378177 | O14: 1.9426906 | P14: 4.209163 | Q14: 32.005828 | R14: 9.3896714 | S14: 16.475
B15: Distribution summary | E15: 6610.7 | F15: 0 | G15: 87 | H15: 50 | I15: 85 | J15: 222 | K15: 1315.7 | L15: 456 | M15: 1.3160482 | N15: 0.75634955 | O15: 1.2857942 | P15: 3.358192 | Q15: 19.902582 | R15: 6.8979079 | S15: 15.122989
B16: Industry summary | E16: 13338.3 | F16: 0 | G16: 125 | H16: 65 | I16: 108 | J16: 298 | K16: 2030.5 | L16: 914 | M16: 0.93715091 | N16: 0.48731847 | O16: 0.80969839 | P16: 2.2341678 | Q16: 15.223079 | R16: 6.8524475 | S16: 16.244
B18: Distribution peers having < 100 employees YE June 2018 | D18: Code | E18: FTEs | F18: Fatalities | G18: LTIs | H18: RWIs | I18: MTIs | J18: TRIs | K18: Days Lost to LTIs | L18: Days of Restricted Work | M18: LTIFR | N18: RWIFR | O18: MTIFR | P18: TRIFR | Q18: LTISR | R18: RWISR | S18: ATLR to LTIs
B19: Peer group respondents | D19: D50 | E19: 60 (NCD) | F19: 0 | G19: 6 | H19: 0 | I19: 2 | J19: 8 | K19: 130 | L19: 0 | M19: 10 | N19: 0 | O19: 3.3333333 | P19: 13.333333 | Q19: 216.66667 | R19: 0 | S19: 21.666667
D20: D65 | E20: 61 | F20: 0 | G20: 1 | H20: 0 | I20: 2 | J20: 3 | K20: 3 | L20: 0 | M20: 1.6393443 | N20: 0 | O20: 3.2786885 | P20: 4.9180328 | Q20: 4.9180328 | R20: 0 | S20: 3
D21: D70 | E21: 67 (CNU) | F21: 0 | G21: 0 | H21: 0 | I21: 0 | J21: 0 | K21: 0 | L21: 0 | M21: 0 | N21: 0 | O21: 0 | P21: 0 | Q21: 0 | R21: 0 | S21: 0
D22: D128 | E22: 48 | F22: 0 | G22: 0 | H22: 2 | I22: 2 | J22: 4 | K22: 0 | L22: 2 | M22: 0 | N22: 4.1666667 | O22: 4.1666667 | P22: 8.3333333 | Q22: 0 | R22: 4.1666667 | S22: 0
D23: D130 | E23: 44 | F23: 0 | G23: 0 | H23: 0 | I23: 0 | J23: 0 | K23: 0 | L23: 0 | M23: 0 | N23: 0 | O23: 0 | P23: 0 | Q23: 0 | R23: 0 | S23: 0
D24: D135 | E24: 29 (CNU) | F24: 0 | G24: 3 | H24: 0 | I24: 3 | J24: 6 | K24: 50 | L24: 0 | M24: 10.344828 | N24: 0 | O24: 10.344828 | P24: 20.689655 | Q24: 172.41379 | R24: 0 | S24: 16.666667
D25: D155 | E25: 75 | F25: 0 | G25: 0 | H25: 1 | I25: 0 | J25: 1 | K25: 0 | L25: 0 | M25: 0 | N25: 1.3333333 | O25: 0 | P25: 1.3333333 | Q25: 0 | R25: 0 | S25: 0
D26: D168 | E26: 49 | F26: 0 | G26: 3 | H26: 0 | I26: 1 | J26: 4 | K26: 121.5 | L26: 0 | M26: 6.122449 | N26: 0 | O26: 2.0408163 | P26: 8.1632653 | Q26: 247.95918 | R26: 0 | S26: 40.5
B27: Peer group summary | E27: 433 | F27: 0 | G27: 13 | H27: 3 | I27: 10 | J27: 26 | K27: 304.5 | L27: 2 | M27: 3.0023095 | N27: 0.69284065 | O27: 2.3094688 | P27: 6.0046189 | Q27: 70.323326 | R27: 0.46189376 | S27: 23.423077
B28: Distribution summary | E28: 5702.55 | F28: 0 | G28: 93 | H28: 34 | I28: 125 | J28: 252 | K28: 1705.5 | L28: 659 | M28: 1.6308494 | N28: 0.5962245 | O28: 2.1920018 | P28: 4.4190757 | Q28: 29.907673 | R28: 11.556234 | S28: 18.33871
B29: Industry summary | E29: 13365.025 | F29: 0 | G29: 136 | H29: 60 | I29: 164 | J29: 360 | K29: 2030.5 | L29: 914 | M29: 1.0175814 | N29: 0.44893296 | O29: 1.2270834 | P29: 2.6935977 | Q29: 15.192639 | R29: 6.8387454 | S29: 14.930147
B31: Distribution peers having < 100 employees YE June 2017 | D31: Code | E31: FTEs | F31: Fatalities | G31: LTIs | H31: RWIs | I31: MTIs | J31: TRIs | K31: Days Lost to LTIs | L31: Days of Restricted Work | M31: LTIFR | N31: RWIFR | O31: MTIFR | P31: TRIFR | Q31: LTISR | R31: RWISR | S31: ATLR to LTIs
B32: Peer group respondents | D32: D50 | E32: 56 (NCD) | F32: 0 | G32: 4 | H32: N/A | I32: 1 | J32: 5 | K32: 120 | L32: N/A | M32: 7.1428571 | N32: N/A | O32: 1.7857143 | P32: 8.9285714 | Q32: 214.28571 | R32: N/A | S32: 30
D33: D65 | E33: 63.085 | F33: 0 | G33: 0 | H33: 0 | I33: 4 | J33: 4 | K33: 0 | L33: 0 | M33: 0 | N33: 0 | O33: 6.3406515 | P33: 6.3406515 | Q33: 0 | R33: 0 | S33: 0
D34: D70 | E34: 65 (CNU) | F34: 0 | G34: 5 | H34: 0 | I34: 0 | J34: 5 | K34: 108 | L34: 0 | M34: 7.6923077 | N34: 0 | O34: 0 | P34: 7.6923077 | Q34: 166.15385 | R34: 0 | S34: 21.6
D35: D105 | E35: 74 | F35: 0 | G35: 0 | H35: N/A | I35: 0 | J35: 0 | K35: 0 | L35: N/A | M35: 0 | N35: N/A | O35: 0 | P35: 0 | Q35: 0 | R35: N/A | S35: 0
D36: D128 | E36: 52 | F36: 0 | G36: 0 | H36: 0 | I36: 0 | J36: 0 | K36: 0 | L36: 0 | M36: 0 | N36: 0 | O36: 0 | P36: 0 | Q36: 0 | R36: 0 | S36: 0
D37: D130 | E37: 8 | F37: 0 | G37: 0 | H37: 0 | I37: 0 | J37: 0 | K37: 0 | L37: 0 | M37: 0 | N37: 0 | O37: 0 | P37: 0 | Q37: 0 | R37: 0 | S37: 0
D38: D135 | E38: 27 (CNU) | F38: 0 | G38: 5 | H38: 0 | I38: 0 | J38: 5 | K38: 185 | L38: 0 | M38: 18.518519 | N38: 0 | O38: 0 | P38: 18.518519 | Q38: 685.18519 | R38: 0 | S38: 37
D39: D155 | E39: 88 | F39: 0 | G39: 1 | H39: 1 | I39: 2 | J39: 4 | K39: 12 | L39: 5 | M39: 1.1363636 | N39: 1.1363636 | O39: 2.2727273 | P39: 4.5454545 | Q39: 13.636364 | R39: 5.6818182 | S39: 12
B40: Peer group summary | E40: 433.085 | F40: 0 | G40: 15 | H40: 1 | I40: 7 | J40: 23 | K40: 425 | L40: 5 | M40: 3.4635233 | N40: 0.23090156 | O40: 1.6163109 | P40: 5.3107358 | Q40: 98.133161 | R40: 1.1545078 | S40: 28.333333
B41: Distribution summary | E41: 5281.835 | F41: 0 | G41: 90 | H41: 15 | I41: 79 | J41: 184 | K41: 1565 | L41: 542 | M41: 1.7039533 | N41: 0.28399221 | O41: 1.4956923 | P41: 3.4836378 | Q41: 29.629854 | R41: 10.261585 | S41: 17.388889
B42: Industry summary | E42: 13297.743 | F42: 0 | G42: 125 | H42: 25 | I42: 148 | J42: 298 | K42: 2103 | L42: 703 | M42: 0.94000915 | N42: 0.18800183 | O42: 1.1129708 | P42: 2.2409818 | Q42: 15.814714 | R42: 5.2866115 | S42: 16.824
B44: Distribution peers having < 100 employees YE June 2016 | D44: Code | E44: FTEs | F44: Fatalities | G44: LTIs | H44: RWIs | I44: MTIs | J44: TRIs | K44: Days Lost to LTIs | L44: Days of Restricted Work | M44: LTIFR | N44: RWIFR | O44: MTIFR | P44: TRIFR | Q44: LTISR | R44: RWISR | S44: ATLR to LTIs
...

Sheet Distribution (small) graphs
B2: Total Recordable Injury Frequency Rate | J2: Lost Time Injury Frequency Rate | R2: Lost Time Injury Severity Rate
B3: TRIFR - 5-year results - Small-size distribustion peer group | D3: Year Ended | J3: LTIFR - 5-year results - Small-size distribustion peer group | R3: LTISR - 5-year results - Small-size distribution peer group
D4: 2016 | E4: 2017 | F4: 2018 | G4: 2019 | L4: 2016 | M4: 2017 | N4: 2018 | O4: 2019 | T4: 2016 | U4: 2017 | V4: 2018 | W4: 2019
B5: Respondent code | C5: D50 | D5: =VLOOKUP($C5,'Distribution (small) tables'!$D$45:$S$51,13,FALSE) -> 14.545455 | E5: =VLOOKUP($C5,'Distribution (small) tables'!$D$32:$S$39,13,FALSE) -> 8.9285714 | F5: =VLOOKUP($C5,'Distribution (small) tables'!$D$19:$S$26,13,FALSE) -> 13.333333 | G5: =VLOOKUP($C5,'Distribution (small) tables'!$D$3:$S$13,13,FALSE) -> 8.3798883 | J5: Respondent code | K5: D50 | L5: =VLOOKUP($K5,'Distribution (small) tables'!$D$45:$S$51,10,FALSE) -> 5.4545455 | M5: =VLOOKUP($K5,'Distribution (small) tables'!$D$32:$S$39,10,FALSE) -> 7.1428571 | N5: =VLOOKUP($K5,'Distribution (small) tables'!$D$19:$S$26,10,FALSE) -> 10 | O5: =VLOOKUP($K5,'Distribution (small) tables'!$D$3:$S$13,10,FALSE) -> 2.7932961 | R5: Respondent code | S5: D50 | T5: =VLOOKUP($S5,'Distribution (small) tables'!$D$45:$S$51,14,FALSE) -> 36.363636 | U5: =VLOOKUP($S5,'Distribution (small) tables'!$D$32:$S$39,14,FALSE) -> 214.28571 | V5: =VLOOKUP($S5,'Distribution (small) tables'!$D$19:$S$26,14,FALSE) -> 216.66667 | W5: =VLOOKUP($S5,'Distribution (small) tables'!$D$3:$S$13,14,FALSE) -> 56.843575
C6: D65 | D6: =VLOOKUP($C6,'Distribution (small) tables'!$D$45:$S$51,13,FALSE) -> 9.3023256 | E6: =VLOOKUP($C6,'Distribution (small) tables'!$D$32:$S$39,13,FALSE) -> 6.3406515 | F6: =VLOOKUP($C6,'Distribution (small) tables'!$D$19:$S$26,13,FALSE) -> 4.9180328 | G6: =VLOOKUP($C6,'Distribution (small) tables'!$D$3:$S$13,13,FALSE) -> 11.608624 | K6: D65 | L6: =VLOOKUP($K6,'Distribution (small) tables'!$D$45:$S$51,10,FALSE) -> 1.5503876 | M6: =VLOOKUP($K6,'Distribution (small) tables'!$D$32:$S$39,10,FALSE) -> 0 | N6: =VLOOKUP($K6,'Distribution (small) tables'!$D$19:$S$26,10,FALSE) -> 1.6393443 | O6: =VLOOKUP($K6,'Distribution (small) tables'!$D$3:$S$13,10,FALSE) -> 4.9751244 | S6: D65 | T6: =VLOOKUP($S6,'Distribution (small) tables'!$D$45:$S$51,14,FALSE) -> 9.3023256 | U6: =VLOOKUP($S6,'Distribution (small) tables'!$D$32:$S$39,14,FALSE) -> 0 | V6: =VLOOKUP($S6,'Distribution (small) tables'!$D$19:$S$26,14,FALSE) -> 4.9180328 | W6: =VLOOKUP($S6,'Distribution (small) tables'!$D$3:$S$13,14,FALSE) -> 64.676617
C7: D70 | D7: =VLOOKUP($C7,'Distribution (small) tables'!$D$45:$S$51,13,FALSE) -> 4.2857143 | E7: =VLOOKUP($C7,'Distribution (small) tables'!$D$32:$S$39,13,FALSE) -> 7.6923077 | F7: =VLOOKUP($C7,'Distribution (small) tables'!$D$19:$S$26,13,FALSE) -> 0 | G7: =VLOOKUP($C7,'Distribution (small) tables'!$D$3:$S$13,13,FALSE) -> 2.9411765 | K7: D70 | L7: =VLOOKUP($K7,'Distribution (small) tables'!$D$45:$S$51,10,FALSE) -> 4.2857143 | M7: =VLOOKUP($K7,'Distribution (small) tables'!$D$32:$S$39,10,FALSE) -> 7.6923077 | N7: =VLOOKUP($K7,'Distribution (small) tables'!$D$19:$S$26,10,FALSE) -> 0 | O7: =VLOOKUP($K7,'Distribution (small) tables'!$D$3:$S$13,10,FALSE) -> 1.4705882 | S7: D70 | T7: =VLOOKUP($S7,'Distribution (small) tables'!$D$45:$S$51,14,FALSE) -> 11.428571 | U7: =VLOOKUP($S7,'Distribution (small) tables'!$D$32:$S$39,14,FALSE) -> 166.15385 | V7: =VLOOKUP($S7,'Distribution (small) tables'!$D$19:$S$26,14,FALSE) -> 0 | W7: =VLOOKUP($S7,'Distribution (small) tables'!$D$3:$S$13,14,FALSE) -> 11.764706
C8: D80 | D8: - | E8: - | F8: - | G8: =VLOOKUP($C8,'Distribution (small) tables'!$D$3:$S$13,13,FALSE) -> 4.1208791 | K8: D80 | L8: - | M8: - | N8: - | O8: =VLOOKUP($K8,'Distribution (small) tables'!$D$3:$S$13,10,FALSE) -> 0 | S8: D80 | T8: - | U8: - | V8: - | W8: =VLOOKUP($S8,'Distribution (small) tables'!$D$3:$S$13,14,FALSE) -> 0
C9: D105 | G9: =VLOOKUP($C9,'Distribution (small) tables'!$D$3:$S$13,13,FALSE) -> 3.2608696 | K9: D105 | O9: =VLOOKUP($K9,'Distribution (small) tables'!$D$3:$S$13,10,FALSE) -> 3.2608696 | S9: D105 | T9: - | U9: - | V9: - | W9: =VLOOKUP($S9,'Distribution (small) tables'!$D$3:$S$13,14,FALSE) -> 28.26087
C10: D128 | D10: =VLOOKUP($C10,'Distribution (small) tables'!$D$45:$S$51,13,FALSE) -> 4 | E10: =VLOOKUP($C10,'Distribution (small) tables'!$D$32:$S$39,13,FALSE) -> 0 | F10: =VLOOKUP($C10,'Distribution (small) tables'!$D$19:$S$26,13,FALSE) -> 8.3333333 | G10: =VLOOKUP($C10,'Distribution (small) tables'!$D$3:$S$13,13,FALSE) -> 0 | K10: D128 | L10: =VLOOKUP($K10,'Distribution (small) tables'!$D$45:$S$51,10,FALSE) -> 4 | M10: =VLOOKUP($K10,'Distribution (small) tables'!$D$32:$S$39,10,FALSE) -> 0 | N10: =VLOOKUP($K10,'Distribution (small) tables'!$D$19:$S$26,10,FALSE) -> 0 | O10: =VLOOKUP($K10,'Distribution (small) tables'!$D$3:$S$13,10,FALSE) -> 0 | S10: D128 | T10: =VLOOKUP($S10,'Distribution (small) tables'!$D$45:$S$51,14,FALSE) -> 42 | U10: =VLOOKUP($S10,'Distribution (small) tables'!$D$32:$S$39,14,FALSE) -> 0 | V10: =VLOOKUP($S10,'Distribution (small) tables'!$D$19:$S$26,14,FALSE) -> 0 | W10: =VLOOKUP($S10,'Distribution (small) tables'!$D$3:$S$13,14,FALSE) -> 0
C11: D130 | D11: =VLOOKUP($C11,'Distribution (small) tables'!$D$45:$S$51,13,FALSE) -> 0 | E11: =VLOOKUP($C11,'Distribution (small) tables'!$D$32:$S$39,13,FALSE) -> 0 | F11: =VLOOKUP($C11,'Distribution (small) tables'!$D$19:$S$26,13,FALSE) -> 0 | G11: =VLOOKUP($C11,'Distribution (small) tables'!$D$3:$S$13,13,FALSE) -> 0 | K11: D130 | L11: =VLOOKUP($K11,'Distribution (small) tables'!$D$45:$S$51,10,FALSE) -> 0 | M11: =VLOOKUP($K11,'Distribution (small) tables'!$D$32:$S$39,10,FALSE) -> 0 | N11: =VLOOKUP($K11,'Distribution (small) tables'!$D$19:$S$26,10,FALSE) -> 0 | O11: =VLOOKUP($K11,'Distribution (small) tables'!$D$3:$S$13,10,FALSE) -> 0 | S11: D130 | T11: =VLOOKUP($S11,'Distribution (small) tables'!$D$45:$S$51,14,FALSE) -> 0 | U11: =VLOOKUP($S11,'Distribution (small) tables'!$D$32:$S$39,14,FALSE) -> 0 | V11: =VLOOKUP($S11,'Distribution (small) tables'!$D$19:$S$26,14,FALSE) -> 0 | W11: =VLOOKUP($S11,'Distribution (small) tables'!$D$3:$S$13,14,FALSE) -> 0
C12: D135 | D12: =VLOOKUP($C12,'Distribution (small) tables'!$D$45:$S$51,13,FALSE) -> 5.4054054 | E12: =VLOOKUP($C12,'Distribution (small) tables'!$D$32:$S$39,13,FALSE) -> 18.518519 | F12: =VLOOKUP($C12,'Distribution (small) tables'!$D$19:$S$26,13,FALSE) -> 20.689655 | G12: =VLOOKUP($C12,'Distribution (small) tables'!$D$3:$S$13,13,FALSE) -> 9.0909091 | K12: D135 | L12: =VLOOKUP($K12,'Distribution (small) tables'!$D$45:$S$51,10,FALSE) -> 5.4054054 | M12: =VLOOKUP($K12,'Distribution (small) tables'!$D$32:$S$39,10,FALSE) -> 18.518519 | N12: =VLOOKUP($K12,'Distribution (small) tables'!$D$19:$S$26,10,FALSE) -> 10.344828 | O12: =VLOOKUP($K12,'Distribution (small) tables'!$D$3:$S$13,10,FALSE) -> 6.0606061 | S12: D135 | T12: =VLOOKUP($S12,'Distribution (small) tables'!$D$45:$S$51,14,FALSE) -> 18.918919 | U12: =VLOOKUP($S12,'Distribution (small) tables'!$D$32:$S$39,14,FALSE) -> 685.18519 | V12: =VLOOKUP($S12,'Distribution (small) tables'!$D$19:$S$26,14,FALSE) -> 172.41379 | W12: =VLOOKUP($S12,'Distribution (small) tables'!$D$3:$S$13,14,FALSE) -> 33.333333
C13: D155 | D13: =VLOOKUP($C13,'Distribution (medium) tables'!$D$45:$S$55,13,FALSE) -> 4.2857143 | E13: =VLOOKUP($C13,'Distribution (small) tables'!$D$32:$S$39,13,FALSE) -> 4.5454545 | F13: =VLOOKUP($C13,'Distribution (small) tables'!$D$19:$S$26,13,FALSE) -> 1.3333333 | G13: =VLOOKUP($C13,'Distribution (small) tables'!$D$3:$S$13,13,FALSE) -> 1.4925373 | K13: D155 | L13: =VLOOKUP($K13,'Distribution (medium) tables'!$D$45:$S$55,10,FALSE) -> 0.71428571 | M13: =VLOOKUP($K13,'Distribution (small) tables'!$D$32:$S$39,10,FALSE) -> 1.1363636 | N13: =VLOOKUP($K13,'Distribution (small) tables'!$D$19:$S$26,10,FALSE) -> 0 | O13: =VLOOKUP($K13,'Distribution (small) tables'!$D$3:$S$13,10,FALSE) -> 1.4925373 | S13: D155 | T13: =VLOOKUP($S13,'Distribution (medium) tables'!$D$45:$S$55,14,FALSE) -> 5 | U13: =VLOOKUP($S13,'Distribution (small) tables'!$D$32:$S$39,14,FALSE) -> 13.636364 | V13: =VLOOKUP($S13,'Distribution (small) tables'!$D$19:$S$26,14,FALSE) -> 0 | W13: =VLOOKUP($S13,'Distribution (small) tables'!$D$3:$S$13,14,FALSE) -> 108.95522
