Workbook
Name InputOrgGroupingByYear: [1]Input!$AR$2:$AR$1031
Name LTIFRBySector: OFFSET('[1]Tables by Sector'!$BS$3,0,0,COUNTA('[1]Tables by Sector'!$BS:$BS)-1,6)
Name LTISRBySector: OFFSET('[1]Tables by Sector'!$DS$4,0,0,COUNTA('[1]Tables by Sector'!$DS:$DS)-1,6)
Name MTIFRBySector: OFFSET('[1]Tables by Sector'!$BE$3,0,0,COUNTA('[1]Tables by Sector'!$BE:$BE)-1,6)
Name TRIFRBySector: OFFSET('[1]Tables by Sector'!$BZ$3,0,0,COUNTA('[1]Tables by Sector'!$BZ:$BZ)-1,6)

Sheet Contents
B3: Electricity Supply Industry - Safety Performance Trends and Benchmark by Sector and Peer Groups
B4: Five years to 30 June 2017
C6: This benchmarking document is provided by the EEA to survey respondents. It complements the 2017 ESI Safety Performance Indicators Report and enables respondents to extract data, tables and graphs for internal use and reporting. Information contained in this document are confidential and should not be made accessible outside of the participating ESI companies, to the public, or to government agencies.
C9: All frequency and severity rates gathered in this document are based on 200,000 hours worked (equivalent to 100 FTEs), and all reporting years end on 30 June.
C10: Note that LTI data and related indicators do not include Fatalities, as defined in the 2017 EEA survey specifications.
C12: The table of contents below contains hyperlinks that will direct you to the appropriate spreadsheets and cells.
B14: Table of Contents
C16: 1. Industry summary data
D17: Full summary table of industry data for YE 2017, 2016, 2015, 2014, 2013 | K17: *Select year in drop-down list in table
D18: Table: Fatalities by Sector since 2004 | H18: Graph: ESI LTI number and LTIFR since 2008
D19: Table: LTIs by Sector since 2008 | H19: Graph: LTIFR by Sector since 2008
D20: Table: LTIFR by Sector since 2008 | H20: Graph: LTIFR by Sector and FTE Grouping since 2008
D21: Table: LTISR by Sector since 2008 | H21: Graph: LTISR by Sector since 2008
D22: Table: ATLR to LTIs by Sector since 2008 | H22: Graph: ATLR to LTIs by Sector since 2008
C23: 2. Individual Respondents Benchmark Tables
D24: Full benchmark tables for YE 2017, 2016, 2015, 2014 and 2013 for each peer group:
E25: Generation sector
E26: Transmission sector
E27: Small-size distribution sector (less than 100 employees)
E28: Medium-size distribution sector (between 100 and 250 employees)
E29: Large-size distribution sector (more than 250 employees)
E30: Retail sector
C31: 3. Individual Respondents Benchmark Graphs
D32: TRIFR, LTIFR and LTISR benchmark graphs for YE 2017, 2016, 2015, 2014 and 2013 for each peer group:
E33: Generation sector | L33: *Select respondent code in drop-down list in tables
E34: Transmission sector
E35: Small-size distribution sector (less than 100 employees)
E36: Medium-size distribution sector (between 100 and 250 employees)
E37: Large-size distribution sector (more than 250 employees)
E38: Retail sector
D39: Note: LTIFR data available in the white area (left), LTISR data on the grey area (right) of the sheet
C41: Note to Distribution respondents: Distribution respondents that have switched peer groups in previous years will find their LTIFR and LTISR benchmark results among the tables in the peer groups to which they belonged in previous years. Their LTIFR and LTISR charts are however inserted among the peer group in which they belong in 2017.
C43: Abbreviations and formulas used in this document:
C44: General
C45: NCD | D45: No Contractor Data provided
C46: CNU | D46: Contractors Not Used
C47: FTE | D47: Full-time Equivalent Employees. One full-time employee is considered to work 40 hours a week, 50 weeks a year.
C48: Injuries or illnesses
C49: LTI | D49: Lost Time Injury or Illness
C50: RWI | D50: Restricted Work Injury or Illness
C51: MTI | D51: Medical Treatment Injury or Illness
C52: TRI | D52: Total Recordable Injury (Sum of Fatality, LTI, RWI and MTI)
C53: Frequency rates
C54: LTIFR | D54: Lost Time Injury Frequency Rate = (Number of LTIs * 200,000) / (Number of FTEs * 2,000)
C55: RWIFR | D55: Restricted Work Injury Frequency Rate = (Number of RWIs * 200,000) / (Number of FTEs * 2,000)
C56: MTIFR | D56: Medical Treatment Injury Frequency Rate = (Number of MTIs * 200,000) / (Number of FTEs * 2,000)
C57: TRIFR | D57: Total Recordable Injury Frequency Rate = (Number of TRIs * 200,000) / (Number of FTEs * 2,000)
D58: Note that industry and sector RWIFR and TRIFR results have been reviewed manually to only account for FTEs that are covered by RWI reporting.
C59: Severity rates
C60: LTISR | D60: Lost Time Injury Severity Rate = (Number of working days away from work * 200,000) / (Number of FTEs * 2,000)
C61: RWISR | D61: Restricted Work Injury Severity Rate = (Number of working days on restricted work * 200,000) / (Number of FTEs * 2,000)
C62: ATLR to LTIs | D62: Average Time Lost Rate to LTIs = Number of working days lost to LTIs / Number of LTIs

Sheet All Industry - Data
A1: Year ended 2017 | B1: 1
A2: Year ended 2016 | B2: 2 | C2: Year ended 2017 | D2: FTEs | E2: Fatalities | F2: LTIs | G2: RWIs | H2: MTIs | I2: TRIs | J2: Days Lost to LTIs | K2: Days of Restricted Work | L2: LTIFR | M2: RWIFR | N2: MTIFR | O2: TRIFR | P2: LTISR | Q2: RWISR | R2: ATLR to LTIs
A3: Year ended 2015 | B3: 3 | C3: Generation | D3: 1817.44 | E3: 0 | F3: 10 | G3: 5 | H3: 17 | I3: 32 | J3: 96 | K3: 79 | L3: 0.55022449 | M3: 0.27511225 | N3: 0.93538164 | O3: 1.7607184 | P3: 5.2821551 | Q3: 4.3467735 | R3: 9.6
A4: Year ended 2014 | B4: 4 | C4: Transmission | D4: 1705.4053 | E4: 0 | F4: 3 | G4: 2 | H4: 12 | I4: 17 | J4: 249 | K4: 20 | L4: 0.17591126 | M4: 0.11727417 | N4: 0.70364503 | O4: 0.99683046 | P4: 14.600634 | Q4: 1.1727417 | R4: 83
A5: Year ended 2013 | B5: 5 | C5: Distribution < 100 employees | D5: 433.085 | E5: 0 | F5: 15 | G5: 1 | H5: 7 | I5: 23 | J5: 349.5 | K5: 5 | L5: 3.4635233 | M5: 0.23090156 | N5: 1.6163109 | O5: 5.3107358 | P5: 80.700094 | Q5: 1.1545078 | R5: 23.3
C6: Distribution ≥ 100 and < 250 empl. | D6: 1944 | E6: 0 | F6: 48 | G6: 11 | H6: 32 | I6: 91 | J6: 431 | K6: 178 | L6: 2.4691358 | M6: 0.56584362 | N6: 1.6460905 | O6: 4.68107 | P6: 22.170782 | Q6: 9.1563786 | R6: 8.9791667
C7: Distribution ≥ 250 employees | D7: 3101.75 | E7: 0 | F7: 32 | G7: 5 | H7: 46 | I7: 83 | J7: 442 | K7: 302 | L7: 1.0316757 | M7: 0.16119932 | N7: 1.4830338 | O7: 2.6759088 | P7: 14.25002 | Q7: 9.7364391 | R7: 13.8125
C8: Distribution total | D8: 5478.835 | E8: 0 | F8: 95 | G8: 17 | H8: 85 | I8: 197 | J8: 1222.5 | K8: 485 | L8: 1.7339453 | M8: 0.31028494 | N8: 1.5514247 | O8: 3.5956549 | P8: 22.313138 | Q8: 8.8522469 | R8: 12.868421
C9: Retail | D9: 2621.97 | E9: 0 | F9: 17 | G9: 6 | H9: 22 | I9: 45 | J9: 137 | K9: 24 | L9: 0.64836745 | M9: 0.22883557 | N9: 0.83906376 | O9: 1.7162668 | P9: 5.2250789 | Q9: 0.91534228 | R9: 8.0588235
C10: Industry | D10: 11623.65 | E10: 0 | F10: 125 | G10: 30 | H10: 136 | I10: 291 | J10: 1704.5 | K10: 608 | L10: 1.0753937 | M10: 0.25809448 | N10: 1.1700283 | O10: 2.5035165 | P10: 14.664068 | Q10: 5.2307148 | R10: 13.636
C12: Year ended 2016 | D12: FTEs | E12: Fatalities | F12: LTIs | G12: RWIs | H12: MTIs | I12: TRIs | J12: Days Lost to LTIs | K12: Days of Restricted Work | L12: LTIFR | M12: RWIFR | N12: MTIFR | O12: TRIFR | P12: LTISR | Q12: RWISR | R12: ATLR to LTIs
C13: Generation | D13: 1770.549 | E13: 0 | F13: 6 | G13: 8 | H13: 20 | I13: 34 | J13: 55 | K13: 201 | L13: 0.33887794 | M13: 0.49488138 | N13: 1.1295931 | O13: 1.9633525 | P13: 3.1063811 | Q13: 12.433895 | R13: 9.1666667
C14: Transmission | D14: 1674.3002 | E14: 0 | F14: 8 | G14: N/A | H14: 18 | I14: 26 | J14: 134 | K14: 0 | L14: 0.47781158 | M14: N/A | N14: 1.0750761 | O14: 1.5528876 | P14: 8.0033439 | Q14: N/A | R14: 16.75
C15: Distribution < 100 employees | D15: 345.5 | E15: 0 | F15: 12 | G15: 0 | H15: 12 | I15: 24 | J15: 51 | K15: 33 | L15: 3.4732272 | M15: 0 | N15: 3.4732272 | O15: 6.9464544 | P15: 14.761216 | Q15: 14.25486 | R15: 4.25
C16: Distribution ≥ 100 and < 250 empl. | D16: 1806.695 | E16: 0 | F16: 39 | G16: 13 | H16: 44 | I16: 96 | J16: 357 | K16: 182 | L16: 2.1586377 | M16: 0.86782377 | N16: 2.4353862 | O16: 5.4618477 | P16: 19.759838 | Q16: 12.149533 | R16: 9.1538462
C17: Distribution ≥ 250 employees | D17: 3273 | E17: 0 | F17: 27 | G17: 4 | H17: 64 | I17: 95 | J17: 594 | K17: 89 | L17: 0.82493126 | M17: 0.17793594 | N17: 1.9553926 | O17: 2.9582598 | P17: 18.148488 | Q17: 3.9590747 | R17: 22
C18: Distribution total | D18: 5425.195 | E18: 0 | F18: 78 | G18: 17 | H18: 120 | I18: 215 | J18: 1002 | K18: 304 | L18: 1.4377363 | M18: 0.42740415 | N18: 2.2119021 | O18: 4.0770425 | P18: 18.469382 | Q18: 7.6429918 | R18: 12.846154
C19: Retail | D19: 2623.401 | E19: 0 | F19: 17 | G19: 3 | H19: 19 | I19: 39 | J19: 263 | K19: 201 | L19: 0.64801378 | M19: 0.11862396 | N19: 0.7242507 | O19: 1.4908884 | P19: 10.025154 | Q19: 10.073163 | R19: 15.470588
C20: Industry | D20: 11493.445 | E20: 0 | F20: 109 | G20: 28 | H20: 177 | I20: 314 | J20: 1454 | K20: 706 | L20: 0.94836664 | M20: 0.36893319 | N20: 1.5400082 | O20: 2.8573081 | P20: 12.650689 | Q20: 9.3023869 | R20: 13.33945
C22: Year ended 2015 | D22: FTEs | E22: Fatalities | F22: LTIs | G22: RWIs | H22: MTIs | I22: TRIs | J22: Days Lost to LTIs | K22: Days of Restricted Work | L22: LTIFR | M22: RWIFR | N22: MTIFR | O22: TRIFR | P22: LTISR | Q22: RWISR | R22: ATLR to LTIs
C23: Generation | D23: 1806.5 | E23: 0 | F23: 6 | G23: 4 | H23: 16 | I23: 26 | J23: 70 | K23: 114 | L23: 0.33213396 | M23: 0.23760024 | N23: 0.88569056 | O23: 1.4554248 | P23: 3.8748962 | Q23: 6.7716068 | R23: 11.666667
C24: Transmission | D24: 1830.2305 | E24: 0 | F24: 13 | G24: N/A | H24: 34 | I24: 47 | J24: 344 | K24: N/A | L24: 0.71029307 | M24: N/A | N24: 1.8576896 | O24: 2.5679826 | P24: 18.795447 | Q24: N/A | R24: 26.461538
C25: Distribution < 100 employees | D25: 267.2 | E25: 0 | F25: 15 | G25: 0 | H25: 3 | I25: 18 | J25: 100.3 | K25: 2 | L25: 5.6137725 | M25: 0 | N25: 1.3089005 | O25: 6.922673 | P25: 37.537425 | Q25: 1.2254902 | R25: 6.6866667
C26: Distribution ≥ 100 and < 250 empl. | D26: 2068.509 | E26: 0 | F26: 44 | G26: 21 | H26: 49 | I26: 114 | J26: 930 | K26: 171 | L26: 2.127136 | M26: 1.4482759 | N26: 2.368856 | O26: 5.9442679 | P26: 44.95992 | Q26: 13.153846 | R26: 21.136364
C27: Distribution ≥ 250 employees | D27: 3128 | E27: 0 | F27: 41 | G27: 23 | H27: 69 | I27: 133 | J27: 492 | K27: 251 | L27: 1.3107417 | M27: 1.5302728 | N27: 2.2058824 | O27: 5.0468968 | P27: 15.7289 | Q27: 21.826087 | R27: 12
C28: Distribution total | D28: 5463.709 | E28: 0 | F28: 100 | G28: 44 | H28: 121 | I28: 265 | J28: 1522.3 | K28: 424 | L28: 1.8302585 | M28: 1.4119761 | N28: 2.2146128 | O28: 5.4568475 | P28: 27.862026 | Q28: 16.225318 | R28: 15.223
C29: Retail | D29: 2710 | E29: 0 | F29: 25 | G29: 5 | H29: 29 | I29: 59 | J29: 229 | K29: 43 | L29: 0.92250923 | M29: 0.23969319 | N29: 1.0701107 | O29: 2.2323131 | P29: 8.4501845 | Q29: 2.0613615 | R29: 9.16
C30: Industry | D30: 11810.439 | E30: 0 | F30: 144 | G30: 53 | H30: 200 | I30: 397 | J30: 2165.3 | K30: 581 | L30: 1.2192603 | M30: 0.76971114 | N30: 1.6934171 | O30: 3.6823885 | P30: 18.33378 | Q30: 9.1027308 | R30: 15.036806
C32: Year ended 2014 | D32: FTEs | E32: Fatalities | F32: LTIs | G32: RWIs | H32: MTIs | I32: TRIs | J32: Days Lost to LTIs | K32: Days of Restricted Work | L32: LTIFR | M32: RWIFR | N32: MTIFR | O32: TRIFR | P32: LTISR | Q32: RWISR | R32: ATLR to LTIs
C33: Generation | D33: 1979.91 | E33: 0 | F33: 12 | G33: - | H33: - | I33: - | J33: 55 | K33: - | L33: 0.60608816 | M33: - | N33: - | O33: - | P33: 2.777904 | Q33: - | R33: 4.5833333
C34: Transmission | D34: 1848.8341 | E34: 0 | F34: 15 | G34: - | H34: - | I34: - | J34: 206 | K34: - | L34: 0.81132213 | M34: - | N34: - | O34: - | P34: 11.142157 | Q34: - | R34: 13.733333
C35: Distribution < 100 employees | D35: 573 | E35: 0 | F35: 17 | G35: - | H35: - | I35: - | J35: 471.6 | K35: - | L35: 2.9668412 | M35: - | N35: - | O35: - | P35: 82.303665 | Q35: - | R35: 27.741176
C36: Distribution ≥ 100 and < 250 empl. | D36: 1888.399 | E36: 0 | F36: 41 | G36: - | H36: - | I36: - | J36: 1061.3 | K36: - | L36: 2.1711513 | M36: - | N36: - | O36: - | P36: 56.201046 | Q36: - | R36: 25.885366
C37: Distribution ≥ 250 employees | D37: 2988.8 | E37: 0 | F37: 18 | G37: - | H37: - | I37: - | J37: 343 | K37: - | L37: 0.60224839 | M37: - | N37: - | O37: - | P37: 11.476178 | Q37: - | R37: 19.055556
C38: Distribution total | D38: 5450.199 | E38: 0 | F38: 76 | G38: - | H38: - | I38: - | J38: 1875.9 | K38: - | L38: 1.3944445 | M38: - | N38: - | O38: - | P38: 34.418927 | Q38: - | R38: 24.682895
C39: Retail | D39: 2363.97 | E39: 0 | F39: 25 | G39: - | H39: - | I39: - | J39: 374.5 | K39: - | L39: 1.057543 | M39: - | N39: - | O39: - | P39: 15.841995 | Q39: - | R39: 14.98
C40: Industry | D40: 11642.913 | E40: 0 | F40: 128 | G40: - | H40: - | I40: - | J40: 2511.4 | K40: - | L40: 1.0993812 | M40: - | N40: - | O40: - | P40: 21.570203 | Q40: - | R40: 19.620313
C42: Year ended 2013 | D42: FTEs | E42: Fatalities | F42: LTIs | G42: RWIs | H42: MTIs | I42: TRIs | J42: Days Lost to LTIs | K42: Days of Restricted Work | L42: LTIFR | M42: RWIFR | N42: MTIFR | O42: TRIFR | P42: LTISR | Q42: RWISR | R42: ATLR to LTIs
C43: Generation | D43: 1494.8 | E43: 0 | F43: 11 | G43: - | H43: - | I43: - | J43: 261 | K43: - | L43: 0.7358844 | M43: - | N43: - | O43: - | P43: 17.46053 | Q43: - | R43: 23.727273
C44: Transmission | D44: 2581 | E44: 1 | F44: 12 | G44: - | H44: - | I44: - | J44: 83 | K44: - | L44: 0.46493607 | M44: - | N44: - | O44: - | P44: 3.2158078 | Q44: - | R44: 6.9166667
C45: Distribution < 100 employees | D45: 333.3 | E45: 0 | F45: 14 | G45: - | H45: - | I45: - | J45: 228 | K45: - | L45: 4.20042 | M45: - | N45: - | O45: - | P45: 68.406841 | Q45: - | R45: 16.285714
C46: Distribution ≥ 100 and < 250 empl. | D46: 2002.474 | E46: 0 | F46: 57 | G46: - | H46: - | I46: - | J46: 710.5 | K46: - | L46: 2.8464789 | M46: - | N46: - | O46: - | P46: 35.48111 | Q46: - | R46: 12.464912
C47: Distribution ≥ 250 employees | D47: 2974 | E47: 1 | F47: 30 | G47: - | H47: - | I47: - | J47: 793 | K47: - | L47: 1.0087424 | M47: - | N47: - | O47: - | P47: 26.664425 | Q47: - | R47: 26.433333
C48: Distribution total | D48: 5309.774 | E48: 1 | F48: 101 | G48: - | H48: - | I48: - | J48: 1731.5 | K48: - | L48: 1.9021525 | M48: - | N48: - | O48: - | P48: 32.609674 | Q48: - | R48: 17.143564
C49: Retail | D49: 2083.3 | E49: 0 | F49: 16 | G49: - | H49: - | I49: - | J49: 364 | K49: - | L49: 0.76801229 | M49: - | N49: - | O49: - | P49: 17.47228 | Q49: - | R49: 22.75
C50: Industry | D50: 11468.874 | E50: 2 | F50: 140 | G50: - | H50: - | I50: - | J50: 2439.5 | K50: - | L50: 1.2206952 | M50: - | N50: - | O50: - | P50: 21.270615 | Q50: - | R50: 17.425

Sheet All Industry
B2: Electricity Supply Industry - Summary of safety data and performance indicators
B3: 1 | C3: FTEs | D3: Fatalities | E3: LTIs | F3: RWIs | G3: MTIs | H3: TRIs | I3: Days Lost to LTIs | J3: Days of Restricted Work | K3: LTIFR | L3: RWIFR | M3: MTIFR | N3: TRIFR | O3: LTISR | P3: RWISR | Q3: ATLR to LTIs
B4: Generation | C4: =OFFSET('All Industry - Data'!D3,($B$3-1)*10,0) -> 1817.44 | D4: =OFFSET('All Industry - Data'!E3,($B$3-1)*10,0) -> 0 | E4: =OFFSET('All Industry - Data'!F3,($B$3-1)*10,0) -> 10 | F4: =OFFSET('All Industry - Data'!G3,($B$3-1)*10,0) -> 5 | G4: =OFFSET('All Industry - Data'!H3,($B$3-1)*10,0) -> 17 | H4: =OFFSET('All Industry - Data'!I3,($B$3-1)*10,0) -> 32 | I4: =OFFSET('All Industry - Data'!J3,($B$3-1)*10,0) -> 96 | J4: =OFFSET('All Industry - Data'!K3,($B$3-1)*10,0) -> 79 | ... Q4: =OFFSET('All Industry - Data'!R3,($B$3-1)*10,0) -> 9.6
B5: Transmission | C5: =OFFSET('All Industry - Data'!D4,($B$3-1)*10,0) -> 1705.4053 | D5: =OFFSET('All Industry - Data'!E4,($B$3-1)*10,0) -> 0 | E5: =OFFSET('All Industry - Data'!F4,($B$3-1)*10,0) -> 3 | F5: =OFFSET('All Industry - Data'!G4,($B$3-1)*10,0) -> 2 | G5: =OFFSET('All Industry - Data'!H4,($B$3-1)*10,0) -> 12 | H5: =OFFSET('All Industry - Data'!I4,($B$3-1)*10,0) -> 17 | I5: =OFFSET('All Industry - Data'!J4,($B$3-1)*10,0) -> 249 | J5: =OFFSET('All Industry - Data'!K4,($B$3-1)*10,0) -> 20 | ... Q5: =OFFSET('All Industry - Data'!R4,($B$3-1)*10,0) -> 83
B6: Distribution < 100 employees | C6: =OFFSET('All Industry - Data'!D5,($B$3-1)*10,0) -> 433.085 | D6: =OFFSET('All Industry - Data'!E5,($B$3-1)*10,0) -> 0 | E6: =OFFSET('All Industry - Data'!F5,($B$3-1)*10,0) -> 15 | F6: =OFFSET('All Industry - Data'!G5,($B$3-1)*10,0) -> 1 | G6: =OFFSET('All Industry - Data'!H5,($B$3-1)*10,0) -> 7 | H6: =OFFSET('All Industry - Data'!I5,($B$3-1)*10,0) -> 23 | I6: =OFFSET('All Industry - Data'!J5,($B$3-1)*10,0) -> 349.5 | J6: =OFFSET('All Industry - Data'!K5,($B$3-1)*10,0) -> 5 | ... Q6: =OFFSET('All Industry - Data'!R5,($B$3-1)*10,0) -> 23.3
B7: Distribution ≥ 100 and < 250 empl. | C7: =OFFSET('All Industry - Data'!D6,($B$3-1)*10,0) -> 1944 | D7: =OFFSET('All Industry - Data'!E6,($B$3-1)*10,0) -> 0 | E7: =OFFSET('All Industry - Data'!F6,($B$3-1)*10,0) -> 48 | F7: =OFFSET('All Industry - Data'!G6,($B$3-1)*10,0) -> 11 | G7: =OFFSET('All Industry - Data'!H6,($B$3-1)*10,0) -> 32 | H7: =OFFSET('All Industry - Data'!I6,($B$3-1)*10,0) -> 91 | I7: =OFFSET('All Industry - Data'!J6,($B$3-1)*10,0) -> 431 | J7: =OFFSET('All Industry - Data'!K6,($B$3-1)*10,0) -> 178 | ... Q7: =OFFSET('All Industry - Data'!R6,($B$3-1)*10,0) -> 8.9791667
B8: Distribution ≥ 250 employees | C8: =OFFSET('All Industry - Data'!D7,($B$3-1)*10,0) -> 3101.75 | D8: =OFFSET('All Industry - Data'!E7,($B$3-1)*10,0) -> 0 | E8: =OFFSET('All Industry - Data'!F7,($B$3-1)*10,0) -> 32 | F8: =OFFSET('All Industry - Data'!G7,($B$3-1)*10,0) -> 5 | G8: =OFFSET('All Industry - Data'!H7,($B$3-1)*10,0) -> 46 | H8: =OFFSET('All Industry - Data'!I7,($B$3-1)*10,0) -> 83 | I8: =OFFSET('All Industry - Data'!J7,($B$3-1)*10,0) -> 442 | J8: =OFFSET('All Industry - Data'!K7,($B$3-1)*10,0) -> 302 | ... Q8: =OFFSET('All Industry - Data'!R7,($B$3-1)*10,0) -> 13.8125
B9: Distribution total | C9: =OFFSET('All Industry - Data'!D8,($B$3-1)*10,0) -> 5478.835 | D9: =OFFSET('All Industry - Data'!E8,($B$3-1)*10,0) -> 0 | E9: =OFFSET('All Industry - Data'!F8,($B$3-1)*10,0) -> 95 | F9: =OFFSET('All Industry - Data'!G8,($B$3-1)*10,0) -> 17 | G9: =OFFSET('All Industry - Data'!H8,($B$3-1)*10,0) -> 85 | H9: =OFFSET('All Industry - Data'!I8,($B$3-1)*10,0) -> 197 | I9: =OFFSET('All Industry - Data'!J8,($B$3-1)*10,0) -> 1222.5 | J9: =OFFSET('All Industry - Data'!K8,($B$3-1)*10,0) -> 485 | ... Q9: =OFFSET('All Industry - Data'!R8,($B$3-1)*10,0) -> 12.868421
B10: Retail | C10: =OFFSET('All Industry - Data'!D9,($B$3-1)*10,0) -> 2621.97 | D10: =OFFSET('All Industry - Data'!E9,($B$3-1)*10,0) -> 0 | E10: =OFFSET('All Industry - Data'!F9,($B$3-1)*10,0) -> 17 | F10: =OFFSET('All Industry - Data'!G9,($B$3-1)*10,0) -> 6 | G10: =OFFSET('All Industry - Data'!H9,($B$3-1)*10,0) -> 22 | H10: =OFFSET('All Industry - Data'!I9,($B$3-1)*10,0) -> 45 | I10: =OFFSET('All Industry - Data'!J9,($B$3-1)*10,0) -> 137 | J10: =OFFSET('All Industry - Data'!K9,($B$3-1)*10,0) -> 24 | ... Q10: =OFFSET('All Industry - Data'!R9,($B$3-1)*10,0) -> 8.0588235
B11: Industry | C11: =OFFSET('All Industry - Data'!D10,($B$3-1)*10,0) -> 11623.65 | D11: =OFFSET('All Industry - Data'!E10,($B$3-1)*10,0) -> 0 | E11: =OFFSET('All Industry - Data'!F10,($B$3-1)*10,0) -> 125 | F11: =OFFSET('All Industry - Data'!G10,($B$3-1)*10,0) -> 30 | G11: =OFFSET('All Industry - Data'!H10,($B$3-1)*10,0) -> 136 | H11: =OFFSET('All Industry - Data'!I10,($B$3-1)*10,0) -> 291 | I11: =OFFSET('All Industry - Data'!J10,($B$3-1)*10,0) -> 1704.5 | J11: =OFFSET('All Industry - Data'!K10,($B$3-1)*10,0) -> 608 | ... Q11: =OFFSET('All Industry - Data'!R10,($B$3-1)*10,0) -> 13.636
B13: Fatalities by Sector
B14: Year End | C14: Generation | D14: Transmission | E14: Distribution | F14: Retail | G14: Industry Total
B15: 2004 | C15: 0 | D15: 1 | E15: 0 | F15: 0 | G15: 1
B16: 2005 | C16: 0 | D16: 1 | E16: 1 | F16: 0 | G16: 2
B17: 2006 | C17: 0 | D17: 0 | E17: 0 | F17: 0 | G17: 0
B18: 2007 | C18: 0 | D18: 0 | E18: 1 | F18: 0 | G18: 1
B19: 2008 | C19: 0 | D19: 0 | E19: 2 | F19: 0 | G19: 2
B20: 2009 | C20: 0 | D20: 0 | E20: 0 | F20: 0 | G20: 0
B21: 2010 | C21: 0 | D21: 0 | E21: 1 | F21: 0 | G21: 1
B22: 2011 | C22: 0 | D22: 1 | E22: 1 | F22: 0 | G22: 2
B23: 2012 | C23: 0 | D23: 0 | E23: 0 | F23: 0 | G23: 0
B24: 2013 | C24: 0 | D24: 1 | E24: 1 | F24: 0 | G24: 2
B25: 2014 | C25: 0 | D25: 0 | E25: 0 | F25: 0 | G25: 0
B26: 2015 | C26: 0 | D26: 0 | E26: 0 | F26: 0 | G26: 0
... B28: 2017 | C28: 0 | D28: 0 | E28: 0 | F28: 0 | G28: 0
B30: LTIs by Sector
B31: Year End | C31: Generation | D31: Transmission | E31: Distribution < 100 FTEs | F31: Distribution >=100, < 250 FTEs | G31: Distribution >= 250 FTEs | H31: Distribution Total | I31: Retail | J31: Industry Total
B32: 2008 | C32: 17 | D32: 8 | E32: 38 | F32: 42 | G32: 12 | H32: 92 | I32: 18 | J32: 135
B33: 2009 | C33: 21 | D33: 5 | E33: 40 | F33: 61 | G33: 21 | H33: 122 | I33: 19 | J33: 167
B34: 2010 | C34: 18 | D34: 7 | E34: 33 | F34: 60 | G34: 27 | H34: 120 | I34: 26 | J34: 171
B35: 2011 | C35: 16 | D35: 12 | E35: 27 | F35: 51 | G35: 18 | H35: 96 | I35: 18 | J35: 142
B36: 2012 | C36: 8 | D36: 9 | E36: 30 | F36: 44 | G36: 24 | H36: 98 | I36: 19 | J36: 134
B37: 2013 | C37: 11 | D37: 12 | E37: 14 | F37: 57 | G37: 30 | H37: 101 | I37: 16 | J37: 140
B38: 2014 | C38: 12 | D38: 15 | E38: 17 | F38: 41 | G38: 18 | H38: 76 | I38: 25 | J38: 128
B39: 2015 | C39: 6 | D39: 13 | E39: 15 | F39: 44 | G39: 41 | H39: 100 | I39: 25 | J39: 144
B40: 2016 | C40: 6 | D40: 8 | E40: 12 | F40: 39 | G40: 27 | H40: 78 | I40: 17 | J40: 109
B41: 2017 | C41: 10 | D41: 3 | E41: 15 | F41: 48 | G41: 32 | H41: 95 | I41: 17 | J41: 125
B43: LTIFR by Sector
B44: Year End | C44: Generation | D44: Transmission | E44: Distribution < 100 FTEs | F44: Distribution >=100, < 250 FTEs | G44: Distribution >= 250 FTEs | H44: Distribution Total | I44: Retail | J44: Industry Total
B45: 2008 | C45: 0.76569678 | D45: 0.6285849 | E45: 5.5425904 | F45: 3.9040786 | G45: 0.71942446 | H45: 2.6826866 | I45: 0.55749992 | J45: 1.3299185
B46: 2009 | C46: 0.79841837 | D46: 0.38314176 | E46: 5.5928412 | F46: 4.561191 | G46: 1.0515774 | H46: 3.0126655 | I46: 0.64595091 | J46: 1.5284404
B47: 2010 | C47: 0.91463415 | D47: 0.42321644 | E47: 5.4771784 | F47: 3.3802246 | G47: 1.1563169 | H47: 2.5464029 | I47: 1.0915197 | J47: 1.5956658
B48: 2011 | C48: 0.830953 | D48: 0.58309038 | E48: 5.4140766 | F48: 3.0391514 | G48: 0.66716086 | H48: 1.9693116 | I48: 0.81227437 | J48: 1.2822481
B49: 2012 | C49: 0.49796147 | D49: 0.34272658 | E49: 5.2956752 | F49: 3.1689877 | G49: 0.79654829 | H49: 1.9726423 | I49: 0.87364355 | J49: 1.1779903
B50: 2013 | C50: 0.7358844 | D50: 0.46493607 | E50: 4.20042 | F50: 2.8464789 | G50: 1.0087424 | H50: 1.9021525 | I50: 0.76801229 | J50: 1.2206952
B51: 2014 | C51: 0.60608816 | D51: 0.81132213 | E51: 2.9668412 | F51: 2.1711513 | G51: 0.60224839 | H51: 1.3944445 | I51: 1.057543 | J51: 1.0993812
B52: 2015 | C52: 0.33213396 | D52: 0.71029307 | E52: 5.6137725 | F52: 2.127136 | G52: 1.3107417 | H52: 1.8302585 | I52: 0.92250923 | J52: 1.2192603
B53: 2016 | C53: 0.33887794 | D53: 0.47781158 | E53: 3.4732272 | F53: 2.1586377 | G53: 0.82493126 | H53: 1.4377363 | I53: 0.64801378 | J53: 0.94836664
B54: 2017 | C54: 0.55022449 | D54: 0.17591126 | E54: 3.4635233 | F54: 2.4691358 | G54: 1.0316757 | H54: 1.7339453 | I54: 0.64836745 | J54: 1.0753937
B56: LTISR by Sector
B57: Year End | C57: Generation | D57: Transmission | E57: Distribution < 100 FTEs | F57: Distribution >=100, < 250 FTEs | G57: Distribution >= 250 FTEs | H57: Distribution Total | I57: Retail | J57: Industry Total
B58: 2008 | C58: 4.6842627 | D58: 5.9715565 | E58: 72.578763 | F58: 46.616558 | G58: 30.095923 | H58: 43.771531 | I58: 7.2629851 | J58: 18.871051
B59: 2009 | C59: 8.7902061 | D59: 21.072797 | E59: 54.670022 | F59: 62.585522 | G59: 14.872308 | H59: 37.658319 | I59: 13.513973 | J59: 22.228283
B60: 2010 | C60: 8.6382114 | D60: 23.941959 | E60: 83.186722 | F60: 39.097931 | G60: 7.2376874 | H60: 28.948357 | I60: 8.7741394 | J60: 19.961685
B61: 2011 | C61: 12.152688 | D61: 13.411079 | E61: 66.57309 | F61: 35.456767 | G61: 11.489993 | H61: 25.3754 | I61: 3.700361 | J61: 16.515717
B62: 2012 | C62: 10.270455 | D62: 11.157654 | E62: 93.292145 | F62: 24.091509 | G62: 8.9943578 | H62: 22.826289 | I62: 5.4717675 | J62: 15.041354
B63: 2013 | C63: 17.46053 | D63: 3.2158078 | E63: 68.406841 | F63: 35.48111 | G63: 26.664425 | H63: 32.609674 | I63: 17.47228 | J63: 21.270615
B64: 2014 | C64: 2.777904 | D64: 11.142157 | E64: 82.303665 | F64: 56.201046 | G64: 11.476178 | H64: 34.418927 | I64: 15.841995 | J64: 21.570203
B65: 2015 | C65: 3.8748962 | D65: 18.795447 | E65: 37.537425 | F65: 44.95992 | G65: 15.7289 | H65: 27.862026 | I65: 8.4501845 | J65: 18.33378
B66: 2016 | C66: 3.1063811 | D66: 8.0033439 | E66: 14.761216 | F66: 19.759838 | G66: 18.148488 | H66: 18.469382 | I66: 10.025154 | J66: 12.650689
B67: 2017 | C67: 5.2821551 | D67: 14.600634 | E67: 80.700094 | F67: 22.170782 | G67: 14.25002 | H67: 22.313138 | I67: 5.2250789 | J67: 14.664068
B69: ATLR to LTIs by Sector
B70: Year End | C70: Generation | D70: Transmission | E70: Distribution < 100 FTEs | F70: Distribution >= 100, < 250 FTEs | G70: Distribution >= 250 FTEs | H70: Distribution Total | I70: Retail | J70: Industry Total
B71: 2008 | C71: 6.1176471 | D71: 9.5 | E71: 13.094737 | F71: 11.940476 | G71: 41.833333 | H71: 16.316304 | I71: 13.027778 | J71: 14.18963
B72: 2009 | C72: 11.009524 | D72: 55 | E72: 9.775 | F72: 13.721311 | G72: 14.142857 | H72: 12.5 | I72: 20.921053 | J72: 14.543114
B73: 2010 | C73: 9.4444444 | D73: 56.571429 | E73: 15.187879 | F73: 11.566667 | G73: 6.2592593 | H73: 11.368333 | I73: 8.0384615 | J73: 12.509942
B74: 2011 | C74: 14.625 | D74: 23 | E74: 12.296296 | F74: 11.666667 | G74: 17.222222 | H74: 12.885417 | I74: 4.5555556 | J74: 12.880282
B75: 2012 | C75: 20.625 | D75: 32.555556 | E75: 17.616667 | F75: 7.6022727 | G75: 11.291667 | H75: 11.571429 | I75: 6.2631579 | J75: 12.768657
B76: 2013 | C76: 23.727273 | D76: 6.9166667 | E76: 16.285714 | F76: 12.464912 | G76: 26.433333 | H76: 17.143564 | I76: 22.75 | J76: 17.425
B77: 2014 | C77: 4.5833333 | D77: 13.733333 | E77: 27.741176 | F77: 25.885366 | G77: 19.055556 | H77: 24.682895 | I77: 14.98 | J77: 19.620313
B78: 2015 | C78: 11.666667 | D78: 26.461538 | E78: 6.6866667 | F78: 21.136364 | G78: 12 | H78: 15.223 | I78: 9.16 | J78: 15.036806
B79: 2016 | C79: 9.1666667 | D79: 16.75 | E79: 4.25 | F79: 9.1538462 | G79: 22 | H79: 12.846154 | I79: 15.470588 | J79: 13.33945
B80: 2017 | C80: 9.6 | D80: 83 | E80: 23.3 | F80: 8.9791667 | G80: 13.8125 | H80: 12.868421 | I80: 8.0588235 | J80: 13.636

Sheet Generation tables
B2: Generation YE June 2017 | D2: Code | E2: FTEs | F2: Fatalities | G2: LTIs | H2: RWIs | I2: MTIs | J2: TRIs | K2: Days Lost to LTIs | L2: Days of Restricted Work | M2: LTIFR | N2: RWIFR | O2: MTIFR | P2: TRIFR | Q2: LTISR | R2: RWISR | S2: ATLR to LTIs
B3: Peer group respondents | D3: G10 | E3: 274.94 | F3: 0 | G3: 1 | H3: 1 | I3: 4 | J3: 6 | K3: 37 | L3: 8 | M3: 0.36371572 | N3: 0.36371572 | O3: 1.4548629 | P3: 2.1822943 | Q3: 13.457482 | R3: 2.9097258 | S3: 37
D4: G11 | E4: 74 | F4: 0 | G4: 0 | H4: 0 | I4: 0 | J4: 0 | K4: 0 | L4: 0 | M4: 0 | N4: 0 | O4: 0 | P4: 0 | Q4: 0 | R4: 0 | S4: 0
D5: G15 | E5: 112 (NCD) | F5: 0 | G5: 0 | H5: 0 | I5: 7 | J5: 7 | K5: 0 | L5: 0 | M5: 0 | N5: 0 | O5: 6.25 | P5: 6.25 | Q5: 0 | R5: 0 | S5: 0
D6: G20 | E6: 14.5 (NCD) | F6: 0 | G6: 0 | H6: 0 | I6: 0 | J6: 0 | K6: 0 | L6: 0 | M6: 0 | N6: 0 | O6: 0 | P6: 0 | Q6: 0 | R6: 0 | S6: 0
D7: G25 | E7: 497 | F7: 0 | G7: 2 | H7: 1 | I7: 5 | J7: 8 | K7: 13 | L7: 5 | M7: 0.40241449 | N7: 0.20120724 | O7: 1.0060362 | P7: 1.6096579 | Q7: 2.6156942 | R7: 1.0060362 | S7: 6.5
D8: G35 | E8: 428 | F8: 0 | G8: 6 | H8: 0 | I8: 1 | J8: 7 | K8: 45 | L8: 1 | M8: 1.4018692 | N8: 0 | O8: 0.23364486 | P8: 1.635514 | Q8: 10.514019 | R8: 0.23364486 | S8: 7.5
D9: G40 | E9: 396 | F9: 0 | G9: 0 | H9: 3 | I9: 0 | J9: 3 | K9: 0 | L9: 65 | M9: 0 | N9: 0.75757576 | O9: 0 | P9: 0.75757576 | Q9: 0 | R9: 16.414141 | S9: 0
D10: G50 | E10: 21 | F10: 0 | G10: 1 | H10: 0 | I10: 0 | J10: 1 | K10: 1 | L10: 0 | M10: 4.7619048 | N10: 0 | O10: 0 | P10: 4.7619048 | Q10: 4.7619048 | R10: 0 | S10: 1
B11: Peer group summary | E11: 1817.44 | F11: 0 | G11: 10 | H11: 5 | I11: 17 | J11: 32 | K11: 96 | L11: 79 | M11: 0.55022449 | N11: 0.27511225 | O11: 0.93538164 | P11: 1.7607184 | Q11: 5.2821551 | R11: 4.3467735 | S11: 9.6
B12: Industry summary | E12: 11623.65 | F12: 0 | G12: 125 | H12: 30 | I12: 136 | J12: 291 | K12: 1704.5 | L12: 608 | M12: 1.0753937 | N12: 0.25809448 | O12: 1.1700283 | P12: 2.5035165 | Q12: 14.664068 | R12: 5.2307148 | S12: 13.636
B14: Generation YE June 2016 | D14: Code | E14: FTEs | F14: Fatalities | G14: LTIs | H14: RWIs | I14: MTIs | J14: TRIs | K14: Days Lost to LTIs | L14: Days of Restricted Work | M14: LTIFR | N14: RWIFR | O14: MTIFR | P14: TRIFR | Q14: LTISR | R14: RWISR | S14: ATLR to LTIs
B15: Peer group respondents | D15: G10 | E15: 351.619 | F15: 0 | G15: 2 | H15: 3 | I15: 5 | J15: 10 | K15: 9 | L15: 139 | M15: 0.56879748 | N15: 0.85319622 | O15: 1.4219937 | P15: 2.8439874 | Q15: 2.5595886 | R15: 39.531425 | S15: 4.5
D16: G11 | E16: 7 | F16: 0 | G16: 0 | H16: 0 | I16: 0 | J16: 0 | K16: 0 | L16: 0 | M16: 0 | N16: 0 | O16: 0 | P16: 0 | Q16: 0 | R16: 0 | S16: 0
D17: G12 | E17: 1 (CNU) | F17: 0 | G17: 0 | H17: 0 | I17: 2 | J17: 2 | K17: 0 | L17: 0 | M17: 0 | N17: 0 | O17: 200 | P17: 200 | Q17: 0 | R17: 0 | S17: 0
D18: G15 | E18: 127 | F18: 0 | G18: 0 | H18: N/A | I18: 6 | J18: 6 | K18: 0 | L18: N/A | M18: 0 | N18: N/A | O18: 4.7244094 | P18: 4.7244094 | Q18: 0 | R18: N/A | S18: 0
D19: G20 | E19: 12 (NCD) | F19: 0 | G19: 0 | H19: 0 | I19: 0 | J19: 0 | K19: 0 | L19: 0 | M19: 0 | N19: 0 | O19: 0 | P19: 0 | Q19: 0 | R19: 0 | S19: 0
D20: G25 | E20: 478 | F20: 0 | G20: 2 | H20: 2 | I20: 0 | J20: 4 | K20: 29 | L20: 15 | M20: 0.41841004 | N20: 0.41841004 | O20: 0 | P20: 0.83682008 | Q20: 6.0669456 | R20: 3.1380753 | S20: 14.5
D21: G35 | E21: 456 | F21: 0 | G21: 1 | H21: 3 | I21: 1 | J21: 5 | K21: 16 | L21: 47 | M21: 0.21929825 | N21: 0.65789474 | O21: 0.21929825 | P21: 1.0964912 | Q21: 3.5087719 | R21: 10.307018 | S21: 16
D22: G40 | E22: 310.93 | F22: 0 | G22: 0 | H22: 0 | I22: 0 | J22: 0 | K22: 0 | L22: 0 | M22: 0 | N22: 0 | O22: 0 | P22: 0 | Q22: 0 | R22: 0 | S22: 0
D23: G50 | E23: 27 | F23: 0 | G23: 1 | H23: N/A | I23: 6 | J23: 7 | K23: 1 | L23: 0 | M23: 3.7037037 | N23: N/A | O23: 22.222222 | P23: 25.925926 | Q23: 3.7037037 | R23: N/A | S23: 1
B24: Peer group summary | E24: 1770.549 | F24: 0 | G24: 6 | H24: 8 | I24: 20 | J24: 34 | K24: 55 | L24: 201 | M24: 0.33887794 | N24: 0.49488138 | O24: 1.1295931 | P24: 1.9633525 | Q24: 3.1063811 | R24: 12.433895 | S24: 9.1666667
B25: Industry summary | E25: 11493.445 | F25: 0 | G25: 109 | H25: 28 | I25: 177 | J25: 314 | K25: 1454 | L25: 706 | M25: 0.94836664 | N25: 0.36893319 | O25: 1.5400082 | P25: 2.8573081 | Q25: 12.650689 | R25: 9.3023869 | S25: 13.33945
B27: Generation YE June 2015 | D27: Code | E27: FTEs | F27: Fatalities | G27: LTIs | H27: RWIs | I27: MTIs | J27: TRIs | K27: Days Lost to LTIs | L27: Days of Restricted Work | M27: LTIFR | N27: RWIFR | O27: MTIFR | P27: TRIFR | Q27: LTISR | R27: RWISR | S27: ATLR to LTIs
B28: Peer group respondents | D28: G10 | E28: 331 | F28: 0 | G28: 3 | H28: 1 | I28: 5 | J28: 9 | K28: 53 | L28: 38 | M28: 0.90634441 | N28: 0.3021148 | O28: 1.510574 | P28: 2.7190332 | Q28: 16.012085 | R28: 11.480363 | S28: 17.666667
D29: G11 | E29: 6.5 | F29: 0 | G29: 0 | H29: 0 | I29: 0 | J29: 0 | K29: 0 | L29: 0 | M29: 0 | N29: 0 | O29: 0 | P29: 0 | Q29: 0 | R29: 0 | S29: 0
D30: G12 | E30: 1 (NCD) | F30: 0 | G30: 0 | H30: N/A | I30: 0 | J30: 0 | K30: 0 | L30: N/A | M30: 0 | N30: N/A | O30: 0 | P30: 0 | Q30: 0 | R30: N/A | S30: 0
D31: G15 | E31: 119 | F31: 0 | G31: 0 | H31: N/A | I31: 2 | J31: 2 | K31: 0 | L31: N/A | M31: 0 | N31: N/A | O31: 1.6806723 | P31: 1.6806723 | Q31: 0 | R31: N/A | S31: 0
D32: G20 | E32: 10 (NCD) | F32: 0 | G32: 0 | H32: 0 | I32: 1 | J32: 1 | K32: 0 | L32: 0 | M32: 0 | N32: 0 | O32: 10 | P32: 10 | Q32: 0 | R32: 0 | S32: 0
D33: G25 | E33: 508 | F33: 0 | G33: 1 | H33: 0 | I33: 7 | J33: 8 | K33: 1 | L33: 0 | M33: 0.19685039 | N33: 0 | O33: 1.3779528 | P33: 1.5748031 | Q33: 0.19685039 | R33: 0 | S33: 1
D34: G35 | E34: 511 | F34: 0 | G34: 0 | H34: 3 | I34: 1 | J34: 4 | K34: 0 | L34: 34 | M34: 0 | N34: 0.58708415 | O34: 0.19569472 | P34: 0.78277886 | Q34: 0 | R34: 6.6536204 | S34: 0
D35: G40 | E35: 317 | F35: 0 | G35: 2 | H35: 0 | I35: 0 | J35: 2 | K35: 16 | L35: 42 | M35: 0.63091483 | N35: 0 | O35: 0 | P35: 0.63091483 | Q35: 5.0473186 | R35: 13.249211 | S35: 8
D36: G45 | E36: 3 (CNU) | F36: 0 | G36: 0 | H36: N/A | I36: 0 | J36: 0 | K36: 0 | L36: N/A | M36: 0 | N36: N/A | O36: 0 | P36: 0 | Q36: 0 | R36: N/A | S36: 0
B37: Peer group summary | E37: 1806.5 | F37: 0 | G37: 6 | H37: 4 | I37: 16 | J37: 26 | K37: 70 | L37: 114 | M37: 0.33213396 | N37: 0.23760024 | O37: 0.88569056 | P37: 1.4554248 | Q37: 3.8748962 | R37: 6.7716068 | S37: 11.666667
B38: Industry summary | E38: 11810.439 | F38: 0 | G38: 144 | H38: 53 | I38: 200 | J38: 397 | K38: 2165.3 | L38: 581 | M38: 1.2192603 | N38: 0.76971114 | O38: 1.6934171 | P38: 3.6823885 | Q38: 18.33378 | R38: 9.1027308 | S38: 15.036806
B40: Generation YE June 2014 | D40: Code | E40: FTEs | F40: Fatalities | G40: LTIs | H40: RWIs | I40: MTIs | J40: TRIs | K40: Days Lost to LTIs | L40: Days of Restricted Work | M40: LTIFR | N40: RWIFR | O40: MTIFR | P40: TRIFR | Q40: LTISR | R40: RWISR | S40: ATLR to LTIs
B41: Peer group respondents | D41: G10 | E41: 439.02 | F41: 0 | G41: 1 | H41: - | I41: - | J41: - | K41: 5 | L41: - | M41: 0.22778006 | N41: - | O41: - | P41: - | Q41: 1.1389003 | R41: - | S41: 5
D42: G11 | E42: 8.5 | F42: 0 | G42: 0 | H42: - | I42: - | J42: - | K42: 0 | L42: - | M42: 0 | N42: - | O42: - | P42: - | Q42: 0 | R42: - | S42: 0
D43: G12 | E43: 2 (NCD) | F43: 0 | G43: 0 | H43: - | I43: - | J43: - | K43: 0 | L43: - | M43: 0 | N43: - | O43: - | P43: - | Q43: 0 | R43: - | S43: 0
D44: G15 | E44: 109 | F44: 0 | G44: 0 | H44: - | I44: - | J44: - | K44: 0 | L44: - | M44: 0 | N44: - | O44: - | P44: - | Q44: 0 | R44: - | S44: 0
D45: G20 | E45: 13 (NCD) | F45: 0 | G45: 0 | H45: - | I45: - | J45: - | K45: 0 | L45: - | M45: 0 | N45: - | O45: - | P45: - | Q45: 0 | R45: - | S45: 0
D46: G25 | E46: 582 | F46: 0 | G46: 5 | H46: - | I46: - | J46: - | K46: 18 | L46: - | M46: 0.85910653 | N46: - | O46: - | P46: - | Q46: 3.0927835 | R46: - | S46: 3.6
D47: G35 | E47: 508 | F47: 0 | G47: 3 | H47: - | I47: - | J47: - | K47: 9 | L47: - | M47: 0.59055118 | N47: - | O47: - | P47: - | Q47: 1.7716535 | R47: - | S47: 3
D48: G40 | E48: 315.39 | F48: 0 | G48: 3 | H48: - | I48: - | J48: - | K48: 23 | L48: - | M48: 0.95120327 | N48: - | O48: - | P48: - | Q48: 7.2925584 | R48: - | S48: 7.6666667
D49: G45 | E49: 3 (NCD) | F49: 0 | G49: 0 | H49: - | I49: - | J49: - | K49: 0 | L49: - | M49: 0 | N49: - | O49: - | P49: - | Q49: 0 | R49: - | S49: 0
B50: Peer group summary | E50: 1979.91 | F50: 0 | G50: 12 | H50: - | I50: - | J50: - | K50: 55 | L50: - | M50: 0.60608816 | N50: - | O50: - | P50: - | Q50: 2.777904 | R50: - | S50: 4.5833333
B51: Industry summary | E51: 11642.913 | F51: 0 | G51: 128 | H51: - | I51: - | J51: - | K51: 2511.4 | L51: - | M51: 1.0993812 | N51: - | O51: - | P51: - | Q51: 21.570203 | R51: - | S51: 19.620313
B53: Generation YE June 2013 | D53: Code | E53: FTEs | F53: Fatalities | G53: LTIs | H53: RWIs | I53: MTIs | J53: TRIs | K53: Days Lost to LTIs | L53: Days of Restricted Work | M53: LTIFR | N53: RWIFR | O53: MTIFR | P53: TRIFR | Q53: LTISR | R53: RWISR | S53: ATLR to LTIs
B54: Peer group respondents | D54: G10 | E54: 178 (NCD) | F54: 0 | G54: 0 | H54: - | I54: - | J54: - | K54: 0 | L54: - | M54: 0 | N54: - | O54: - | P54: - | Q54: 0 | R54: - | S54: 0
D55: G11 | E55: 8.5 | F55: 0 | G55: 0 | H55: - | I55: - | J55: - | K55: 0 | L55: - | M55: 0 | N55: - | O55: - | P55: - | Q55: 0 | R55: - | S55: 0
D56: G12 | E56: 3 (NCD) | F56: 0 | G56: 0 | H56: - | I56: - | J56: - | K56: 0 | L56: - | M56: 0 | N56: - | O56: - | P56: - | Q56: 0 | R56: - | S56: 0
D57: G15 | E57: 81 (NCD) | F57: 0 | G57: 1 | H57: - | I57: - | J57: - | K57: 2 | L57: - | M57: 1.2345679 | N57: - | O57: - | P57: - | Q57: 2.4691358 | R57: - | S57: 2
D58: G20 | E58: 15.5 | F58: 0 | G58: 0 | H58: - | I58: - | J58: - | K58: 0 | L58: - | M58: 0 | N58: - | O58: - | P58: - | Q58: 0 | R58: - | S58: 0
D59: G25 | E59: 445 | F59: 0 | G59: 4 | H59: - | I59: - | J59: - | K59: 104 | L59: - | M59: 0.8988764 | N59: - | O59: - | P59: - | Q59: 23.370787 | R59: - | S59: 26
D60: G35 | E60: 547 | F60: 0 | G60: 4 | H60: - | I60: - | J60: - | K60: 118 | L60: - | M60: 0.73126143 | N60: - | O60: - | P60: - | Q60: 21.572212 | R60: - | S60: 29.5
D61: G40 | E61: 190 (NCD) | F61: 0 | G61: 1 | H61: - | I61: - | J61: - | K61: 1 | L61: - | M61: 0.52631579 | N61: - | O61: - | P61: - | Q61: 0.52631579 | R61: - | S61: 1
D62: G45 | E62: 3 (NCD) | F62: 0 | G62: 0 | H62: - | I62: - | J62: - | K62: 0 | L62: - | M62: 0 | N62: - | O62: - | P62: - | Q62: 0 | R62: - | S62: 0
D63: G50 | E63: 23.8 | F63: 0 | G63: 1 | H63: - | I63: - | J63: - | K63: 36 | L63: - | M63: 4.2016807 | N63: - | O63: - | P63: - | Q63: 151.2605 | R63: - | S63: 36
B64: Peer group summary | E64: 1494.8 | F64: 0 | G64: 11 | H64: - | I64: - | J64: - | K64: 261 | L64: - | M64: 0.7358844 | N64: - | O64: - | P64: - | Q64: 17.46053 | R64: - | S64: 23.727273
B65: Industry summary | E65: 11468.874 | F65: 2 | G65: 140 | H65: - | I65: - | J65: - | K65: 2439.5 | L65: - | M65: 1.2206952 | N65: - | O65: - | P65: - | Q65: 21.270615 | R65: - | S65: 17.425

Sheet Generation graphs
B2: Total Recordable Injury Frequency Rate | I2: Lost Time Injury Frequency Rate | R2: Lost Time Injury Severity Rate
B3: TRIFR - 5-year results - Generation peer group | D3: Year Ended | I3: LTIFR - 5-year results - Generation peer group | K3: Year Ended | R3: LTISR - 5-year results - Generation peer group | T3: Year Ended
D4: 2015 | E4: 2016 | F4: 2017 | K4: 2013 | L4: 2014 | M4: 2015 | N4: 2016 | O4: 2017 | T4: 2013 | U4: 2014 | V4: 2015 | W4: 2016 | X4: 2017
B5: Respondent code | C5: G10 | D5: =VLOOKUP($C5,'Generation tables'!$D$28:$S$36,13,FALSE) -> 2.7190332 | E5: =VLOOKUP($C5,'Generation tables'!$D$15:$S$23,13,FALSE) -> 2.8439874 | F5: =VLOOKUP($C5,'Generation tables'!$D$3:$S$10,13,FALSE) -> 2.1822943 | I5: Respondent code | J5: G10 | K5: =VLOOKUP($J5,'Generation tables'!$D$54:$S$63,10,FALSE) -> 0 | L5: =VLOOKUP($J5,'Generation tables'!$D$41:$S$49,10,FALSE) -> 0.22778006 | M5: =VLOOKUP($J5,'Generation tables'!$D$28:$S$36,10,FALSE) -> 0.90634441 | N5: =VLOOKUP($J5,'Generation tables'!$D$15:$S$23,10,FALSE) -> 0.56879748 | O5: =VLOOKUP($J5,'Generation tables'!$D$3:$S$10,10,FALSE) -> 0.36371572 | R5: Respondent code | S5: G10 | T5: =VLOOKUP($S5,'Generation tables'!$D$54:$S$63,14,FALSE) -> 0 | U5: =VLOOKUP($S5,'Generation tables'!$D$41:$S$49,14,FALSE) -> 1.1389003 | V5: =VLOOKUP($S5,'Generation tables'!$D$28:$S$36,14,FALSE) -> 16.012085 | W5: =VLOOKUP($S5,'Generation tables'!$D$15:$S$23,14,FALSE) -> 2.5595886 | X5: =VLOOKUP($S5,'Generation tables'!$D$3:$S$10,14,FALSE) -> 13.457482
C6: G11 | D6: =VLOOKUP($C6,'Generation tables'!$D$28:$S$36,13,FALSE) -> 0 | E6: =VLOOKUP($C6,'Generation tables'!$D$15:$S$23,13,FALSE) -> 0 | F6: =VLOOKUP($C6,'Generation tables'!$D$3:$S$10,13,FALSE) -> 0 | J6: G11 | K6: =VLOOKUP($J6,'Generation tables'!$D$54:$S$63,10,FALSE) -> 0 | L6: =VLOOKUP($J6,'Generation tables'!$D$41:$S$49,10,FALSE) -> 0 | M6: =VLOOKUP($J6,'Generation tables'!$D$28:$S$36,10,FALSE) -> 0 | N6: =VLOOKUP($J6,'Generation tables'!$D$15:$S$23,10,FALSE) -> 0 | O6: =VLOOKUP($J6,'Generation tables'!$D$3:$S$10,10,FALSE) -> 0 | S6: G11 | T6: =VLOOKUP($S6,'Generation tables'!$D$54:$S$63,14,FALSE) -> 0 | U6: =VLOOKUP($S6,'Generation tables'!$D$41:$S$49,14,FALSE) -> 0 | V6: =VLOOKUP($S6,'Generation tables'!$D$28:$S$36,14,FALSE) -> 0 | W6: =VLOOKUP($S6,'Generation tables'!$D$15:$S$23,14,FALSE) -> 0 | X6: =VLOOKUP($S6,'Generation tables'!$D$3:$S$10,14,FALSE) -> 0
C7: G15 | D7: =VLOOKUP($C7,'Generation tables'!$D$28:$S$36,13,FALSE) -> 1.6806723 | E7: =VLOOKUP($C7,'Generation tables'!$D$15:$S$23,13,FALSE) -> 4.7244094 | F7: =VLOOKUP($C7,'Generation tables'!$D$3:$S$10,13,FALSE) -> 6.25 | J7: G15 | K7: =VLOOKUP($J7,'Generation tables'!$D$54:$S$63,10,FALSE) -> 1.2345679 | L7: =VLOOKUP($J7,'Generation tables'!$D$41:$S$49,10,FALSE) -> 0 | M7: =VLOOKUP($J7,'Generation tables'!$D$28:$S$36,10,FALSE) -> 0 | N7: =VLOOKUP($J7,'Generation tables'!$D$15:$S$23,10,FALSE) -> 0 | O7: =VLOOKUP($J7,'Generation tables'!$D$3:$S$10,10,FALSE) -> 0 | S7: G15 | T7: =VLOOKUP($S7,'Generation tables'!$D$54:$S$63,14,FALSE) -> 2.4691358 | U7: =VLOOKUP($S7,'Generation tables'!$D$41:$S$49,14,FALSE) -> 0 | V7: =VLOOKUP($S7,'Generation tables'!$D$28:$S$36,14,FALSE) -> 0 | W7: =VLOOKUP($S7,'Generation tables'!$D$15:$S$23,14,FALSE) -> 0 | X7: =VLOOKUP($S7,'Generation tables'!$D$3:$S$10,14,FALSE) -> 0
C8: G20 | D8: =VLOOKUP($C8,'Generation tables'!$D$28:$S$36,13,FALSE) -> 10 | E8: =VLOOKUP($C8,'Generation tables'!$D$15:$S$23,13,FALSE) -> 0 | F8: =VLOOKUP($C8,'Generation tables'!$D$3:$S$10,13,FALSE) -> 0 | J8: G20 | K8: =VLOOKUP($J8,'Generation tables'!$D$54:$S$63,10,FALSE) -> 0 | L8: =VLOOKUP($J8,'Generation tables'!$D$41:$S$49,10,FALSE) -> 0 | M8: =VLOOKUP($J8,'Generation tables'!$D$28:$S$36,10,FALSE) -> 0 | N8: =VLOOKUP($J8,'Generation tables'!$D$15:$S$23,10,FALSE) -> 0 | O8: =VLOOKUP($J8,'Generation tables'!$D$3:$S$10,10,FALSE) -> 0 | S8: G20 | T8: =VLOOKUP($S8,'Generation tables'!$D$54:$S$63,14,FALSE) -> 0 | U8: =VLOOKUP($S8,'Generation tables'!$D$41:$S$49,14,FALSE) -> 0 | V8: =VLOOKUP($S8,'Generation tables'!$D$28:$S$36,14,FALSE) -> 0 | W8: =VLOOKUP($S8,'Generation tables'!$D$15:$S$23,14,FALSE) -> 0 | X8: =VLOOKUP($S8,'Generation tables'!$D$3:$S$10,14,FALSE) -> 0
C9: G25 | D9: =VLOOKUP($C9,'Generation tables'!$D$28:$S$36,13,FALSE) -> 1.5748031 | E9: =VLOOKUP($C9,'Generation tables'!$D$15:$S$23,13,FALSE) -> 0.83682008 | F9: =VLOOKUP($C9,'Generation tables'!$D$3:$S$10,13,FALSE) -> 1.6096579 | J9: G25 | K9: =VLOOKUP($J9,'Generation tables'!$D$54:$S$63,10,FALSE) -> 0.8988764 | L9: =VLOOKUP($J9,'Generation tables'!$D$41:$S$49,10,FALSE) -> 0.85910653 | M9: =VLOOKUP($J9,'Generation tables'!$D$28:$S$36,10,FALSE) -> 0.19685039 | N9: =VLOOKUP($J9,'Generation tables'!$D$15:$S$23,10,FALSE) -> 0.41841004 | O9: =VLOOKUP($J9,'Generation tables'!$D$3:$S$10,10,FALSE) -> 0.40241449 | S9: G25 | T9: =VLOOKUP($S9,'Generation tables'!$D$54:$S$63,14,FALSE) -> 23.370787 | U9: =VLOOKUP($S9,'Generation tables'!$D$41:$S$49,14,FALSE) -> 3.0927835 | V9: =VLOOKUP($S9,'Generation tables'!$D$28:$S$36,14,FALSE) -> 0.19685039 | W9: =VLOOKUP($S9,'Generation tables'!$D$15:$S$23,14,FALSE) -> 6.0669456 | X9: =VLOOKUP($S9,'Generation tables'!$D$3:$S$10,14,FALSE) -> 2.6156942
C10: G35 | D10: =VLOOKUP($C10,'Generation tables'!$D$28:$S$36,13,FALSE) -> 0.78277886 | E10: =VLOOKUP($C10,'Generation tables'!$D$15:$S$23,13,FALSE) -> 1.0964912 | F10: =VLOOKUP($C10,'Generation tables'!$D$3:$S$10,13,FALSE) -> 1.635514 | J10: G35 | K10: =VLOOKUP($J10,'Generation tables'!$D$54:$S$63,10,FALSE) -> 0.73126143 | L10: =VLOOKUP($J10,'Generation tables'!$D$41:$S$49,10,FALSE) -> 0.59055118 | M10: =VLOOKUP($J10,'Generation tables'!$D$28:$S$36,10,FALSE) -> 0 | N10: =VLOOKUP($J10,'Generation tables'!$D$15:$S$23,10,FALSE) -> 0.21929825 | O10: =VLOOKUP($J10,'Generation tables'!$D$3:$S$10,10,FALSE) -> 1.4018692 | S10: G35 | T10: =VLOOKUP($S10,'Generation tables'!$D$54:$S$63,14,FALSE) -> 21.572212 | U10: =VLOOKUP($S10,'Generation tables'!$D$41:$S$49,14,FALSE) -> 1.7716535 | V10: =VLOOKUP($S10,'Generation tables'!$D$28:$S$36,14,FALSE) -> 0 | W10: =VLOOKUP($S10,'Generation tables'!$D$15:$S$23,14,FALSE) -> 3.5087719 | X10: =VLOOKUP($S10,'Generation tables'!$D$3:$S$10,14,FALSE) -> 10.514019
C11: G40 | D11: =VLOOKUP($C11,'Generation tables'!$D$28:$S$36,13,FALSE) -> 0.63091483 | E11: =VLOOKUP($C11,'Generation tables'!$D$15:$S$23,13,FALSE) -> 0 | F11: =VLOOKUP($C11,'Generation tables'!$D$3:$S$10,13,FALSE) -> 0.75757576 | J11: G40 | K11: =VLOOKUP($J11,'Generation tables'!$D$54:$S$63,10,FALSE) -> 0.52631579 | L11: =VLOOKUP($J11,'Generation tables'!$D$41:$S$49,10,FALSE) -> 0.95120327 | M11: =VLOOKUP($J11,'Generation tables'!$D$28:$S$36,10,FALSE) -> 0.63091483 | N11: =VLOOKUP($J11,'Generation tables'!$D$15:$S$23,10,FALSE) -> 0 | O11: =VLOOKUP($J11,'Generation tables'!$D$3:$S$10,10,FALSE) -> 0 | S11: G40 | T11: =VLOOKUP($S11,'Generation tables'!$D$54:$S$63,14,FALSE) -> 0.52631579 | U11: =VLOOKUP($S11,'Generation tables'!$D$41:$S$49,14,FALSE) -> 7.2925584 | V11: =VLOOKUP($S11,'Generation tables'!$D$28:$S$36,14,FALSE) -> 5.0473186 | W11: =VLOOKUP($S11,'Generation tables'!$D$15:$S$23,14,FALSE) -> 0 | X11: =VLOOKUP($S11,'Generation tables'!$D$3:$S$10,14,FALSE) -> 0
C12: G50 | D12: =VLOOKUP($C12,'Generation tables'!$D$28:$S$36,13,FALSE) -> #N/A | E12: =VLOOKUP($C12,'Generation tables'!$D$15:$S$23,13,FALSE) -> 25.925926 | F12: =VLOOKUP($C12,'Generation tables'!$D$3:$S$10,13,FALSE) -> 4.7619048 | J12: G50 | K12: =VLOOKUP($J12,'Generation tables'!$D$54:$S$63,10,FALSE) -> 4.2016807 | L12: =VLOOKUP($J12,'Generation tables'!$D$41:$S$49,10,FALSE) -> #N/A | M12: =VLOOKUP($J12,'Generation tables'!$D$28:$S$36,10,FALSE) -> #N/A | N12: =VLOOKUP($J12,'Generation tables'!$D$15:$S$23,10,FALSE) -> 3.7037037 | O12: =VLOOKUP($J12,'Generation tables'!$D$3:$S$10,10,FALSE) -> 4.7619048 | S12: G50 | T12: =VLOOKUP($S12,'Generation tables'!$D$54:$S$63,14,FALSE) -> 151.2605 | U12: =VLOOKUP($S12,'Generation tables'!$D$41:$S$49,14,FALSE) -> #N/A | V12: =VLOOKUP($S12,'Generation tables'!$D$28:$S$36,14,FALSE) -> #N/A | W12: =VLOOKUP($S12,'Generation tables'!$D$15:$S$23,14,FALSE) -> 3.7037037 | X12: =VLOOKUP($S12,'Generation tables'!$D$3:$S$10,14,FALSE) -> 4.7619048
B13: Generation | D13: ='Generation tables'!P37 -> 1.4554248 | E13: ='Generation tables'!P24 -> 1.9633525 | F13: ='Generation tables'!P11 -> 1.7607184 | I13: Generation | K13: ='Generation tables'!M64 -> 0.7358844 | L13: ='Generation tables'!M50 -> 0.60608816 | M13: ='Generation tables'!M37 -> 0.33213396 | N13: ='Generation tables'!M24 -> 0.33887794 | O13: ='Generation tables'!M11 -> 0.55022449 | R13: Generation | T13: ='Generation tables'!Q64 -> 17.46053 | U13: ='Generation tables'!Q50 -> 2.777904 | V13: ='Generation tables'!Q37 -> 3.8748962 | W13: ='Generation tables'!Q24 -> 3.1063811 | X13: ='Generation tables'!Q11 -> 5.2821551
B14: Industry Total | D14: ='Generation tables'!P38 -> 3.6823885 | E14: ='Generation tables'!P25 -> 2.8573081 | F14: ='Generation tables'!P12 -> 2.5035165 | I14: Industry Total | K14: ='Generation tables'!M65 -> 1.2206952 | L14: ='Generation tables'!M51 -> 1.0993812 | M14: ='Generation tables'!M38 -> 1.2192603 | N14: ='Generation tables'!M25 -> 0.94836664 | O14: ='Generation tables'!M12 -> 1.0753937 | R14: Industry Total | T14: ='Generation tables'!Q65 -> 21.270615 | U14: ='Generation tables'!Q51 -> 21.570203 | V14: ='Generation tables'!Q38 -> 18.33378 | W14: ='Generation tables'!Q25 -> 12.650689 | X14: ='Generation tables'!Q12 -> 14.664068
C16: Select your respondent code -> | F16: 1 | K16: Select your respondent code -> | O16: 1 | T16: Select your respondent code -> | X16: 1
D17: 1 | E17: 2 | F17: 3 | K17: 1 | L17: 2 | M17: 3 | N17: 4 | O17: 5 | T17: 1 | U17: 2 | V17: 3 | W17: 4 | X17: 5
C19: TRIFR Respondent | D19: 2015 | E19: 2016 | F19: 2017 | J19: LTIFR Respondent | K19: 2013 | L19: 2014 | M19: 2015 | N19: 2016 | O19: 2017 | S19: LTISR Respondent | T19: 2013 | U19: 2014 | V19: 2015 | W19: 2016 | X19: 2017
C20: =INDEX($C$5:$C$12,$F$16,1) -> G10 | D20: =INDEX($D$5:$F$12,$F$16,D$17) -> 2.7190332 | E20: =INDEX($D$5:$F$12,$F$16,E$17) -> 2.8439874 | F20: =INDEX($D$5:$F$12,$F$16,F$17) -> 2.1822943 | J20: =INDEX($J$5:$J$12,$O$16,1) -> G10 | K20: =INDEX($K$5:$O$12,$O$16,K$17) -> 0 | L20: =INDEX($K$5:$O$12,$O$16,L$17) -> 0.22778006 | M20: =INDEX($K$5:$O$12,$O$16,M$17) -> 0.90634441 | N20: =INDEX($K$5:$O$12,$O$16,N$17) -> 0.56879748 | O20: =INDEX($K$5:$O$12,$O$16,O$17) -> 0.36371572 | S20: =INDEX($S$5:$S$12,$X$16,1) -> G10 | T20: =INDEX($T$5:$X$12,$X$16,T$17) -> 0 | U20: =INDEX($T$5:$X$12,$X$16,U$17) -> 1.1389003 | V20: =INDEX($T$5:$X$12,$X$16,V$17) -> 16.012085 | W20: =INDEX($T$5:$X$12,$X$16,W$17) -> 2.5595886 | X20: =INDEX($T$5:$X$12,$X$16,X$17) -> 13.457482
C21: Generation | D21: =D13 -> 1.4554248 | E21: =E13 -> 1.9633525 | F21: =F13 -> 1.7607184 | J21: Generation | K21: =K13 -> 0.7358844 | L21: =L13 -> 0.60608816 | M21: =M13 -> 0.33213396 | N21: =N13 -> 0.33887794 | O21: =O13 -> 0.55022449 | S21: Generation | T21: =T13 -> 17.46053 | U21: =U13 -> 2.777904 | V21: =V13 -> 3.8748962 | W21: =W13 -> 3.1063811 | X21: =X13 -> 5.2821551
C22: Industry Total | D22: =D14 -> 3.6823885 | E22: =E14 -> 2.8573081 | F22: =F14 -> 2.5035165 | J22: Industry Total | K22: =K14 -> 1.2206952 | L22: =L14 -> 1.0993812 | M22: =M14 -> 1.2192603 | N22: =N14 -> 0.94836664 | O22: =O14 -> 1.0753937 | S22: Industry Total | T22: =T14 -> 21.270615 | U22: =U14 -> 21.570203 | V22: =V14 -> 18.33378 | W22: =W14 -> 12.650689 | X22: =X14 -> 14.664068

Sheet Transmission tables
B2: Transmission YE June 2017 | D2: Code | E2: FTEs | F2: Fatalities | G2: LTIs | H2: RWIs | I2: MTIs | J2: TRIs | K2: Days Lost to LTIs | L2: Days of Restricted Work | M2: LTIFR | N2: RWIFR | O2: MTIFR | P2: TRIFR | Q2: LTISR | R2: RWISR | S2: ATLR to LTIs
B3: Peer group respondents | D3: T45 | E3: 1705.4053 | F3: 0 | G3: 3 | H3: 2 | I3: 12 | J3: 17 | K3: 249 | L3: 20 | M3: 0.17591126 | N3: 0.11727417 | O3: 0.70364503 | P3: 0.99683046 | Q3: 14.600634 | R3: 1.1727417 | S3: 83
B4: Peer group summary | E4: 1705.4053 | F4: 0 | G4: 3 | H4: 2 | I4: 12 | J4: 17 | K4: 249 | L4: 20 | M4: 0.17591126 | N4: 0.11727417 | O4: 0.70364503 | P4: 0.99683046 | Q4: 14.600634 | R4: 1.1727417 | S4: 83
B5: Industry summary | E5: 11623.65 | F5: 0 | G5: 125 | H5: 30 | I5: 136 | J5: 291 | K5: 1704.5 | L5: 608 | M5: 1.0753937 | N5: 0.25809448 | O5: 1.1700283 | P5: 2.5035165 | Q5: 14.664068 | R5: 5.2307148 | S5: 13.636
B7: Transmission YE June 2016 | D7: Code | E7: FTEs | F7: Fatalities | G7: LTIs | H7: RWIs | I7: MTIs | J7: TRIs | K7: Days Lost to LTIs | L7: Days of Restricted Work | M7: LTIFR | N7: RWIFR | O7: MTIFR | P7: TRIFR | Q7: LTISR | R7: RWISR | S7: ATLR to LTIs
B8: Peer group respondents | D8: T45 | E8: 1674.3002 | F8: 0 | G8: 8 | H8: N/A | I8: 18 | J8: 26 | K8: 134 | L8: N/A | M8: 0.47781158 | N8: N/A | O8: 1.0750761 | P8: 1.5528876 | Q8: 8.0033439 | R8: N/A | S8: 16.75
B9: Peer group summary | E9: 1674.3002 | F9: 0 | G9: 8 | H9: N/A | I9: 18 | J9: 26 | K9: 134 | L9: 0 | M9: 0.47781158 | N9: N/A | O9: 1.0750761 | P9: 1.5528876 | Q9: 8.0033439 | R9: N/A | S9: 16.75
B10: Industry summary | E10: 11493.445 | F10: 0 | G10: 109 | H10: 28 | I10: 177 | J10: 314 | K10: 1454 | L10: 706 | M10: 0.94836664 | N10: 0.36893319 | O10: 1.5400082 | P10: 2.8573081 | Q10: 12.650689 | R10: 9.3023869 | S10: 13.33945
B12: Transmission YE June 2015 | D12: Code | E12: FTEs | F12: Fatalities | G12: LTIs | H12: RWIs | I12: MTIs | J12: TRIs | K12: Days Lost to LTIs | L12: Days of Restricted Work | M12: LTIFR | N12: RWIFR | O12: MTIFR | P12: TRIFR | Q12: LTISR | R12: RWISR | S12: ATLR to LTIs
B13: Peer group respondents | D13: T45 | E13: 1830.2305 | F13: 0 | G13: 13 | H13: N/A | I13: 34 | J13: 47 | K13: 344 | L13: N/A | M13: 0.71029307 | N13: N/A | O13: 1.8576896 | P13: 2.5679826 | Q13: 18.795447 | R13: N/A | S13: 26.461538
B14: Peer group summary | E14: 1830.2305 | F14: 0 | G14: 13 | H14: N/A | I14: 34 | J14: 47 | K14: 344 | L14: N/A | M14: 0.71029307 | N14: N/A | O14: 1.8576896 | P14: 2.5679826 | Q14: 18.795447 | R14: N/A | S14: 26.461538
B15: Industry summary | E15: 11810.439 | F15: 0 | G15: 144 | H15: 53 | I15: 200 | J15: 397 | K15: 2165.3 | L15: 581 | M15: 1.2192603 | N15: 0.76971114 | O15: 1.6934171 | P15: 3.6823885 | Q15: 18.33378 | R15: 9.1027308 | S15: 15.036806
B17: Transmission YE June 2014 | D17: Code | E17: FTEs | F17: Fatalities | G17: LTIs | H17: RWIs | I17: MTIs | J17: TRIs | K17: Days Lost to LTIs | L17: Days of Restricted Work | M17: LTIFR | N17: RWIFR | O17: MTIFR | P17: TRIFR | Q17: LTISR | R17: RWISR | S17: ATLR to LTIs
B18: Peer group respondents | D18: T45 | E18: 1848.8341 | F18: 0 | G18: 15 | H18: - | I18: - | J18: - | K18: 206 | L18: - | M18: 0.81132213 | N18: - | O18: - | P18: - | Q18: 11.142157 | R18: - | S18: 13.733333
B19: Peer group summary | E19: 1848.8341 | F19: 0 | G19: 15 | H19: - | I19: - | J19: - | K19: 206 | L19: - | M19: 0.81132213 | N19: - | O19: - | P19: - | Q19: 11.142157 | R19: - | S19: 13.733333
B20: Industry summary | E20: 11642.913 | F20: 0 | G20: 128 | H20: - | I20: - | J20: - | K20: 2511.4 | L20: - | M20: 1.0993812 | N20: - | O20: - | P20: - | Q20: 21.570203 | R20: - | S20: 19.620313
B22: Transmission YE June 2013 | D22: Code | E22: FTEs | F22: Fatalities | G22: LTIs | H22: RWIs | I22: MTIs | J22: TRIs | K22: Days Lost to LTIs | L22: Days of Restricted Work | M22: LTIFR | N22: RWIFR | O22: MTIFR | P22: TRIFR | Q22: LTISR | R22: RWISR | S22: ATLR to LTIs
B23: Peer group respondents | D23: T45 | E23: 2581 | F23: 1 | G23: 12 | H23: - | I23: - | J23: - | K23: 83 | L23: - | M23: 0.46493607 | N23: - | O23: - | P23: - | Q23: 3.2158078 | R23: - | S23: 6.9166667
B24: Peer group summary | E24: 2581 | F24: 1 | G24: 12 | H24: - | I24: - | J24: - | K24: 83 | L24: - | M24: 0.46493607 | N24: - | O24: - | P24: - | Q24: 3.2158078 | R24: - | S24: 6.9166667
B25: Industry summary | E25: 11468.874 | F25: 2 | G25: 140 | H25: - | I25: - | J25: - | K25: 2439.5 | L25: - | M25: 1.2206952 | N25: - | O25: - | P25: - | Q25: 21.270615 | R25: - | S25: 17.425

Sheet Transmission graphs
B3: TRIFR - 5-year results - Transmission peer group | C3: Year Ended | H3: LTIFR - 5-year results - Transmission peer group | I3: Year Ended | P3: LTISR - 5-year results - Transmission peer group | Q3: Year Ended
C4: 2015 | D4: 2016 | E4: 2017 | I4: 2013 | J4: 2014 | K4: 2015 | L4: 2016 | M4: 2017 | Q4: 2013 | R4: 2014 | S4: 2015 | T4: 2016 | U4: 2017
B5: T45 / Transmission | C5: ='Transmission tables'!P13 -> 2.5679826 | D5: ='Transmission tables'!P8 -> 1.5528876 | E5: ='Transmission tables'!P3 -> 0.99683046 | H5: T45 / Transmission | I5: ='Transmission tables'!M23 -> 0.46493607 | J5: ='Transmission tables'!M18 -> 0.81132213 | K5: ='Transmission tables'!M13 -> 0.71029307 | L5: ='Transmission tables'!M8 -> 0.47781158 | M5: ='Transmission tables'!M3 -> 0.17591126 | P5: T45 / Transmission | Q5: ='Transmission tables'!Q23 -> 3.2158078 | R5: ='Transmission tables'!Q18 -> 11.142157 | S5: ='Transmission tables'!Q13 -> 18.795447 | T5: ='Transmission tables'!Q8 -> 8.0033439 | U5: ='Transmission tables'!Q3 -> 14.600634
B6: Transmission | C6: ='Transmission tables'!P14 -> 2.5679826 | D6: ='Transmission tables'!P9 -> 1.5528876 | E6: ='Transmission tables'!P4 -> 0.99683046 | H6: Transmission | I6: ='Transmission tables'!M24 -> 0.46493607 | J6: ='Transmission tables'!M19 -> 0.81132213 | K6: ='Transmission tables'!M14 -> 0.71029307 | L6: ='Transmission tables'!M9 -> 0.47781158 | M6: ='Transmission tables'!M4 -> 0.17591126 | P6: Transmission | Q6: ='Transmission tables'!Q24 -> 3.2158078 | R6: ='Transmission tables'!Q19 -> 11.142157 | S6: ='Transmission tables'!Q14 -> 18.795447 | T6: ='Transmission tables'!Q9 -> 8.0033439 | U6: ='Transmission tables'!Q4 -> 14.600634
B7: Industry Total | C7: ='Transmission tables'!P15 -> 3.6823885 | D7: ='Transmission tables'!P10 -> 2.8573081 | E7: ='Transmission tables'!P5 -> 2.5035165 | H7: Industry Total | I7: ='Transmission tables'!M25 -> 1.2206952 | J7: ='Transmission tables'!M20 -> 1.0993812 | K7: ='Transmission tables'!M15 -> 1.2192603 | L7: ='Transmission tables'!M10 -> 0.94836664 | M7: ='Transmission tables'!M5 -> 1.0753937 | P7: Industry Total | Q7: ='Transmission tables'!Q25 -> 21.270615 | R7: ='Transmission tables'!Q20 -> 21.570203 | S7: ='Transmission tables'!Q15 -> 18.33378 | T7: ='Transmission tables'!Q10 -> 12.650689 | U7: ='Transmission tables'!Q5 -> 14.664068

Sheet Distribution (small) tables
B2: Distribution peers having < 100 employees YE June 2017 | D2: Code | E2: FTEs | F2: Fatalities | G2: LTIs | H2: RWIs | I2: MTIs | J2: TRIs | K2: Days Lost to LTIs | L2: Days of Restricted Work | M2: LTIFR | N2: RWIFR | O2: MTIFR | P2: TRIFR | Q2: LTISR | R2: RWISR | S2: ATLR to LTIs
B3: Peer group respondents | D3: D50 | E3: 56 (NCD) | F3: 0 | G3: 4 | H3: N/A | I3: 1 | J3: 5 | K3: 88.5 | L3: 0 | M3: 7.1428571 | N3: N/A | O3: 1.7857143 | P3: 8.9285714 | Q3: 158.03571 | R3: N/A | S3: 22.125
D4: D65 | E4: 63.085 | F4: 0 | G4: 0 | H4: 0 | I4: 4 | J4: 4 | K4: 0 | L4: 0 | M4: 0 | N4: 0 | O4: 6.3406515 | P4: 6.3406515 | Q4: 0 | R4: 0 | S4: 0
D5: D70 | E5: 65 (CNU) | F5: 0 | G5: 5 | H5: 0 | I5: 0 | J5: 5 | K5: 83 | L5: 0 | M5: 7.6923077 | N5: 0 | O5: 0 | P5: 7.6923077 | Q5: 127.69231 | R5: 0 | S5: 16.6
D6: D105 | E6: 74 | F6: 0 | G6: 0 | H6: N/A | I6: 0 | J6: 0 | K6: 0 | L6: N/A | M6: 0 | N6: N/A | O6: 0 | P6: 0 | Q6: 0 | R6: N/A | S6: 0
D7: D128 | E7: 52 | F7: 0 | G7: 0 | H7: 0 | I7: 0 | J7: 0 | K7: 0 | L7: 0 | M7: 0 | N7: 0 | O7: 0 | P7: 0 | Q7: 0 | R7: 0 | S7: 0
D8: D130 | E8: 8 | F8: 0 | G8: 0 | H8: 0 | I8: 0 | J8: 0 | K8: 0 | L8: 0 | M8: 0 | N8: 0 | O8: 0 | P8: 0 | Q8: 0 | R8: 0 | S8: 0
D9: D135 | E9: 27 (CNU) | F9: 0 | G9: 5 | H9: 0 | I9: 0 | J9: 5 | K9: 168 | L9: 0 | M9: 18.518519 | N9: 0 | O9: 0 | P9: 18.518519 | Q9: 622.22222 | R9: 0 | S9: 33.6
D10: D155 | E10: 88 | F10: 0 | G10: 1 | H10: 1 | I10: 2 | J10: 4 | K10: 10 | L10: 5 | M10: 1.1363636 | N10: 1.1363636 | O10: 2.2727273 | P10: 4.5454545 | Q10: 11.363636 | R10: 5.6818182 | S10: 10
B11: Peer group summary | E11: 433.085 | F11: 0 | G11: 15 | H11: 1 | I11: 7 | J11: 23 | K11: 349.5 | L11: 5 | M11: 3.4635233 | N11: 0.23090156 | O11: 1.6163109 | P11: 5.3107358 | Q11: 80.700094 | R11: 1.1545078 | S11: 23.3
B12: Distribution summary | E12: 5478.835 | F12: 0 | G12: 95 | H12: 17 | I12: 85 | J12: 197 | K12: 1222.5 | L12: 485 | M12: 1.7339453 | N12: 0.31028494 | O12: 1.5514247 | P12: 3.5956549 | Q12: 22.313138 | R12: 8.8522469 | S12: 12.868421
B13: Industry summary | E13: 11623.65 | F13: 0 | G13: 125 | H13: 30 | I13: 136 | J13: 291 | K13: 1704.5 | L13: 608 | M13: 1.0753937 | N13: 0.25809448 | O13: 1.1700283 | P13: 2.5035165 | Q13: 14.664068 | R13: 5.2307148 | S13: 13.636
B15: Distribution peers having < 100 employees YE June 2016 | D15: Code | E15: FTEs | F15: Fatalities | G15: LTIs | H15: RWIs | I15: MTIs | J15: TRIs | K15: Days Lost to LTIs | L15: Days of Restricted Work | M15: LTIFR | N15: RWIFR | O15: MTIFR | P15: TRIFR | Q15: LTISR | R15: RWISR | S15: ATLR to LTIs
B16: Peer group respondents | D16: D50 | E16: 55 (NCD) | F16: 0 | G16: 3 | H16: N/A | I16: 5 | J16: 8 | K16: 16 | L16: N/A | M16: 5.4545455 | N16: N/A | O16: 9.0909091 | P16: 14.545455 | Q16: 29.090909 | R16: N/A | S16: 5.3333333
D17: D65 | E17: 64.5 | F17: 0 | G17: 1 | H17: 0 | I17: 5 | J17: 6 | K17: 4 | L17: 4 | M17: 1.5503876 | N17: 0 | O17: 7.751938 | P17: 9.3023256 | Q17: 6.2015504 | R17: 6.2015504 | S17: 4
D18: D70 | E18: 70 (CNU) | F18: 0 | G18: 3 | H18: 0 | I18: 0 | J18: 3 | K18: 8 | L18: 0 | M18: 4.2857143 | N18: 0 | O18: 0 | P18: 4.2857143 | Q18: 11.428571 | R18: 0 | S18: 2.6666667
D19: D128 | E19: 50 | F19: 0 | G19: 2 | H19: 0 | I19: 0 | J19: 2 | K19: 15 | L19: 29 | M19: 4 | N19: 0 | O19: 0 | P19: 4 | Q19: 30 | R19: 58 | S19: 7.5
D20: D130 | E20: 10 | F20: 0 | G20: 0 | H20: 0 | I20: 0 | J20: 0 | K20: 0 | L20: 0 | M20: 0 | N20: 0 | O20: 0 | P20: 0 | Q20: 0 | R20: 0 | S20: 0
D21: D135 | E21: 37 (NCD) | F21: 0 | G21: 2 | H21: 0 | I21: 0 | J21: 2 | K21: 7 | L21: 0 | M21: 5.4054054 | N21: 0 | O21: 0 | P21: 5.4054054 | Q21: 18.918919 | R21: 0 | S21: 3.5
D22: D168 | E22: 59 | F22: 0 | G22: 1 | H22: N/A | I22: 2 | J22: 3 | K22: 1 | L22: N/A | M22: 1.6949153 | N22: N/A | O22: 3.3898305 | P22: 5.0847458 | Q22: 1.6949153 | R22: N/A | S22: 1
B23: Peer group summary | E23: 345.5 | F23: 0 | G23: 12 | H23: 0 | I23: 12 | J23: 24 | K23: 51 | L23: 33 | M23: 3.4732272 | N23: 0 | O23: 3.4732272 | P23: 6.9464544 | Q23: 14.761216 | R23: 14.25486 | S23: 4.25
B24: Distribution summary | E24: 5425.195 | F24: 0 | G24: 78 | H24: 17 | I24: 120 | J24: 215 | K24: 1002 | L24: 304 | M24: 1.4377363 | N24: 0.42740415 | O24: 2.2119021 | P24: 4.0770425 | Q24: 18.469382 | R24: 7.6429918 | S24: 12.846154
B25: Industry summary | E25: 11493.445 | F25: 0 | G25: 109 | H25: 28 | I25: 177 | J25: 314 | K25: 1454 | L25: 706 | M25: 0.94836664 | N25: 0.36893319 | O25: 1.5400082 | P25: 2.8573081 | Q25: 12.650689 | R25: 9.3023869 | S25: 13.33945
B27: Distribution peers having < 100 employees YE June 2015 | D27: Code | E27: FTEs | F27: Fatalities | G27: LTIs | H27: RWIs | I27: MTIs | J27: TRIs | K27: Days Lost to LTIs | L27: Days of Restricted Work | M27: LTIFR | N27: RWIFR | O27: MTIFR | P27: TRIFR | Q27: LTISR | R27: RWISR | S27: ATLR to LTIs
B28: Peer group respondents | D28: D50 | E28: 53 (NCD) | F28: 0 | G28: 7 | H28: N/A | I28: 0 | J28: 7 | K28: 30.3 | L28: N/A | M28: 13.207547 | N28: N/A | O28: 0 | P28: 13.207547 | Q28: 57.169811 | R28: N/A | S28: 4.3285714
D29: D65 | E29: 51 (NCD) | F29: 0 | G29: 0 | H29: N/A | I29: 2 | J29: 2 | K29: 0 | L29: N/A | M29: 0 | N29: N/A | O29: 3.9215686 | P29: 3.9215686 | Q29: 0 | R29: N/A | S29: 0
D30: D70 | E30: 64 | F30: 0 | G30: 1 | H30: 0 | I30: 0 | J30: 1 | K30: 1 | L30: 0 | M30: 1.5625 | N30: 0 | O30: 0 | P30: 1.5625 | Q30: 1.5625 | R30: 0 | S30: 1
D31: D128 | E31: 51.2 | F31: 0 | G31: 1 | H31: 0 | I31: 1 | J31: 2 | K31: 10 | L31: 2 | M31: 1.953125 | N31: 0 | O31: 1.953125 | P31: 3.90625 | Q31: 19.53125 | R31: 3.90625 | S31: 10
D32: D130 | E32: 10 | F32: 0 | G32: 0 | H32: 0 | I32: 0 | J32: 0 | K32: 0 | L32: 0 | M32: 0 | N32: 0 | O32: 0 | P32: 0 | Q32: 0 | R32: 0 | S32: 0
D33: D135 | E33: 38 (NCD) | F33: 0 | G33: 6 | H33: 0 | I33: N/A | J33: 6 | K33: 59 | L33: 0 | M33: 15.789474 | N33: 0 | O33: N/A | P33: 15.789474 | Q33: 155.26316 | R33: 0 | S33: 9.8333333
B34: Peer group summary | E34: 267.2 | F34: 0 | G34: 15 | H34: 0 | I34: 3 | J34: 18 | K34: 100.3 | L34: 2 | M34: 5.6137725 | N34: 0 | O34: 1.3089005 | P34: 6.922673 | Q34: 37.537425 | R34: 1.2254902 | S34: 6.6866667
B35: Distribution summary | E35: 5463.709 | F35: 0 | G35: 100 | H35: 44 | I35: 121 | J35: 265 | K35: 1522.3 | L35: 424 | M35: 1.8302585 | N35: 1.4119761 | O35: 2.2146128 | P35: 5.4568475 | Q35: 27.862026 | R35: 16.225318 | S35: 15.223
B36: Industry summary | E36: 11810.439 | F36: 0 | G36: 144 | H36: 53 | I36: 200 | J36: 397 | K36: 2165.3 | L36: 581 | M36: 1.2192603 | N36: 0.76971114 | O36: 1.6934171 | P36: 3.6823885 | Q36: 18.33378 | R36: 9.1027308 | S36: 15.036806
B38: Distribution peers having < 100 employees YE June 2014 | D38: Code | E38: FTEs | F38: Fatalities | G38: LTIs | H38: RWIs | I38: MTIs | J38: TRIs | K38: Days Lost to LTIs | L38: Days of Restricted Work | M38: LTIFR | N38: RWIFR | O38: MTIFR | P38: TRIFR | Q38: LTISR | R38: RWISR | S38: ATLR to LTIs
B39: Peer group respondents | D39: D50 | E39: 49 (NCD) | F39: 0 | G39: 3 | H39: - | I39: - | J39: - | K39: 209.4 | L39: - | M39: 6.122449 | N39: - | O39: - | P39: - | Q39: 427.34694 | R39: - | S39: 69.8
D40: D65 | E40: 32 (NCD) | F40: 0 | G40: 0 | H40: - | I40: - | J40: - | K40: 0 | L40: - | M40: 0 | N40: - | O40: - | P40: - | Q40: 0 | R40: - | S40: 0
D41: D70 | E41: 53 | F41: 0 | G41: 0 | H41: - | I41: - | J41: - | K41: 0 | L41: - | M41: 0 | N41: - | O41: - | P41: - | Q41: 0 | R41: - | S41: 0
D42: D105 | E42: 97 (NCD) | F42: 0 | G42: 0 | H42: - | I42: - | J42: - | K42: 0 | L42: - | M42: 0 | N42: - | O42: - | P42: - | Q42: 0 | R42: - | S42: 0
D43: D110 | E43: 85 | F43: 0 | G43: 5 | H43: - | I43: - | J43: - | K43: 47.5 | L43: - | M43: 5.8823529 | N43: - | O43: - | P43: - | Q43: 55.882353 | R43: - | S43: 9.5
D44: D128 | E44: 41 | F44: 0 | G44: 3 | H44: - | I44: - | J44: - | K44: 34 | L44: - | M44: 7.3170732 | N44: - | O44: - | P44: - | Q44: 82.926829 | R44: - | S44: 11.333333
D45: D130 | E45: 25 | F45: 0 | G45: 1 | H45: - | I45: - | J45: - | K45: 5 | L45: - | M45: 4 | N45: - | O45: - | P45: - | Q45: 20 | R45: - | S45: 5
D46: D135 | E46: 36 (NCD) | F46: 0 | G46: 1 | H46: - | I46: - | J46: - | K46: 30 | L46: - | M46: 2.7777778 | N46: - | O46: - | P46: - | Q46: 83.333333 | R46: - | S46: 30
D47: D155 | E47: 81 | F47: 0 | G47: 3 | H47: - | I47: - | J47: - | K47: 86 | L47: - | M47: 3.7037037 | N47: - | O47: - | P47: - | Q47: 106.17284 | R47: - | S47: 28.666667
D48: D168 | E48: 74 | F48: 0 | G48: 1 | H48: - | I48: - | J48: - | K48: 59.7 | L48: - | M48: 1.3513514 | N48: - | O48: - | P48: - | Q48: 80.675676 | R48: - | S48: 59.7
B49: Peer group summary | E49: 573 | F49: 0 | G49: 17 | H49: - | I49: - | J49: - | K49: 471.6 | L49: - | M49: 2.9668412 | N49: - | O49: - | P49: - | Q49: 82.303665 | R49: - | S49: 27.741176
B50: Distribution summary | E50: 5450.199 | F50: 0 | G50: 76 | H50: - | I50: - | J50: - | K50: 1875.9 | L50: - | M50: 1.3944445 | N50: - | O50: - | P50: - | Q50: 34.418927 | R50: - | S50: 24.682895
B51: Industry summary | E51: 11642.913 | F51: 0 | G51: 128 | H51: - | I51: - | J51: - | K51: 2511.4 | L51: - | M51: 1.0993812 | N51: - | O51: - | P51: - | Q51: 21.570203 | R51: - | S51: 19.620313
B53: Distribution peers having < 100 employees YE June 2013 | D53: Code | E53: FTEs | F53: Fatalities | G53: LTIs | H53: RWIs | I53: MTIs | J53: TRIs | K53: Days Lost to LTIs | L53: Days of Restricted Work | M53: LTIFR | N53: RWIFR | O53: MTIFR | P53: TRIFR | Q53: LTISR | R53: RWISR | S53: ATLR to LTIs
B54: Peer group respondents | D54: D50 | E54: 48 (NCD) | F54: 0 | G54: 2 | H54: - | I54: - | J54: - | K54: 2 | L54: - | M54: 4.1666667 | N54: - | O54: - | P54: - | Q54: 4.1666667 | R54: - | S54: 1
D55: D65 | E55: 28 (CNU) | F55: 0 | G55: 1 | H55: - | I55: - | J55: - | K55: 13 | L55: - | M55: 3.5714286 | N55: - | O55: - | P55: - | Q55: 46.428571 | R55: - | S55: 13
D56: D70 | E56: 44.3 | F56: 0 | G56: 0 | H56: - | I56: - | J56: - | K56: 0 | L56: - | M56: 0 | N56: - | O56: - | P56: - | Q56: 0 | R56: - | S56: 0
D57: D110 | E57: 44 (NCD) | F57: 0 | G57: 1 | H57: - | I57: - | J57: - | K57: 23 | L57: - | M57: 2.2727273 | N57: - | O57: - | P57: - | Q57: 52.272727 | R57: - | S57: 23
D58: D128 | E58: 42 | F58: 0 | G58: 8 | H58: - | I58: - | J58: - | K58: 119 | L58: - | M58: 19.047619 | N58: - | O58: - | P58: - | Q58: 283.33333 | R58: - | S58: 14.875
D59: D130 | E59: 10 | F59: 0 | G59: 0 | H59: - | I59: - | J59: - | K59: 0 | L59: - | M59: 0 | N59: - | O59: - | P59: - | Q59: 0 | R59: - | S59: 0
D60: D135 | E60: 41 (NCD) | F60: 0 | G60: 2 | H60: - | I60: - | J60: - | K60: 71 | L60: - | M60: 4.8780488 | N60: - | O60: - | P60: - | Q60: 173.17073 | R60: - | S60: 35.5
D61: D155 | E61: 76 | F61: 0 | G61: 0 | H61: - | I61: - | J61: - | K61: 0 | L61: - | M61: 0 | N61: - | O61: - | P61: - | Q61: 0 | R61: - | S61: 0
B62: Peer group summary | E62: 333.3 | F62: 0 | G62: 14 | H62: - | I62: - | J62: - | K62: 228 | L62: - | M62: 4.20042 | N62: - | O62: - | P62: - | Q62: 68.406841 | R62: - | S62: 16.285714
B63: Distribution summary | E63: 5309.774 | F63: 1 | G63: 101 | H63: - | I63: - | J63: - | K63: 1731.5 | L63: - | M63: 1.9021525 | N63: - | O63: - | P63: - | Q63: 32.609674 | R63: - | S63: 17.143564
B64: Industry summary | E64: 11468.874 | F64: 2 | G64: 140 | H64: - | I64: - | J64: - | K64: 2439.5 | L64: - | M64: 1.2206952 | N64: - | O64: - | P64: - | Q64: 21.270615 | R64: - | S64: 17.425

Sheet Distribution (small) graphs
B2: Total Recordable Injury Frequency Rate | I2: Lost Time Injury Frequency Rate | R2: Lost Time Injury Severity Rate
B3: TRIFR - 5-year results - Small-size distribustion peer group | D3: Year Ended | I3: LTIFR - 5-year results - Small-size distribustion peer group | K3: Year Ended | R3: LTISR - 5-year results - Small-size distribution peer group | T3: Year Ended
D4: 2015 | E4: 2016 | F4: 2017 | K4: 2013 | L4: 2014 | M4: 2015 | N4: 2016 | O4: 2017 | T4: 2013 | U4: 2014 | V4: 2015 | W4: 2016 | X4: 2017
B5: Respondent code | C5: D50 | D5: =VLOOKUP($C5,'Distribution (small) tables'!$D$28:$S$33,13,FALSE) -> 13.207547 | E5: =VLOOKUP($C5,'Distribution (small) tables'!$D$16:$S$22,13,FALSE) -> 14.545455 | F5: =VLOOKUP($C5,'Distribution (small) tables'!$D$3:$S$10,13,FALSE) -> 8.9285714 | I5: Respondent code | J5: D50 | K5: =VLOOKUP($J5,'Distribution (small) tables'!$D$54:$S$61,10,FALSE) -> 4.1666667 | L5: =VLOOKUP($J5,'Distribution (small) tables'!$D$39:$S$48,10,FALSE) -> 6.122449 | M5: =VLOOKUP($J5,'Distribution (small) tables'!$D$28:$S$33,10,FALSE) -> 13.207547 | N5: =VLOOKUP($J5,'Distribution (small) tables'!$D$16:$S$22,10,FALSE) -> 5.4545455 | O5: =VLOOKUP($J5,'Distribution (small) tables'!$D$3:$S$10,10,FALSE) -> 7.1428571 | R5: Respondent code | S5: D50 | T5: =VLOOKUP($S5,'Distribution (small) tables'!$D$54:$S$61,14,FALSE) -> 4.1666667 | U5: =VLOOKUP($S5,'Distribution (small) tables'!$D$39:$S$48,14,FALSE) -> 427.34694 | V5: =VLOOKUP($S5,'Distribution (small) tables'!$D$28:$S$33,14,FALSE) -> 57.169811 | W5: =VLOOKUP($S5,'Distribution (small) tables'!$D$16:$S$22,14,FALSE) -> 29.090909 | X5: =VLOOKUP($S5,'Distribution (small) tables'!$D$3:$S$10,14,FALSE) -> 158.03571
C6: D65 | D6: =VLOOKUP($C6,'Distribution (small) tables'!$D$28:$S$33,13,FALSE) -> 3.9215686 | E6: =VLOOKUP($C6,'Distribution (small) tables'!$D$16:$S$22,13,FALSE) -> 9.3023256 | F6: =VLOOKUP($C6,'Distribution (small) tables'!$D$3:$S$10,13,FALSE) -> 6.3406515 | J6: D65 | K6: =VLOOKUP($J6,'Distribution (small) tables'!$D$54:$S$61,10,FALSE) -> 3.5714286 | L6: =VLOOKUP($J6,'Distribution (small) tables'!$D$39:$S$48,10,FALSE) -> 0 | M6: =VLOOKUP($J6,'Distribution (small) tables'!$D$28:$S$33,10,FALSE) -> 0 | N6: =VLOOKUP($J6,'Distribution (small) tables'!$D$16:$S$22,10,FALSE) -> 1.5503876 | O6: =VLOOKUP($J6,'Distribution (small) tables'!$D$3:$S$10,10,FALSE) -> 0 | S6: D65 | T6: =VLOOKUP($S6,'Distribution (small) tables'!$D$54:$S$61,14,FALSE) -> 46.428571 | U6: =VLOOKUP($S6,'Distribution (small) tables'!$D$39:$S$48,14,FALSE) -> 0 | V6: =VLOOKUP($S6,'Distribution (small) tables'!$D$28:$S$33,14,FALSE) -> 0 | W6: =VLOOKUP($S6,'Distribution (small) tables'!$D$16:$S$22,14,FALSE) -> 6.2015504 | X6: =VLOOKUP($S6,'Distribution (small) tables'!$D$3:$S$10,14,FALSE) -> 0
C7: D70 | D7: =VLOOKUP($C7,'Distribution (small) tables'!$D$28:$S$33,13,FALSE) -> 1.5625 | E7: =VLOOKUP($C7,'Distribution (small) tables'!$D$16:$S$22,13,FALSE) -> 4.2857143 | F7: =VLOOKUP($C7,'Distribution (small) tables'!$D$3:$S$10,13,FALSE) -> 7.6923077 | J7: D70 | K7: =VLOOKUP($J7,'Distribution (small) tables'!$D$54:$S$61,10,FALSE) -> 0 | L7: =VLOOKUP($J7,'Distribution (small) tables'!$D$39:$S$48,10,FALSE) -> 0 | M7: =VLOOKUP($J7,'Distribution (small) tables'!$D$28:$S$33,10,FALSE) -> 1.5625 | N7: =VLOOKUP($J7,'Distribution (small) tables'!$D$16:$S$22,10,FALSE) -> 4.2857143 | O7: =VLOOKUP($J7,'Distribution (small) tables'!$D$3:$S$10,10,FALSE) -> 7.6923077 | S7: D70 | T7: =VLOOKUP($S7,'Distribution (small) tables'!$D$54:$S$61,14,FALSE) -> 0 | U7: =VLOOKUP($S7,'Distribution (small) tables'!$D$39:$S$48,14,FALSE) -> 0 | V7: =VLOOKUP($S7,'Distribution (small) tables'!$D$28:$S$33,14,FALSE) -> 1.5625 | W7: =VLOOKUP($S7,'Distribution (small) tables'!$D$16:$S$22,14,FALSE) -> 11.428571 | X7: =VLOOKUP($S7,'Distribution (small) tables'!$D$3:$S$10,14,FALSE) -> 127.69231
C8: D105 | D8: =VLOOKUP($C8,'Distribution (large) tables'!$D$26:$S$32,13,FALSE) -> 4.4776119 | E8: =VLOOKUP($C8,'Distribution (medium) tables'!$D$20:$S$31,13,FALSE) -> 3.2181763 | F8: =VLOOKUP($C8,'Distribution (small) tables'!$D$3:$S$10,13,FALSE) -> 0 | J8: D105 | K8: =VLOOKUP($J8,'Distribution (medium) tables'!$D$72:$S$84,10,FALSE) -> 2.8368794 | L8: =VLOOKUP($J8,'Distribution (small) tables'!$D$39:$S$48,10,FALSE) -> 0 | M8: =VLOOKUP($J8,'Distribution (large) tables'!$D$26:$S$32,10,FALSE) -> 0.74626866 | N8: =VLOOKUP($J8,'Distribution (medium) tables'!$D$20:$S$31,10,FALSE) -> 0 | O8: =VLOOKUP($J8,'Distribution (small) tables'!$D$3:$S$10,10,FALSE) -> 0 | S8: D105 | T8: =VLOOKUP($S8,'Distribution (medium) tables'!$D$72:$S$84,14,FALSE) -> 154.96454 | U8: =VLOOKUP($S8,'Distribution (small) tables'!$D$39:$S$48,14,FALSE) -> 0 | V8: =VLOOKUP($S8,'Distribution (large) tables'!$D$26:$S$32,14,FALSE) -> 4.8507463 | W8: =VLOOKUP($S8,'Distribution (medium) tables'!$D$20:$S$31,14,FALSE) -> 0 | X8: =VLOOKUP($S8,'Distribution (small) tables'!$D$3:$S$10,14,FALSE) -> 0
C9: D128 | D9: =VLOOKUP($C9,'Distribution (small) tables'!$D$28:$S$33,13,FALSE) -> 3.90625 | E9: =VLOOKUP($C9,'Distribution (small) tables'!$D$16:$S$22,13,FALSE) -> 4 | F9: =VLOOKUP($C9,'Distribution (small) tables'!$D$3:$S$10,13,FALSE) -> 0 | J9: D128 | K9: =VLOOKUP($J9,'Distribution (small) tables'!$D$54:$S$61,10,FALSE) -> 19.047619 | L9: =VLOOKUP($J9,'Distribution (small) tables'!$D$39:$S$48,10,FALSE) -> 7.3170732 | M9: =VLOOKUP($J9,'Distribution (small) tables'!$D$28:$S$33,10,FALSE) -> 1.953125 | N9: =VLOOKUP($J9,'Distribution (small) tables'!$D$16:$S$22,10,FALSE) -> 4 | O9: =VLOOKUP($J9,'Distribution (small) tables'!$D$3:$S$10,10,FALSE) -> 0 | S9: D128 | T9: =VLOOKUP($S9,'Distribution (small) tables'!$D$54:$S$61,14,FALSE) -> 283.33333 | U9: =VLOOKUP($S9,'Distribution (small) tables'!$D$39:$S$48,14,FALSE) -> 82.926829 | V9: =VLOOKUP($S9,'Distribution (small) tables'!$D$28:$S$33,14,FALSE) -> 19.53125 | W9: =VLOOKUP($S9,'Distribution (small) tables'!$D$16:$S$22,14,FALSE) -> 30 | X9: =VLOOKUP($S9,'Distribution (small) tables'!$D$3:$S$10,14,FALSE) -> 0
C10: D130 | D10: =VLOOKUP($C10,'Distribution (small) tables'!$D$28:$S$33,13,FALSE) -> 0 | E10: =VLOOKUP($C10,'Distribution (small) tables'!$D$16:$S$22,13,FALSE) -> 0 | F10: =VLOOKUP($C10,'Distribution (small) tables'!$D$3:$S$10,13,FALSE) -> 0 | J10: D130 | K10: =VLOOKUP($J10,'Distribution (small) tables'!$D$54:$S$61,10,FALSE) -> 0 | L10: =VLOOKUP($J10,'Distribution (small) tables'!$D$39:$S$48,10,FALSE) -> 4 | M10: =VLOOKUP($J10,'Distribution (small) tables'!$D$28:$S$33,10,FALSE) -> 0 | N10: =VLOOKUP($J10,'Distribution (small) tables'!$D$16:$S$22,10,FALSE) -> 0 | O10: =VLOOKUP($J10,'Distribution (small) tables'!$D$3:$S$10,10,FALSE) -> 0 | S10: D130 | T10: =VLOOKUP($S10,'Distribution (small) tables'!$D$54:$S$61,14,FALSE) -> 0 | U10: =VLOOKUP($S10,'Distribution (small) tables'!$D$39:$S$48,14,FALSE) -> 20 | V10: =VLOOKUP($S10,'Distribution (small) tables'!$D$28:$S$33,14,FALSE) -> 0 | W10: =VLOOKUP($S10,'Distribution (small) tables'!$D$16:$S$22,14,FALSE) -> 0 | X10: =VLOOKUP($S10,'Distribution (small) tables'!$D$3:$S$10,14,FALSE) -> 0
C11: D135 | D11: =VLOOKUP($C11,'Distribution (small) tables'!$D$28:$S$33,13,FALSE) -> 15.789474 | E11: =VLOOKUP($C11,'Distribution (small) tables'!$D$16:$S$22,13,FALSE) -> 5.4054054 | F11: =VLOOKUP($C11,'Distribution (small) tables'!$D$3:$S$10,13,FALSE) -> 18.518519 | J11: D135 | K11: =VLOOKUP($J11,'Distribution (small) tables'!$D$54:$S$61,10,FALSE) -> 4.8780488 | L11: =VLOOKUP($J11,'Distribution (small) tables'!$D$39:$S$48,10,FALSE) -> 2.7777778 | M11: =VLOOKUP($J11,'Distribution (small) tables'!$D$28:$S$33,10,FALSE) -> 15.789474 | N11: =VLOOKUP($J11,'Distribution (small) tables'!$D$16:$S$22,10,FALSE) -> 5.4054054 | O11: =VLOOKUP($J11,'Distribution (small) tables'!$D$3:$S$10,10,FALSE) -> 18.518519 | S11: D135 | T11: =VLOOKUP($S11,'Distribution (small) tables'!$D$54:$S$61,14,FALSE) -> 173.17073 | U11: =VLOOKUP($S11,'Distribution (small) tables'!$D$39:$S$48,14,FALSE) -> 83.333333 | V11: =VLOOKUP($S11,'Distribution (small) tables'!$D$28:$S$33,14,FALSE) -> 155.26316 | W11: =VLOOKUP($S11,'Distribution (small) tables'!$D$16:$S$22,14,FALSE) -> 18.918919 | X11: =VLOOKUP($S11,'Distribution (small) tables'!$D$3:$S$10,14,FALSE) -> 622.22222
C12: D155 | D12: =VLOOKUP($C12,'Distribution (medium) tables'!$D$37:$S$49,13,FALSE) -> 1.2578616 | E12: =VLOOKUP($C12,'Distribution (medium) tables'!$D$20:$S$31,13,FALSE) -> 4.2857143 | F12: =VLOOKUP($C12,'Distribution (small) tables'!$D$3:$S$10,13,FALSE) -> 4.5454545 | J12: D155 | K12: =VLOOKUP($J12,'Distribution (small) tables'!$D$54:$S$61,10,FALSE) -> 0 | L12: =VLOOKUP($J12,'Distribution (small) tables'!$D$39:$S$48,10,FALSE) -> 3.7037037 | M12: =VLOOKUP($J12,'Distribution (medium) tables'!$D$37:$S$49,10,FALSE) -> 0 | N12: =VLOOKUP($J12,'Distribution (medium) tables'!$D$20:$S$31,10,FALSE) -> 0.71428571 | O12: =VLOOKUP($J12,'Distribution (small) tables'!$D$3:$S$10,10,FALSE) -> 1.1363636 | S12: D155 | T12: =VLOOKUP($S12,'Distribution (small) tables'!$D$54:$S$61,14,FALSE) -> 0 | U12: =VLOOKUP($S12,'Distribution (small) tables'!$D$39:$S$48,14,FALSE) -> 106.17284 | V12: =VLOOKUP($S12,'Distribution (medium) tables'!$D$37:$S$49,14,FALSE) -> 0 | W12: =VLOOKUP($S12,'Distribution (medium) tables'!$D$20:$S$31,14,FALSE) -> 3.5714286 | X12: =VLOOKUP($S12,'Distribution (small) tables'!$D$3:$S$10,14,FALSE) -> 11.363636
B13: Distribution < 100 employees | D13: ='Distribution (small) tables'!P34 -> 6.922673 | E13: ='Distribution (small) tables'!P23 -> 6.9464544 | F13: ='Distribution (small) tables'!P11 -> 5.3107358 | I13: Distribution < 100 employees | K13: ='Distribution (small) tables'!M62 -> 4.20042 | L13: ='Distribution (small) tables'!M49 -> 2.9668412 | M13: ='Distribution (small) tables'!M34 -> 5.6137725 | N13: ='Distribution (small) tables'!M23 -> 3.4732272 | O13: ='Distribution (small) tables'!M11 -> 3.4635233 | R13: Distribution < 100 employees | T13: ='Distribution (small) tables'!Q62 -> 68.406841 | U13: ='Distribution (small) tables'!Q49 -> 82.303665 | V13: ='Distribution (small) tables'!Q34 -> 37.537425 | W13: ='Distribution (small) tables'!Q23 -> 14.761216 | X13: ='Distribution (small) tables'!Q11 -> 80.700094
B14: Distribution Total | D14: ='Distribution (small) tables'!P35 -> 5.4568475 | E14: ='Distribution (small) tables'!P24 -> 4.0770425 | F14: ='Distribution (small) tables'!P12 -> 3.5956549 | I14: Distribution Total | K14: ='Distribution (small) tables'!M63 -> 1.9021525 | L14: ='Distribution (small) tables'!M50 -> 1.3944445 | M14: ='Distribution (small) tables'!M35 -> 1.8302585 | N14: ='Distribution (small) tables'!M24 -> 1.4377363 | O14: ='Distribution (small) tables'!M12 -> 1.7339453 | R14: Distribution Total | T14: ='Distribution (small) tables'!Q63 -> 32.609674 | U14: ='Distribution (small) tables'!Q50 -> 34.418927 | V14: ='Distribution (small) tables'!Q35 -> 27.862026 | W14: ='Distribution (small) tables'!Q24 -> 18.469382 | X14: ='Distribution (small) tables'!Q12 -> 22.313138
B15: Industry Total | D15: ='Distribution (small) tables'!P36 -> 3.6823885 | E15: ='Distribution (small) tables'!P25 -> 2.8573081 | F15: ='Distribution (small) tables'!P13 -> 2.5035165 | I15: Industry Total | K15: ='Distribution (small) tables'!M64 -> 1.2206952 | L15: ='Distribution (small) tables'!M51 -> 1.0993812 | M15: ='Distribution (small) tables'!M36 -> 1.2192603 | N15: ='Distribution (small) tables'!M25 -> 0.94836664 | O15: ='Distribution (small) tables'!M13 -> 1.0753937 | R15: Industry Total | T15: ='Distribution (small) tables'!Q64 -> 21.270615 | U15: ='Distribution (small) tables'!Q51 -> 21.570203 | V15: ='Distribution (small) tables'!Q36 -> 18.33378 | W15: ='Distribution (small) tables'!Q25 -> 12.650689 | X15: ='Distribution (small) tables'!Q13 -> 14.664068
C17: Select your respondent code -> | F17: 1 | J17: Select your respondent code -> | O17: 1 | S17: Select your respondent code -> | X17: 1
D18: 1 | E18: 2 | F18: 3 | K18: 1 | L18: 2 | M18: 3 | N18: 4 | O18: 5 | T18: 1 | U18: 2 | V18: 3 | W18: 4 | X18: 5
B20: TRIFR Respondent | D20: 2015 | E20: 2016 | F20: 2017 | J20: LTIFR Respondent | K20: 2013 | L20: 2014 | M20: 2015 | N20: 2016 | O20: 2017 | S20: LTISR Respondent | T20: 2013 | U20: 2014 | V20: 2015 | W20: 2016 | X20: 2017
B21: =INDEX($C$5:$C$12,$F$17,1) -> D50 | D21: =INDEX($D$5:$F$12,$F$17,D$18) -> 13.207547 | E21: =INDEX($D$5:$F$12,$F$17,E$18) -> 14.545455 | F21: =INDEX($D$5:$F$12,$F$17,F$18) -> 8.9285714 | J21: =INDEX($J$5:$J$12,$O$17,1) -> D50 | K21: =INDEX($K$5:$O$12,$O$17,K$18) -> 4.1666667 | L21: =INDEX($K$5:$O$12,$O$17,L$18) -> 6.122449 | M21: =INDEX($K$5:$O$12,$O$17,M$18) -> 13.207547 | N21: =INDEX($K$5:$O$12,$O$17,N$18) -> 5.4545455 | O21: =INDEX($K$5:$O$12,$O$17,O$18) -> 7.1428571 | S21: =INDEX($S$5:$S$12,$X$17,1) -> D50 | T21: =INDEX($T$5:$X$12,$X$17,T$18) -> 4.1666667 | U21: =INDEX($T$5:$X$12,$X$17,U$18) -> 427.34694 | V21: =INDEX($T$5:$X$12,$X$17,V$18) -> 57.169811 | W21: =INDEX($T$5:$X$12,$X$17,W$18) -> 29.090909 | X21: =INDEX($T$5:$X$12,$X$17,X$18) -> 158.03571
B22: Small-size distribution | D22: =D13 -> 6.922673 | E22: =E13 -> 6.9464544 | F22: =F13 -> 5.3107358 | J22: Small-size distribution | K22: =K13 -> 4.20042 | L22: =L13 -> 2.9668412 | M22: =M13 -> 5.6137725 | N22: =N13 -> 3.4732272 | O22: =O13 -> 3.4635233 | S22: Small-size distribution | T22: =T13 -> 68.406841 | U22: =U13 -> 82.303665 | V22: =V13 -> 37.537425 | W22: =W13 -> 14.761216 | X22: =X13 -> 80.700094
B23: Distribution Total | D23: =D14 -> 5.4568475 | E23: =E14 -> 4.0770425 | F23: =F14 -> 3.5956549 | J23: Distribution Total | K23: =K14 -> 1.9021525 | L23: =L14 -> 1.3944445 | M23: =M14 -> 1.8302585 | N23: =N14 -> 1.4377363 | O23: =O14 -> 1.7339453 | S23: Distribution Total | T23: =T14 -> 32.609674 | U23: =U14 -> 34.418927 | V23: =V14 -> 27.862026 | W23: =W14 -> 18.469382 | X23: =X14 -> 22.313138
B24: Industry Total | D24: =D15 -> 3.6823885 | E24: =E15 -> 2.8573081 | F24: =F15 -> 2.5035165 | J24: Industry Total | K24: =K15 -> 1.2206952 | L24: =L15 -> 1.0993812 | M24: =M15 -> 1.2192603 | N24: =N15 -> 0.94836664 | O24: =O15 -> 1.0753937 | S24: Industry Total | T24: =T15 -> 21.270615 | U24: =U15 -> 21.570203 | V24: =V15 -> 18.33378 | W24: =W15 -> 12.650689 | X24: =X15 -> 14.664068

Sheet Distribution (medium) tables
B2: Distribution peers having ≥ 100 and < 250 employees YE June 2017 | D2: Code | E2: FTEs | F2: Fatalities | G2: LTIs | H2: RWIs | I2: MTIs | J2: TRIs | K2: Days Lost to LTIs | L2: Days of Restricted Work | M2: LTIFR | N2: RWIFR | O2: MTIFR | P2: TRIFR | Q2: LTISR | R2: RWISR | S2: ATLR to LTIs
B3: Peer group respondents | D3: D55 | E3: 133 (CNU) | F3: 0 | G3: 2 | H3: 2 | I3: 9 | J3: 13 | K3: 41 | L3: 18 | M3: 1.5037594 | N3: 1.5037594 | O3: 6.7669173 | P3: 9.7744361 | Q3: 30.827068 | R3: 13.533835 | S3: 20.5
D4: D80 | E4: 197 | F4: 0 | G4: 5 | H4: 2 | I4: 6 | J4: 13 | K4: 62 | L4: 12 | M4: 2.5380711 | N4: 1.0152284 | O4: 3.0456853 | P4: 6.5989848 | Q4: 31.472081 | R4: 6.0913706 | S4: 12.4
D5: D85 | E5: 134 (NCD) | F5: 0 | G5: 7 | H5: 0 | I5: 0 | J5: 7 | K5: 123 | L5: 11 | M5: 5.2238806 | N5: 0 | O5: 0 | P5: 5.2238806 | Q5: 91.791045 | R5: 8.2089552 | S5: 17.571429
D6: D95 | E6: 246 | F6: 0 | G6: 3 | H6: 2 | I6: 2 | J6: 7 | K6: 9 | L6: 6 | M6: 1.2195122 | N6: 0.81300813 | O6: 0.81300813 | P6: 2.8455285 | Q6: 3.6585366 | R6: 2.4390244 | S6: 3
D7: D100 | E7: 119 (CNU) | F7: 0 | G7: 5 | H7: 0 | I7: 1 | J7: 6 | K7: 22 | L7: 0 | M7: 4.2016807 | N7: 0 | O7: 0.84033613 | P7: 5.0420168 | Q7: 18.487395 | R7: 0 | S7: 4.4
D8: D110 | E8: 163 | F8: 0 | G8: 5 | H8: 2 | I8: 0 | J8: 7 | K8: 52 | L8: 70 | M8: 3.0674847 | N8: 1.2269939 | O8: 0 | P8: 4.2944785 | Q8: 31.90184 | R8: 42.944785 | S8: 10.4
D9: D115 | E9: 160 (NCD) | F9: 0 | G9: 7 | H9: N/A | I9: 3 | J9: 10 | K9: N/A | L9: N/A | M9: 4.375 | N9: N/A | O9: 1.875 | P9: 6.25 | Q9: N/A | R9: N/A | S9: N/A
D10: D125 | E10: 245 (NCD) | F10: 0 | G10: 9 | H10: 2 | I10: 7 | J10: 18 | K10: 37 | L10: 3 | M10: 3.6734694 | N10: 0.81632653 | O10: 2.8571429 | P10: 7.3469388 | Q10: 15.102041 | R10: 1.2244898 | S10: 4.1111111
D11: D145 | E11: 153 (NCD) | F11: 0 | G11: 3 | H11: 0 | I11: 2 | J11: 5 | K11: 38 | L11: 50 | M11: 1.9607843 | N11: 0 | O11: 1.3071895 | P11: 3.2679739 | Q11: 24.836601 | R11: 32.679739 | S11: 12.666667
D12: D150 | E12: 133 (NCD) | F12: 0 | G12: 0 | H12: 0 | I12: 0 | J12: 0 | K12: 0 | L12: 0 | M12: 0 | N12: 0 | O12: 0 | P12: 0 | Q12: 0 | R12: 0 | S12: 0
D13: D160 | E13: 137 (NCD) | F13: 0 | G13: 1 | H13: 1 | I13: 0 | J13: 2 | K13: 30 | L13: 3 | M13: 0.72992701 | N13: 0.72992701 | O13: 0 | P13: 1.459854 | Q13: 21.89781 | R13: 2.189781 | S13: 30
D14: D168 | E14: 124 | F14: 0 | G14: 1 | H14: 0 | I14: 2 | J14: 3 | K14: 17 | L14: 5 | M14: 0.80645161 | N14: 0 | O14: 1.6129032 | P14: 2.4193548 | Q14: 13.709677 | R14: 4.0322581 | S14: 17
B15: Peer group summary | E15: 1944 | F15: 0 | G15: 48 | H15: 11 | I15: 32 | J15: 91 | K15: 431 | L15: 178 | M15: 2.4691358 | N15: 0.56584362 | O15: 1.6460905 | P15: 4.68107 | Q15: 22.170782 | R15: 9.1563786 | S15: 8.9791667
B16: Distribution summary | E16: 5478.835 | F16: 0 | G16: 95 | H16: 17 | I16: 85 | J16: 197 | K16: 1222.5 | L16: 485 | M16: 1.7339453 | N16: 0.31028494 | O16: 1.5514247 | P16: 3.5956549 | Q16: 22.313138 | R16: 8.8522469 | S16: 12.868421
B17: Industry summary | E17: 11623.65 | F17: 0 | G17: 125 | H17: 30 | I17: 136 | J17: 291 | K17: 1704.5 | L17: 608 | M17: 1.0753937 | N17: 0.25809448 | O17: 1.1700283 | P17: 2.5035165 | Q17: 14.664068 | R17: 5.2307148 | S17: 13.636
B19: Distribution peers having ≥ 100 and < 250 employees YE June 2016 | D19: Code | E19: FTEs | F19: Fatalities | G19: LTIs | H19: RWIs | I19: MTIs | J19: TRIs | K19: Days Lost to LTIs | L19: Days of Restricted Work | M19: LTIFR | N19: RWIFR | O19: MTIFR | P19: TRIFR | Q19: LTISR | R19: RWISR | S19: ATLR to LTIs
B20: Peer group respondents | D20: D55 | E20: 131 (NCD) | F20: 0 | G20: 1 | H20: 2 | I20: 7 | J20: 10 | K20: 18 | L20: 15 | M20: 0.76335878 | N20: 1.5267176 | O20: 5.3435115 | P20: 7.6335878 | Q20: 13.740458 | R20: 11.450382 | S20: 18
D21: D80 | E21: 173 | F21: 0 | G21: 2 | H21: 0 | I21: 1 | J21: 3 | K21: 4 | L21: 0 | M21: 1.1560694 | N21: 0 | O21: 0.57803468 | P21: 1.734104 | Q21: 2.3121387 | R21: 0 | S21: 2
D22: D85 | E22: 161 | F22: 0 | G22: 11 | H22: 0 | I22: 15 | J22: 26 | K22: 57 | L22: 29 | M22: 6.8322981 | N22: 0 | O22: 9.3167702 | P22: 16.149068 | Q22: 35.403727 | R22: 18.012422 | S22: 5.1818182
D23: D100 | E23: 112 (CNU) | F23: 0 | G23: 8 | H23: 0 | I23: 2 | J23: 10 | K23: 23 | L23: 0 | M23: 7.1428571 | N23: 0 | O23: 1.7857143 | P23: 8.9285714 | Q23: 20.535714 | R23: 0 | S23: 2.875
D24: D105 | E24: 124.294 (CNU) | F24: 0 | G24: 0 | H24: N/A | I24: 4 | J24: 4 | K24: 0 | L24: N/A | M24: 0 | N24: N/A | O24: 3.2181763 | P24: 3.2181763 | Q24: 0 | R24: N/A | S24: 0
D25: D110 | E25: 109 | F25: 0 | G25: 3 | H25: 0 | I25: 0 | J25: 3 | K25: 26 | L25: 36 | M25: 2.7522936 | N25: 0 | O25: 0 | P25: 2.7522936 | Q25: 23.853211 | R25: 33.027523 | S25: 8.6666667
D26: D115 | E26: 184.401 | F26: 0 | G26: 2 | H26: N/A | I26: N/A | J26: 2 | K26: 7 | L26: N/A | M26: 1.0845928 | N26: N/A | O26: N/A | P26: 1.0845928 | Q26: 3.7960749 | R26: N/A | S26: 3.5
D27: D125 | E27: 233 (NCD) | F27: 0 | G27: 4 | H27: 8 | I27: 12 | J27: 24 | K27: 35 | L27: 94 | M27: 1.7167382 | N27: 3.4334764 | O27: 5.1502146 | P27: 10.300429 | Q27: 15.021459 | R27: 40.343348 | S27: 8.75
D28: D145 | E28: 165 (NCD) | F28: 0 | G28: 1 | H28: 0 | I28: 0 | J28: 1 | K28: 41 | L28: 0 | M28: 0.60606061 | N28: 0 | O28: 0 | P28: 0.60606061 | Q28: 24.848485 | R28: 0 | S28: 41
D29: D150 | E29: 135 (NCD) | F29: 0 | G29: 1 | H29: 0 | I29: 0 | J29: 1 | K29: 17 | L29: 0 | M29: 0.74074074 | N29: 0 | O29: 0 | P29: 0.74074074 | Q29: 12.592593 | R29: 0 | S29: 17
D30: D155 | E30: 140 | F30: 0 | G30: 1 | H30: 2 | I30: 3 | J30: 6 | K30: 5 | L30: 6 | M30: 0.71428571 | N30: 1.4285714 | O30: 2.1428571 | P30: 4.2857143 | Q30: 3.5714286 | R30: 4.2857143 | S30: 5
D31: D160 | E31: 139 (NCD) | F31: 0 | G31: 5 | H31: 1 | I31: 0 | J31: 6 | K31: 124 | L31: 2 | M31: 3.5971223 | N31: 0.71942446 | O31: 0 | P31: 4.3165468 | Q31: 89.208633 | R31: 1.4388489 | S31: 24.8
B32: Peer group summary | E32: 1806.695 | F32: 0 | G32: 39 | H32: 13 | I32: 44 | J32: 96 | K32: 357 | L32: 182 | M32: 2.1586377 | N32: 0.86782377 | O32: 2.4353862 | P32: 5.4618477 | Q32: 19.759838 | R32: 12.149533 | S32: 9.1538462
B33: Distribution summary | E33: 5425.195 | F33: 0 | G33: 78 | H33: 17 | I33: 120 | J33: 215 | K33: 1002 | L33: 304 | M33: 1.4377363 | N33: 0.42740415 | O33: 2.2119021 | P33: 4.0770425 | Q33: 18.469382 | R33: 7.6429918 | S33: 12.846154
B34: Industry summary | E34: 11493.445 | F34: 0 | G34: 109 | H34: 28 | I34: 177 | J34: 314 | K34: 1454 | L34: 706 | M34: 0.94836664 | N34: 0.36893319 | O34: 1.5400082 | P34: 2.8573081 | Q34: 12.650689 | R34: 9.3023869 | S34: 13.33945
B36: Distribution peers having ≥ 100 and < 250 employees YE June 2015 | D36: Code | E36: FTEs | F36: Fatalities | G36: LTIs | H36: RWIs | I36: MTIs | J36: TRIs | K36: Days Lost to LTIs | L36: Days of Restricted Work | M36: LTIFR | N36: RWIFR | O36: MTIFR | P36: TRIFR | Q36: LTISR | R36: RWISR | S36: ATLR to LTIs
B37: Peer group respondents | D37: D55 | E37: 133 (NCD) | F37: 0 | G37: 4 | H37: 0 | I37: 0 | J37: 4 | K37: 92 | L37: 14 | M37: 3.0075188 | N37: 0 | O37: 0 | P37: 3.0075188 | Q37: 69.172932 | R37: 10.526316 | S37: 23
D38: D80 | E38: 149 | F38: 0 | G38: 2 | H38: 13 | I38: 5 | J38: 20 | K38: 46 | L38: 132 | M38: 1.3422819 | N38: 8.7248322 | O38: 3.3557047 | P38: 13.422819 | Q38: 30.872483 | R38: N/A | S38: 23
D39: D85 | E39: 124 (NCD) | F39: 0 | G39: 11 | H39: N/A | I39: 25 | J39: 36 | K39: 245 | L39: N/A | M39: 8.8709677 | N39: N/A | O39: 20.16129 | P39: 29.032258 | Q39: 197.58065 | R39: N/A | S39: 22.272727
D40: D100 | E40: 105 | F40: 0 | G40: 6 | H40: 0 | I40: 2 | J40: 8 | K40: 248 | L40: 0 | M40: 5.7142857 | N40: 0 | O40: 1.9047619 | P40: 7.6190476 | Q40: 236.19048 | R40: 0 | S40: 41.333333
D41: D110 | E41: 169 | F41: 0 | G41: 2 | H41: N/A | I41: 0 | J41: 2 | K41: 18 | L41: N/A | M41: 1.183432 | N41: N/A | O41: 0 | P41: 1.183432 | Q41: 10.650888 | R41: N/A | S41: 9
D42: D115 | E42: 171.509 (NCD) | F42: 0 | G42: 13 | H42: N/A | I42: 0 | J42: 13 | K42: 181 | L42: N/A | M42: 7.5797772 | N42: N/A | O42: 0 | P42: 7.5797772 | Q42: 105.53382 | R42: N/A | S42: 13.923077
D43: D145 | E43: 189 | F43: 0 | G43: 0 | H43: 0 | I43: 8 | J43: 8 | K43: 0 | L43: 0 | M43: 0 | N43: 0 | O43: 4.2328042 | P43: 4.2328042 | Q43: 0 | R43: 0 | S43: 0
D44: D150 | E44: 130 (NCD) | F44: 0 | G44: 1 | H44: 0 | I44: 0 | J44: 1 | K44: 38 | L44: 10 | M44: 0.76923077 | N44: 0 | O44: 0 | P44: 0.76923077 | Q44: 29.230769 | R44: 7.6923077 | S44: 38
D45: D155 | E45: 159 | F45: 0 | G45: 0 | H45: 2 | I45: 0 | J45: 2 | K45: 0 | L45: 8 | M45: 0 | N45: 1.2578616 | O45: 0 | P45: 1.2578616 | Q45: 0 | R45: 5.0314465 | S45: 0
D46: D160 | E46: 150 (NCD) | F46: 0 | G46: 2 | H46: 4 | I46: 1 | J46: 7 | K46: 2 | L46: N/A | M46: 1.3333333 | N46: 2.6666667 | O46: 0.66666667 | P46: 4.6666667 | Q46: 1.3333333 | R46: N/A | S46: 1
D47: D168 | E47: 154 | F47: 0 | G47: 0 | H47: N/A | I47: 1 | J47: 1 | K47: 0 | L47: N/A | M47: 0 | N47: N/A | O47: 0.64935065 | P47: 0.64935065 | Q47: 0 | R47: N/A | S47: 0
D48: D170 | E48: 232 | F48: 0 | G48: 1 | H48: 0 | I48: 2 | J48: 3 | K48: 19 | L48: 0 | M48: 0.43103448 | N48: 0 | O48: 0.86206897 | P48: 1.2931034 | Q48: 8.1896552 | R48: 0 | S48: 19
D49: D180 | E49: 203 (NCD) | F49: 0 | G49: 2 | H49: 2 | I49: 5 | J49: 9 | K49: 41 | L49: 7 | M49: 0.98522167 | N49: 0.98522167 | O49: 2.4630542 | P49: 4.4334975 | Q49: 20.197044 | R49: 3.4482759 | S49: 20.5
B50: Peer group summary | E50: 2068.509 | F50: 0 | G50: 44 | H50: 21 | I50: 49 | J50: 114 | K50: 930 | L50: 171 | M50: 2.127136 | N50: 1.4482759 | O50: 2.368856 | P50: 5.9442679 | Q50: 44.95992 | R50: 13.153846 | S50: 21.136364
B51: Distribution summary | E51: 5463.709 | F51: 0 | G51: 100 | H51: 44 | I51: 121 | J51: 265 | K51: 1522.3 | L51: 424 | M51: 1.8302585 | N51: 1.4119761 | O51: 2.2146128 | P51: 5.4568475 | Q51: 27.862026 | R51: 16.225318 | S51: 15.223
B52: Industry summary | E52: 11810.439 | F52: 0 | G52: 144 | H52: 53 | I52: 200 | J52: 397 | K52: 2165.3 | L52: 581 | M52: 1.2192603 | N52: 0.76971114 | O52: 1.6934171 | P52: 3.6823885 | Q52: 18.33378 | R52: 9.1027308 | S52: 15.036806
B54: Distribution peers having ≥ 100 and < 250 employees YE June 2014 | D54: Code | E54: FTEs | F54: Fatalities | G54: LTIs | H54: RWIs | I54: MTIs | J54: TRIs | K54: Days Lost to LTIs | L54: Days of Restricted Work | M54: LTIFR | N54: RWIFR | O54: MTIFR | P54: TRIFR | Q54: LTISR | R54: RWISR | S54: ATLR to LTIs
B55: Peer group respondents | D55: D55 | E55: 125 (CNU) | F55: 0 | G55: 5 | H55: - | I55: - | J55: - | K55: 45 | L55: - | M55: 4 | N55: - | O55: - | P55: - | Q55: 36 | R55: - | S55: 9
D56: D80 | E56: 141 | F56: 0 | G56: 1 | H56: - | I56: - | J56: - | K56: 59 | L56: - | M56: 0.70921986 | N56: - | O56: - | P56: - | Q56: 41.843972 | R56: - | S56: 59
D57: D85 | E57: 123.5 (NCD) | F57: 0 | G57: 4 | H57: - | I57: - | J57: - | K57: 118.5 | L57: - | M57: 3.2388664 | N57: - | O57: - | P57: - | Q57: 95.951417 | R57: - | S57: 29.625
D58: D100 | E58: 109 | F58: 0 | G58: 9 | H58: - | I58: - | J58: - | K58: 157 | L58: - | M58: 8.2568807 | N58: - | O58: - | P58: - | Q58: 144.0367 | R58: - | S58: 17.444444
D59: D115 | E59: 162.199 (CNU) | F59: 0 | G59: 4 | H59: - | I59: - | J59: - | K59: 57 | L59: - | M59: 2.4661064 | N59: - | O59: - | P59: - | Q59: 35.142017 | R59: - | S59: 14.25
D60: D120 | E60: 214.5 | F60: 0 | G60: 2 | H60: - | I60: - | J60: - | K60: 105 | L60: - | M60: 0.93240093 | N60: - | O60: - | P60: - | Q60: 48.951049 | R60: - | S60: 52.5
D61: D125 | E61: 120 (NCD) | F61: 0 | G61: 6 | H61: - | I61: - | J61: - | K61: 49 | L61: - | M61: 5 | N61: - | O61: - | P61: - | Q61: 40.833333 | R61: - | S61: 8.1666667
D62: D145 | E62: 155 (NCD) | F62: 0 | G62: 3 | H62: - | I62: - | J62: - | K62: 11 | L62: - | M62: 1.9354839 | N62: - | O62: - | P62: - | Q62: 7.0967742 | R62: - | S62: 3.6666667
D63: D150 | E63: 119 (NCD) | F63: 0 | G63: 3 | H63: - | I63: - | J63: - | K63: 371 | L63: - | M63: 2.5210084 | N63: - | O63: - | P63: - | Q63: 311.76471 | R63: - | S63: 123.66667
D64: D160 | E64: 172 (NCD) | F64: 0 | G64: 0 | H64: - | I64: - | J64: - | K64: 0 | L64: - | M64: 0 | N64: - | O64: - | P64: - | Q64: 0 | R64: - | S64: 0
D65: D170 | E65: 233.2 | F65: 0 | G65: 1 | H65: - | I65: - | J65: - | K65: 23.8 | L65: - | M65: 0.42881647 | N65: - | O65: - | P65: - | Q65: 10.205832 | R65: - | S65: 23.8
D66: D180 | E66: 214 (NCD) | F66: 0 | G66: 3 | H66: - | I66: - | J66: - | K66: 65 | L66: - | M66: 1.4018692 | N66: - | O66: - | P66: - | Q66: 30.373832 | R66: - | S66: 21.666667
B67: Peer group summary | E67: 1888.399 | F67: 0 | G67: 41 | H67: - | I67: - | J67: - | K67: 1061.3 | L67: - | M67: 2.1711513 | N67: - | O67: - | P67: - | Q67: 56.201046 | R67: - | S67: 25.885366
B68: Distribution summary | E68: 5450.199 | F68: 0 | G68: 76 | H68: - | I68: - | J68: - | K68: 1875.9 | L68: - | M68: 1.3944445 | N68: - | O68: - | P68: - | Q68: 34.418927 | R68: - | S68: 24.682895
B69: Industry summary | E69: 11642.913 | F69: 0 | G69: 128 | H69: - | I69: - | J69: - | K69: 2511.4 | L69: - | M69: 1.0993812 | N69: - | O69: - | P69: - | Q69: 21.570203 | R69: - | S69: 19.620313
B71: Distribution peers having ≥ 100 and < 250 employees YE June 2013 | D71: Code | E71: FTEs | F71: Fatalities | G71: LTIs | H71: RWIs | I71: MTIs | J71: TRIs | K71: Days Lost to LTIs | L71: Days of Restricted Work | M71: LTIFR | N71: RWIFR | O71: MTIFR | P71: TRIFR | Q71: LTISR | R71: RWISR | S71: ATLR to LTIs
B72: Peer group respondents | D72: D55 | E72: 125 (CNU) | F72: 0 | G72: 16 | H72: - | I72: - | J72: - | K72: 111 | L72: - | M72: 12.8 | N72: - | O72: - | P72: - | Q72: 88.8 | R72: - | S72: 6.9375
D73: D80 | E73: 106 | F73: 0 | G73: 1 | H73: - | I73: - | J73: - | K73: 36 | L73: - | M73: 0.94339623 | N73: - | O73: - | P73: - | Q73: 33.962264 | R73: - | S73: 36
D74: D85 | E74: 126 | F74: 0 | G74: 7 | H74: - | I74: - | J74: - | K74: 60 | L74: - | M74: 5.5555556 | N74: - | O74: - | P74: - | Q74: 47.619048 | R74: - | S74: 8.5714286
D75: D100 | E75: 110 | F75: 0 | G75: 5 | H75: - | I75: - | J75: - | K75: 16 | L75: - | M75: 4.5454545 | N75: - | O75: - | P75: - | Q75: 14.545455 | R75: - | S75: 3.2
D76: D105 | E76: 141 (NCD) | F76: 0 | G76: 4 | H76: - | I76: - | J76: - | K76: 218.5 | L76: - | M76: 2.8368794 | N76: - | O76: - | P76: - | Q76: 154.96454 | R76: - | S76: 54.625
D77: D115 | E77: 152.074 (NCD) | F77: 0 | G77: 8 | H77: - | I77: - | J77: - | K77: 63 | L77: - | M77: 5.2605968 | N77: - | O77: - | P77: - | Q77: 41.4272 | R77: - | S77: 7.875
D78: D125 | E78: 236.4 (NCD) | F78: 0 | G78: 3 | H78: - | I78: - | J78: - | K78: 29 | L78: - | M78: 1.2690355 | N78: - | O78: - | P78: - | Q78: 12.267343 | R78: - | S78: 9.6666667
D79: D145 | E79: 213 | F79: 0 | G79: 5 | H79: - | I79: - | J79: - | K79: 103 | L79: - | M79: 2.3474178 | N79: - | O79: - | P79: - | Q79: 48.356808 | R79: - | S79: 20.6
D80: D150 | E80: 115 (NCD) | F80: 0 | G80: 2 | H80: - | I80: - | J80: - | K80: 12 | L80: - | M80: 1.7391304 | N80: - | O80: - | P80: - | Q80: 10.434783 | R80: - | S80: 6
D81: D160 | E81: 133 (NCD) | F81: 0 | G81: 5 | H81: - | I81: - | J81: - | K81: 57 | L81: - | M81: 3.7593985 | N81: - | O81: - | P81: - | Q81: 42.857143 | R81: - | S81: 11.4
D82: D168 | E82: 121 | F82: 0 | G82: 0 | H82: - | I82: - | J82: - | K82: 0 | L82: - | M82: 0 | N82: - | O82: - | P82: - | Q82: 0 | R82: - | S82: 0
D83: D170 | E83: 242 | F83: 0 | G83: 1 | H83: - | I83: - | J83: - | K83: 5 | L83: - | M83: 0.41322314 | N83: - | O83: - | P83: - | Q83: 2.0661157 | R83: - | S83: 5
D84: D180 | E84: 182 (NCD) | F84: 0 | G84: 0 | H84: - | I84: - | J84: - | K84: 0 | L84: - | M84: 0 | N84: - | O84: - | P84: - | Q84: 0 | R84: - | S84: 0
B85: Peer group summary | E85: 2002.474 | F85: 0 | G85: 57 | H85: - | I85: - | J85: - | K85: 710.5 | L85: - | M85: 2.8464789 | N85: - | O85: - | P85: - | Q85: 35.48111 | R85: - | S85: 12.464912
B86: Distribution summary | E86: 5309.774 | F86: 1 | G86: 101 | H86: - | I86: - | J86: - | K86: 1731.5 | L86: - | M86: 1.9021525 | N86: - | O86: - | P86: - | Q86: 32.609674 | R86: - | S86: 17.143564
B87: Industry summary | E87: 11468.874 | F87: 2 | G87: 140 | H87: - | I87: - | J87: - | K87: 2439.5 | L87: - | M87: 1.2206952 | N87: - | O87: - | P87: - | Q87: 21.270615 | R87: - | S87: 17.425

Sheet Distribution (medium) graphs
B2: Total Recordable Injury Frequency Rate | I2: Lost Time Injury Frequency Rate | R2: Lost Time Injury Severity Rate
B3: TRIFR - 5-year results - Medium-size distribution peer group | D3: Year Ended | I3: LTIFR - 5-year results - Medium-size distribution peer group | K3: Year Ended | R3: LTISR - 5-year results - Medium-size distribution peer group | T3: Year Ended
D4: 2015 | E4: 2016 | F4: 2017 | K4: 2013 | L4: 2014 | M4: 2015 | N4: 2016 | O4: 2017 | T4: 2013 | U4: 2014 | V4: 2015 | W4: 2016 | X4: 2017
B5: Respondent code | C5: D55 | D5: =VLOOKUP($C5,'Distribution (medium) tables'!$D$37:$S$49,13,FALSE) -> 3.0075188 | E5: =VLOOKUP($C5,'Distribution (medium) tables'!$D$20:$S$31,13,FALSE) -> 7.6335878 | F5: =VLOOKUP($C5,'Distribution (medium) tables'!$D$3:$S$14,13,FALSE) -> 9.7744361 | I5: Respondent code | J5: D55 | K5: =VLOOKUP($J5,'Distribution (medium) tables'!$D$72:$S$84,10,FALSE) -> 12.8 | L5: =VLOOKUP($J5,'Distribution (medium) tables'!$D$55:$S$66,10,FALSE) -> 4 | M5: =VLOOKUP($J5,'Distribution (medium) tables'!$D$37:$S$49,10,FALSE) -> 3.0075188 | N5: =VLOOKUP($J5,'Distribution (medium) tables'!$D$20:$S$31,10,FALSE) -> 0.76335878 | O5: =VLOOKUP($J5,'Distribution (medium) tables'!$D$3:$S$14,10,FALSE) -> 1.5037594 | R5: Respondent code | S5: D55 | T5: =VLOOKUP($S5,'Distribution (medium) tables'!$D$72:$S$84,14,FALSE) -> 88.8 | U5: =VLOOKUP($S5,'Distribution (medium) tables'!$D$55:$S$66,14,FALSE) -> 36 | V5: =VLOOKUP($S5,'Distribution (medium) tables'!$D$37:$S$49,14,FALSE) -> 69.172932 | W5: =VLOOKUP($S5,'Distribution (medium) tables'!$D$20:$S$31,14,FALSE) -> 13.740458 | X5: =VLOOKUP($S5,'Distribution (medium) tables'!$D$3:$S$14,14,FALSE) -> 30.827068
C6: D80 | D6: =VLOOKUP($C6,'Distribution (medium) tables'!$D$37:$S$49,13,FALSE) -> 13.422819 | E6: =VLOOKUP($C6,'Distribution (medium) tables'!$D$20:$S$31,13,FALSE) -> 1.734104 | F6: =VLOOKUP($C6,'Distribution (medium) tables'!$D$3:$S$14,13,FALSE) -> 6.5989848 | J6: D80 | K6: =VLOOKUP($J6,'Distribution (medium) tables'!$D$72:$S$84,10,FALSE) -> 0.94339623 | L6: =VLOOKUP($J6,'Distribution (medium) tables'!$D$55:$S$66,10,FALSE) -> 0.70921986 | M6: =VLOOKUP($J6,'Distribution (medium) tables'!$D$37:$S$49,10,FALSE) -> 1.3422819 | N6: =VLOOKUP($J6,'Distribution (medium) tables'!$D$20:$S$31,10,FALSE) -> 1.1560694 | O6: =VLOOKUP($J6,'Distribution (medium) tables'!$D$3:$S$14,10,FALSE) -> 2.5380711 | S6: D80 | T6: =VLOOKUP($S6,'Distribution (medium) tables'!$D$72:$S$84,14,FALSE) -> 33.962264 | U6: =VLOOKUP($S6,'Distribution (medium) tables'!$D$55:$S$66,14,FALSE) -> 41.843972 | V6: =VLOOKUP($S6,'Distribution (medium) tables'!$D$37:$S$49,14,FALSE) -> 30.872483 | W6: =VLOOKUP($S6,'Distribution (medium) tables'!$D$20:$S$31,14,FALSE) -> 2.3121387 | X6: =VLOOKUP($S6,'Distribution (medium) tables'!$D$3:$S$14,14,FALSE) -> 31.472081
C7: D85 | D7: =VLOOKUP($C7,'Distribution (medium) tables'!$D$37:$S$49,13,FALSE) -> 29.032258 | E7: =VLOOKUP($C7,'Distribution (medium) tables'!$D$20:$S$31,13,FALSE) -> 16.149068 | F7: =VLOOKUP($C7,'Distribution (medium) tables'!$D$3:$S$14,13,FALSE) -> 5.2238806 | J7: D85 | K7: =VLOOKUP($J7,'Distribution (medium) tables'!$D$72:$S$84,10,FALSE) -> 5.5555556 | L7: =VLOOKUP($J7,'Distribution (medium) tables'!$D$55:$S$66,10,FALSE) -> 3.2388664 | M7: =VLOOKUP($J7,'Distribution (medium) tables'!$D$37:$S$49,10,FALSE) -> 8.8709677 | N7: =VLOOKUP($J7,'Distribution (medium) tables'!$D$20:$S$31,10,FALSE) -> 6.8322981 | O7: =VLOOKUP($J7,'Distribution (medium) tables'!$D$3:$S$14,10,FALSE) -> 5.2238806 | S7: D85 | T7: =VLOOKUP($S7,'Distribution (medium) tables'!$D$72:$S$84,14,FALSE) -> 47.619048 | U7: =VLOOKUP($S7,'Distribution (medium) tables'!$D$55:$S$66,14,FALSE) -> 95.951417 | V7: =VLOOKUP($S7,'Distribution (medium) tables'!$D$37:$S$49,14,FALSE) -> 197.58065 | W7: =VLOOKUP($S7,'Distribution (medium) tables'!$D$20:$S$31,14,FALSE) -> 35.403727 | X7: =VLOOKUP($S7,'Distribution (medium) tables'!$D$3:$S$14,14,FALSE) -> 91.791045
C8: D95 | D8: =VLOOKUP($C8,'Distribution (large) tables'!$D$26:$S$32,13,FALSE) -> 2.8328612 | E8: =VLOOKUP($C8,'Distribution (large) tables'!$D$14:$S$20,13,FALSE) -> 2.2292994 | F8: =VLOOKUP($C8,'Distribution (medium) tables'!$D$3:$S$14,13,FALSE) -> 2.8455285 | J8: D95 | K8: =VLOOKUP($J8,'Distribution (large) tables'!$D$47:$S$51,10,FALSE) -> 0.49800797 | L8: =VLOOKUP($J8,'Distribution (large) tables'!$D$38:$S$41,10,FALSE) -> 0.57995029 | M8: =VLOOKUP($J8,'Distribution (large) tables'!$D$26:$S$32,10,FALSE) -> 1.4164306 | N8: =VLOOKUP($J8,'Distribution (large) tables'!$D$14:$S$20,10,FALSE) -> 0.31847134 | O8: =VLOOKUP($J8,'Distribution (medium) tables'!$D$3:$S$14,10,FALSE) -> 1.2195122 | S8: D95 | T8: =VLOOKUP($S8,'Distribution (large) tables'!$D$47:$S$51,14,FALSE) -> 42.330677 | U8: =VLOOKUP($S8,'Distribution (large) tables'!$D$38:$S$41,14,FALSE) -> 9.6934548 | V8: =VLOOKUP($S8,'Distribution (large) tables'!$D$26:$S$32,14,FALSE) -> 7.3654391 | W8: =VLOOKUP($S8,'Distribution (large) tables'!$D$14:$S$20,14,FALSE) -> 21.974522 | X8: =VLOOKUP($S8,'Distribution (medium) tables'!$D$3:$S$14,14,FALSE) -> 3.6585366
C9: D100 | D9: =VLOOKUP($C9,'Distribution (medium) tables'!$D$37:$S$49,13,FALSE) -> 7.6190476 | E9: =VLOOKUP($C9,'Distribution (medium) tables'!$D$20:$S$31,13,FALSE) -> 8.9285714 | F9: =VLOOKUP($C9,'Distribution (medium) tables'!$D$3:$S$14,13,FALSE) -> 5.0420168 | J9: D100 | K9: =VLOOKUP($J9,'Distribution (medium) tables'!$D$72:$S$84,10,FALSE) -> 4.5454545 | L9: =VLOOKUP($J9,'Distribution (medium) tables'!$D$55:$S$66,10,FALSE) -> 8.2568807 | M9: =VLOOKUP($J9,'Distribution (medium) tables'!$D$37:$S$49,10,FALSE) -> 5.7142857 | N9: =VLOOKUP($J9,'Distribution (medium) tables'!$D$20:$S$31,10,FALSE) -> 7.1428571 | O9: =VLOOKUP($J9,'Distribution (medium) tables'!$D$3:$S$14,10,FALSE) -> 4.2016807 | S9: D100 | T9: =VLOOKUP($S9,'Distribution (medium) tables'!$D$72:$S$84,14,FALSE) -> 14.545455 | U9: =VLOOKUP($S9,'Distribution (medium) tables'!$D$55:$S$66,14,FALSE) -> 144.0367 | V9: =VLOOKUP($S9,'Distribution (medium) tables'!$D$37:$S$49,14,FALSE) -> 236.19048 | W9: =VLOOKUP($S9,'Distribution (medium) tables'!$D$20:$S$31,14,FALSE) -> 20.535714 | X9: =VLOOKUP($S9,'Distribution (medium) tables'!$D$3:$S$14,14,FALSE) -> 18.487395
C10: D110 | D10: =VLOOKUP($C10,'Distribution (medium) tables'!$D$37:$S$49,13,FALSE) -> 1.183432 | E10: =VLOOKUP($C10,'Distribution (medium) tables'!$D$20:$S$31,13,FALSE) -> 2.7522936 | F10: =VLOOKUP($C10,'Distribution (medium) tables'!$D$3:$S$14,13,FALSE) -> 4.2944785 | J10: D110 | K10: =VLOOKUP($J10,'Distribution (small) tables'!$D$54:$S$61,10,FALSE) -> 2.2727273 | L10: =VLOOKUP($J10,'Distribution (small) tables'!$D$39:$S$48,10,FALSE) -> 5.8823529 | M10: =VLOOKUP($J10,'Distribution (medium) tables'!$D$37:$S$49,10,FALSE) -> 1.183432 | N10: =VLOOKUP($J10,'Distribution (medium) tables'!$D$20:$S$31,10,FALSE) -> 2.7522936 | O10: =VLOOKUP($J10,'Distribution (medium) tables'!$D$3:$S$14,10,FALSE) -> 3.0674847 | S10: D110 | T10: =VLOOKUP($S10,'Distribution (small) tables'!$D$54:$S$61,14,FALSE) -> 52.272727 | U10: =VLOOKUP($S10,'Distribution (small) tables'!$D$39:$S$48,14,FALSE) -> 55.882353 | V10: =VLOOKUP($S10,'Distribution (medium) tables'!$D$37:$S$49,14,FALSE) -> 10.650888 | W10: =VLOOKUP($S10,'Distribution (medium) tables'!$D$20:$S$31,14,FALSE) -> 23.853211 | X10: =VLOOKUP($S10,'Distribution (medium) tables'!$D$3:$S$14,14,FALSE) -> 31.90184
C11: D115 | D11: =VLOOKUP($C11,'Distribution (medium) tables'!$D$37:$S$49,13,FALSE) -> 7.5797772 | E11: =VLOOKUP($C11,'Distribution (medium) tables'!$D$20:$S$31,13,FALSE) -> 1.0845928 | F11: =VLOOKUP($C11,'Distribution (medium) tables'!$D$3:$S$14,13,FALSE) -> 6.25 | J11: D115 | K11: =VLOOKUP($J11,'Distribution (medium) tables'!$D$72:$S$84,10,FALSE) -> 5.2605968 | L11: =VLOOKUP($J11,'Distribution (medium) tables'!$D$55:$S$66,10,FALSE) -> 2.4661064 | M11: =VLOOKUP($J11,'Distribution (medium) tables'!$D$37:$S$49,10,FALSE) -> 7.5797772 | N11: =VLOOKUP($J11,'Distribution (medium) tables'!$D$20:$S$31,10,FALSE) -> 1.0845928 | O11: =VLOOKUP($J11,'Distribution (medium) tables'!$D$3:$S$14,10,FALSE) -> 4.375 | S11: D115 | T11: =VLOOKUP($S11,'Distribution (medium) tables'!$D$72:$S$84,14,FALSE) -> 41.4272 | U11: =VLOOKUP($S11,'Distribution (medium) tables'!$D$55:$S$66,14,FALSE) -> 35.142017 | V11: =VLOOKUP($S11,'Distribution (medium) tables'!$D$37:$S$49,14,FALSE) -> 105.53382 | W11: =VLOOKUP($S11,'Distribution (medium) tables'!$D$20:$S$31,14,FALSE) -> 3.7960749 | X11: =VLOOKUP($S11,'Distribution (medium) tables'!$D$3:$S$14,14,FALSE) -> N/A
C12: D125 | D12: =VLOOKUP($C12,'Distribution (large) tables'!$D$26:$S$32,13,FALSE) -> 7.2796935 | E12: =VLOOKUP($C12,'Distribution (medium) tables'!$D$20:$S$31,13,FALSE) -> 10.300429 | F12: =VLOOKUP($C12,'Distribution (medium) tables'!$D$3:$S$14,13,FALSE) -> 7.3469388 | J12: D125 | K12: =VLOOKUP($J12,'Distribution (medium) tables'!$D$72:$S$84,10,FALSE) -> 1.2690355 | L12: =VLOOKUP($J12,'Distribution (medium) tables'!$D$55:$S$66,10,FALSE) -> 5 | M12: =VLOOKUP($J12,'Distribution (large) tables'!$D$26:$S$32,10,FALSE) -> 1.9157088 | N12: =VLOOKUP($J12,'Distribution (medium) tables'!$D$20:$S$31,10,FALSE) -> 1.7167382 | O12: =VLOOKUP($J12,'Distribution (medium) tables'!$D$3:$S$14,10,FALSE) -> 3.6734694 | S12: D125 | T12: =VLOOKUP($S12,'Distribution (medium) tables'!$D$72:$S$84,14,FALSE) -> 12.267343 | U12: =VLOOKUP($S12,'Distribution (medium) tables'!$D$55:$S$66,14,FALSE) -> 40.833333 | V12: =VLOOKUP($S12,'Distribution (large) tables'!$D$26:$S$32,14,FALSE) -> 23.371648 | W12: =VLOOKUP($S12,'Distribution (medium) tables'!$D$20:$S$31,14,FALSE) -> 15.021459 | X12: =VLOOKUP($S12,'Distribution (medium) tables'!$D$3:$S$14,14,FALSE) -> 15.102041
C13: D145 | D13: =VLOOKUP($C13,'Distribution (medium) tables'!$D$37:$S$49,13,FALSE) -> 4.2328042 | E13: =VLOOKUP($C13,'Distribution (medium) tables'!$D$20:$S$31,13,FALSE) -> 0.60606061 | F13: =VLOOKUP($C13,'Distribution (medium) tables'!$D$3:$S$14,13,FALSE) -> 3.2679739 | J13: D145 | K13: =VLOOKUP($J13,'Distribution (medium) tables'!$D$72:$S$84,10,FALSE) -> 2.3474178 | L13: =VLOOKUP($J13,'Distribution (medium) tables'!$D$55:$S$66,10,FALSE) -> 1.9354839 | M13: =VLOOKUP($J13,'Distribution (medium) tables'!$D$37:$S$49,10,FALSE) -> 0 | N13: =VLOOKUP($J13,'Distribution (medium) tables'!$D$20:$S$31,10,FALSE) -> 0.60606061 | O13: =VLOOKUP($J13,'Distribution (medium) tables'!$D$3:$S$14,10,FALSE) -> 1.9607843 | S13: D145 | T13: =VLOOKUP($S13,'Distribution (medium) tables'!$D$72:$S$84,14,FALSE) -> 48.356808 | U13: =VLOOKUP($S13,'Distribution (medium) tables'!$D$55:$S$66,14,FALSE) -> 7.0967742 | V13: =VLOOKUP($S13,'Distribution (medium) tables'!$D$37:$S$49,14,FALSE) -> 0 | W13: =VLOOKUP($S13,'Distribution (medium) tables'!$D$20:$S$31,14,FALSE) -> 24.848485 | X13: =VLOOKUP($S13,'Distribution (medium) tables'!$D$3:$S$14,14,FALSE) -> 24.836601
C14: D150 | D14: =VLOOKUP($C14,'Distribution (medium) tables'!$D$37:$S$49,13,FALSE) -> 0.76923077 | E14: =VLOOKUP($C14,'Distribution (medium) tables'!$D$20:$S$31,13,FALSE) -> 0.74074074 | F14: =VLOOKUP($C14,'Distribution (medium) tables'!$D$3:$S$14,13,FALSE) -> 0 | J14: D150 | K14: =VLOOKUP($J14,'Distribution (medium) tables'!$D$72:$S$84,10,FALSE) -> 1.7391304 | L14: =VLOOKUP($J14,'Distribution (medium) tables'!$D$55:$S$66,10,FALSE) -> 2.5210084 | M14: =VLOOKUP($J14,'Distribution (medium) tables'!$D$37:$S$49,10,FALSE) -> 0.76923077 | N14: =VLOOKUP($J14,'Distribution (medium) tables'!$D$20:$S$31,10,FALSE) -> 0.74074074 | O14: =VLOOKUP($J14,'Distribution (medium) tables'!$D$3:$S$14,10,FALSE) -> 0 | S14: D150 | T14: =VLOOKUP($S14,'Distribution (medium) tables'!$D$72:$S$84,14,FALSE) -> 10.434783 | U14: =VLOOKUP($S14,'Distribution (medium) tables'!$D$55:$S$66,14,FALSE) -> 311.76471 | V14: =VLOOKUP($S14,'Distribution (medium) tables'!$D$37:$S$49,14,FALSE) -> 29.230769 | W14: =VLOOKUP($S14,'Distribution (medium) tables'!$D$20:$S$31,14,FALSE) -> 12.592593 | X14: =VLOOKUP($S14,'Distribution (medium) tables'!$D$3:$S$14,14,FALSE) -> 0
C15: D160 | D15: =VLOOKUP($C15,'Distribution (medium) tables'!$D$37:$S$49,13,FALSE) -> 4.6666667 | E15: =VLOOKUP($C15,'Distribution (medium) tables'!$D$20:$S$31,13,FALSE) -> 4.3165468 | F15: =VLOOKUP($C15,'Distribution (medium) tables'!$D$3:$S$14,13,FALSE) -> 1.459854 | J15: D160 | K15: =VLOOKUP($J15,'Distribution (medium) tables'!$D$72:$S$84,10,FALSE) -> 3.7593985 | L15: =VLOOKUP($J15,'Distribution (medium) tables'!$D$55:$S$66,10,FALSE) -> 0 | M15: =VLOOKUP($J15,'Distribution (medium) tables'!$D$37:$S$49,10,FALSE) -> 1.3333333 | N15: =VLOOKUP($J15,'Distribution (medium) tables'!$D$20:$S$31,10,FALSE) -> 3.5971223 | O15: =VLOOKUP($J15,'Distribution (medium) tables'!$D$3:$S$14,10,FALSE) -> 0.72992701 | S15: D160 | T15: =VLOOKUP($S15,'Distribution (medium) tables'!$D$72:$S$84,14,FALSE) -> 42.857143 | U15: =VLOOKUP($S15,'Distribution (medium) tables'!$D$55:$S$66,14,FALSE) -> 0 | V15: =VLOOKUP($S15,'Distribution (medium) tables'!$D$37:$S$49,14,FALSE) -> 1.3333333 | W15: =VLOOKUP($S15,'Distribution (medium) tables'!$D$20:$S$31,14,FALSE) -> 89.208633 | X15: =VLOOKUP($S15,'Distribution (medium) tables'!$D$3:$S$14,14,FALSE) -> 21.89781
C16: D168 | D16: =VLOOKUP($C16,'Distribution (medium) tables'!$D$37:$S$49,13,FALSE) -> 0.64935065 | E16: =VLOOKUP($C16,'Distribution (small) tables'!$D$16:$S$22,13,FALSE) -> 5.0847458 | F16: =VLOOKUP($C16,'Distribution (medium) tables'!$D$3:$S$14,13,FALSE) -> 2.4193548 | J16: D168 | K16: =VLOOKUP($J16,'Distribution (medium) tables'!$D$72:$S$84,10,FALSE) -> 0 | L16: =VLOOKUP($J16,'Distribution (small) tables'!$D$39:$S$48,10,FALSE) -> 1.3513514 | M16: =VLOOKUP($J16,'Distribution (medium) tables'!$D$37:$S$49,10,FALSE) -> 0 | N16: =VLOOKUP($J16,'Distribution (small) tables'!$D$16:$S$22,10,FALSE) -> 1.6949153 | O16: =VLOOKUP($J16,'Distribution (medium) tables'!$D$3:$S$14,10,FALSE) -> 0.80645161 | S16: D168 | T16: =VLOOKUP($S16,'Distribution (medium) tables'!$D$72:$S$84,14,FALSE) -> 0 | U16: =VLOOKUP($S16,'Distribution (small) tables'!$D$39:$S$48,14,FALSE) -> 80.675676 | V16: =VLOOKUP($S16,'Distribution (medium) tables'!$D$37:$S$49,14,FALSE) -> 0 | W16: =VLOOKUP($S16,'Distribution (small) tables'!$D$16:$S$22,14,FALSE) -> 1.6949153 | X16: =VLOOKUP($S16,'Distribution (medium) tables'!$D$3:$S$14,14,FALSE) -> 13.709677
B17: Distribution ≥ 100 and < 250 employees | D17: ='Distribution (medium) tables'!P50 -> 5.9442679 | E17: ='Distribution (medium) tables'!P32 -> 5.4618477 | F17: ='Distribution (medium) tables'!P15 -> 4.68107 | I17: Distribution ≥ 100 and < 250 employees | K17: ='Distribution (medium) tables'!M85 -> 2.8464789 | L17: ='Distribution (medium) tables'!M67 -> 2.1711513 | M17: ='Distribution (medium) tables'!M50 -> 2.127136 | N17: ='Distribution (medium) tables'!M32 -> 2.1586377 | O17: ='Distribution (medium) tables'!M15 -> 2.4691358 | R17: Distribution ≥ 100 and < 250 employees | T17: ='Distribution (medium) tables'!Q85 -> 35.48111 | U17: ='Distribution (medium) tables'!Q67 -> 56.201046 | V17: ='Distribution (medium) tables'!Q50 -> 44.95992 | W17: ='Distribution (medium) tables'!Q32 -> 19.759838 | X17: ='Distribution (medium) tables'!Q15 -> 22.170782
B18: Distribution Total | D18: ='Distribution (medium) tables'!P51 -> 5.4568475 | E18: ='Distribution (medium) tables'!P33 -> 4.0770425 | F18: ='Distribution (medium) tables'!P16 -> 3.5956549 | I18: Distribution Total | K18: ='Distribution (medium) tables'!M86 -> 1.9021525 | L18: ='Distribution (medium) tables'!M68 -> 1.3944445 | M18: ='Distribution (medium) tables'!M51 -> 1.8302585 | N18: ='Distribution (medium) tables'!M33 -> 1.4377363 | O18: ='Distribution (medium) tables'!M16 -> 1.7339453 | R18: Distribution Total | T18: ='Distribution (medium) tables'!Q86 -> 32.609674 | U18: ='Distribution (medium) tables'!Q68 -> 34.418927 | V18: ='Distribution (medium) tables'!Q51 -> 27.862026 | W18: ='Distribution (medium) tables'!Q33 -> 18.469382 | X18: ='Distribution (medium) tables'!Q16 -> 22.313138
B19: Industry Total | D19: ='Distribution (medium) tables'!P52 -> 3.6823885 | E19: ='Distribution (medium) tables'!P34 -> 2.8573081 | F19: ='Distribution (medium) tables'!P17 -> 2.5035165 | I19: Industry Total | K19: ='Distribution (medium) tables'!M87 -> 1.2206952 | L19: ='Distribution (medium) tables'!M69 -> 1.0993812 | M19: ='Distribution (medium) tables'!M52 -> 1.2192603 | N19: ='Distribution (medium) tables'!M34 -> 0.94836664 | O19: ='Distribution (medium) tables'!M17 -> 1.0753937 | R19: Industry Total | T19: ='Distribution (medium) tables'!Q87 -> 21.270615 | U19: ='Distribution (medium) tables'!Q69 -> 21.570203 | V19: ='Distribution (medium) tables'!Q52 -> 18.33378 | W19: ='Distribution (medium) tables'!Q34 -> 12.650689 | X19: ='Distribution (medium) tables'!Q17 -> 14.664068
B21: Select your respondent code -> | F21: 1 | J21: Select your respondent code -> | O21: 1 | S21: Select your respondent code -> | X21: 1
D22: 1 | E22: 2 | F22: 3 | K22: 1 | L22: 2 | M22: 3 | N22: 4 | O22: 5 | T22: 1 | U22: 2 | V22: 3 | W22: 4 | X22: 5
C24: TRIFR Respondent | D24: 2015 | E24: 2016 | F24: 2017 | J24: LTIFR Respondent | K24: 2013 | L24: 2014 | M24: 2015 | N24: 2016 | O24: 2017 | S24: LTISR Respondent | T24: 2013 | U24: 2014 | V24: 2015 | W24: 2016 | X24: 2017
C25: =INDEX($C$5:$C$16,$F$21,1) -> D55 | D25: =INDEX($D$5:$F$16,$F$21,D$22) -> 3.0075188 | E25: =INDEX($D$5:$F$16,$F$21,E$22) -> 7.6335878 | F25: =INDEX($D$5:$F$16,$F$21,F$22) -> 9.7744361 | J25: =INDEX($J$5:$J$16,$O$21,1) -> D55 | K25: =INDEX($K$5:$O$16,$O$21,K$22) -> 12.8 | L25: =INDEX($K$5:$O$16,$O$21,L$22) -> 4 | M25: =INDEX($K$5:$O$16,$O$21,M$22) -> 3.0075188 | N25: =INDEX($K$5:$O$16,$O$21,N$22) -> 0.76335878 | O25: =INDEX($K$5:$O$16,$O$21,O$22) -> 1.5037594 | S25: =INDEX($S$5:$S$16,$X$21,1) -> D55 | T25: =INDEX($T$5:$X$16,$X$21,T$22) -> 88.8 | U25: =INDEX($T$5:$X$16,$X$21,U$22) -> 36 | V25: =INDEX($T$5:$X$16,$X$21,V$22) -> 69.172932 | W25: =INDEX($T$5:$X$16,$X$21,W$22) -> 13.740458 | X25: =INDEX($T$5:$X$16,$X$21,X$22) -> 30.827068
C26: Medium-size distribution | D26: =D17 -> 5.9442679 | E26: =E17 -> 5.4618477 | F26: =F17 -> 4.68107 | J26: Medium-size distribution | K26: =K17 -> 2.8464789 | L26: =L17 -> 2.1711513 | M26: =M17 -> 2.127136 | N26: =N17 -> 2.1586377 | O26: =O17 -> 2.4691358 | S26: Medium-size distribution | T26: =T17 -> 35.48111 | U26: =U17 -> 56.201046 | V26: =V17 -> 44.95992 | W26: =W17 -> 19.759838 | X26: =X17 -> 22.170782
C27: Distribution Total | D27: =D18 -> 5.4568475 | E27: =E18 -> 4.0770425 | F27: =F18 -> 3.5956549 | J27: Distribution Total | K27: =K18 -> 1.9021525 | L27: =L18 -> 1.3944445 | M27: =M18 -> 1.8302585 | N27: =N18 -> 1.4377363 | O27: =O18 -> 1.7339453 | S27: Distribution Total | T27: =T18 -> 32.609674 | U27: =U18 -> 34.418927 | V27: =V18 -> 27.862026 | W27: =W18 -> 18.469382 | X27: =X18 -> 22.313138
C28: Industry Total | D28: =D19 -> 3.6823885 | E28: =E19 -> 2.8573081 | F28: =F19 -> 2.5035165 | J28: Industry Total | K28: =K19 -> 1.2206952 | L28: =L19 -> 1.0993812 | M28: =M19 -> 1.2192603 | N28: =N19 -> 0.94836664 | O28: =O19 -> 1.0753937 | S28: Industry Total | T28: =T19 -> 21.270615 | U28: =U19 -> 21.570203 | V28: =V19 -> 18.33378 | W28: =W19 -> 12.650689 | X28: =X19 -> 14.664068

Sheet Distribution (large) tables
B2: Distribution peers having ≥ 250 employees YE June 2017 | D2: Code | E2: FTEs | F2: Fatalities | G2: LTIs | H2: RWIs | I2: MTIs | J2: TRIs | K2: Days Lost to LTIs | L2: Days of Restricted Work | M2: LTIFR | N2: RWIFR | O2: MTIFR | P2: TRIFR | Q2: LTISR | R2: RWISR | S2: ATLR to LTIs
B3: Peer group respondents | D3: D75 | E3: 374 | F3: 0 | G3: 9 | H3: 0 | I3: 10 | J3: 19 | K3: 112 | L3: 0 | M3: 2.4064171 | N3: 0 | O3: 2.6737968 | P3: 5.0802139 | Q3: 29.946524 | R3: 0 | S3: 12.444444
D4: D120 | E4: 269 (CNU) | F4: 0 | G4: 8 | H4: 0 | I4: 9 | J4: 17 | K4: 55 | L4: 68 | M4: 2.9739777 | N4: 0 | O4: 3.3457249 | P4: 6.3197026 | Q4: 20.446097 | R4: 25.27881 | S4: 6.875
D5: D140 | E5: 661 | F5: 0 | G5: 6 | H5: 0 | I5: 3 | J5: 9 | K5: 61 | L5: 98 | M5: 0.90771558 | N5: 0 | O5: 0.45385779 | P5: 1.3615734 | Q5: 9.2284418 | R5: 14.826021 | S5: 10.166667
D6: D165 | E6: 996.75 | F6: 0 | G6: 4 | H6: 0 | I6: 18 | J6: 22 | K6: 158 | L6: 99 | M6: 0.40130424 | N6: 0 | O6: 1.8058691 | P6: 2.2071733 | Q6: 15.851517 | R6: 9.9322799 | S6: 39.5
D7: D170 | E7: 329 | F7: 0 | G7: 0 | H7: 0 | I7: 2 | J7: 2 | K7: 0 | L7: 0 | M7: 0 | N7: 0 | O7: 0.60790274 | P7: 0.60790274 | Q7: 0 | R7: 0 | S7: 0
D8: D180 | E8: 472 (NCD) | F8: 0 | G8: 5 | H8: 5 | I8: 4 | J8: 14 | K8: 56 | L8: 37 | M8: 1.059322 | N8: 1.059322 | O8: 0.84745763 | P8: 2.9661017 | Q8: 11.864407 | R8: 7.8389831 | S8: 11.2
B9: Peer group summary | E9: 3101.75 | F9: 0 | G9: 32 | H9: 5 | I9: 46 | J9: 83 | K9: 442 | L9: 302 | M9: 1.0316757 | N9: 0.16119932 | O9: 1.4830338 | P9: 2.6759088 | Q9: 14.25002 | R9: 9.7364391 | S9: 13.8125
B10: Distribution summary | E10: 5478.835 | F10: 0 | G10: 95 | H10: 17 | I10: 85 | J10: 197 | K10: 1222.5 | L10: 485 | M10: 1.7339453 | N10: 0.31028494 | O10: 1.5514247 | P10: 3.5956549 | Q10: 22.313138 | R10: 8.8522469 | S10: 12.868421
B11: Industry summary | E11: 11623.65 | F11: 0 | G11: 125 | H11: 30 | I11: 136 | J11: 291 | K11: 1704.5 | L11: 608 | M11: 1.0753937 | N11: 0.25809448 | O11: 1.1700283 | P11: 2.5035165 | Q11: 14.664068 | R11: 5.2307148 | S11: 13.636
B13: Distribution peers having ≥ 250 employees YE June 2016 | D13: Code | E13: FTEs | F13: Fatalities | G13: LTIs | H13: RWIs | I13: MTIs | J13: TRIs | K13: Days Lost to LTIs | L13: Days of Restricted Work | M13: LTIFR | N13: RWIFR | O13: MTIFR | P13: TRIFR | Q13: LTISR | R13: RWISR | S13: ATLR to LTIs
B14: Peer group respondents | D14: D75 | E14: 367 | F14: 0 | G14: 3 | H14: 2 | I14: 11 | J14: 16 | K14: 7 | L14: 20 | M14: 0.81743869 | N14: 0.54495913 | O14: 2.9972752 | P14: 4.359673 | Q14: 1.9073569 | R14: 5.4495913 | S14: 2.3333333
D15: D95 | E15: 314 | F15: 0 | G15: 1 | H15: 1 | I15: 5 | J15: 7 | K15: 69 | L15: 5 | M15: 0.31847134 | N15: 0.31847134 | O15: 1.5923567 | P15: 2.2292994 | Q15: 21.974522 | R15: 1.5923567 | S15: 69
D16: D120 | E16: 271 (CNU) | F16: 0 | G16: 12 | H16: 0 | I16: 14 | J16: 26 | K16: 227 | L16: 20 | M16: 4.4280443 | N16: 0 | O16: 5.1660517 | P16: 9.5940959 | Q16: 83.763838 | R16: 7.3800738 | S16: 18.916667
D17: D140 | E17: 657 | F17: 0 | G17: 6 | H17: 0 | I17: 9 | J17: 15 | K17: 167 | L17: 41 | M17: 0.91324201 | N17: 0 | O17: 1.369863 | P17: 2.283105 | Q17: 25.418569 | R17: 6.2404871 | S17: 27.833333
D18: D165 | E18: 1025 | F18: 0 | G18: 3 | H18: N/A | I18: 23 | J18: 26 | K18: 72 | L18: N/A | M18: 0.29268293 | N18: N/A | O18: 2.2439024 | P18: 2.5365854 | Q18: 7.0243902 | R18: N/A | S18: 24
D19: D170 | E19: 333 | F19: 0 | G19: 1 | H19: 0 | I19: 0 | J19: 1 | K19: 30 | L19: 0 | M19: 0.3003003 | N19: 0 | O19: 0 | P19: 0.3003003 | Q19: 9.009009 | R19: 0 | S19: 30
D20: D180 | E20: 306 | F20: 0 | G20: 1 | H20: 1 | I20: 2 | J20: 4 | K20: 22 | L20: 3 | M20: 0.32679739 | N20: 0.32679739 | O20: 0.65359477 | P20: 1.3071895 | Q20: 7.1895425 | R20: 0.98039216 | S20: 22
B21: Peer group summary | E21: 3273 | F21: 0 | G21: 27 | H21: 4 | I21: 64 | J21: 95 | K21: 594 | L21: 89 | M21: 0.82493126 | N21: 0.17793594 | O21: 1.9553926 | P21: 2.9582598 | Q21: 18.148488 | R21: 3.9590747 | S21: 22
B22: Distribution summary | E22: 5425.195 | F22: 0 | G22: 78 | H22: 17 | I22: 120 | J22: 215 | K22: 1002 | L22: 304 | M22: 1.4377363 | N22: 0.42740415 | O22: 2.2119021 | P22: 4.0770425 | Q22: 18.469382 | R22: 7.6429918 | S22: 12.846154
B23: Industry summary | E23: 11493.445 | F23: 0 | G23: 109 | H23: 28 | I23: 177 | J23: 314 | K23: 1454 | L23: 706 | M23: 0.94836664 | N23: 0.36893319 | O23: 1.5400082 | P23: 2.8573081 | Q23: 12.650689 | R23: 9.3023869 | S23: 13.33945
B25: Distribution peers having ≥ 250 employees YE June 2015 | D25: Code | E25: FTEs | F25: Fatalities | G25: LTIs | H25: RWIs | I25: MTIs | J25: TRIs | K25: Days Lost to LTIs | L25: Days of Restricted Work | M25: LTIFR | N25: RWIFR | O25: MTIFR | P25: TRIFR | Q25: LTISR | R25: RWISR | S25: ATLR to LTIs
B26: Peer group respondents | D26: D75 | E26: 367 | F26: 0 | G26: 6 | H26: 8 | I26: 6 | J26: 20 | K26: 260 | L26: 170 | M26: 1.6348774 | N26: 2.1798365 | O26: 1.6348774 | P26: 5.4495913 | Q26: 70.844687 | R26: 46.321526 | S26: 43.333333
D27: D95 | E27: 353 | F27: 0 | G27: 5 | H27: 3 | I27: 2 | J27: 10 | K27: 26 | L27: N/A | M27: 1.4164306 | N27: 0.84985836 | O27: 0.56657224 | P27: 2.8328612 | Q27: 7.3654391 | R27: N/A | S27: 5.2
D28: D105 | E28: 268 | F28: 0 | G28: 2 | H28: 1 | I28: 9 | J28: 12 | K28: 13 | L28: 21 | M28: 0.74626866 | N28: 0.37313433 | O28: 3.358209 | P28: 4.4776119 | Q28: 4.8507463 | R28: 7.8358209 | S28: 6.5
D29: D120 | E29: 254 | F29: 0 | G29: 4 | H29: 1 | I29: 3 | J29: 8 | K29: 28 | L29: 5 | M29: 1.5748031 | N29: 0.39370079 | O29: 1.1811024 | P29: 3.1496063 | Q29: 11.023622 | R29: 1.9685039 | S29: 7
D30: D125 | E30: 261 (NCD) | F30: 0 | G30: 5 | H30: 10 | I30: 4 | J30: 19 | K30: 61 | L30: 55 | M30: 1.9157088 | N30: 3.8314176 | O30: 1.532567 | P30: 7.2796935 | Q30: 23.371648 | R30: 21.072797 | S30: 12.2
D31: D140 | E31: 640 | F31: 0 | G31: 13 | H31: N/A | I31: 20 | J31: 33 | K31: 88 | L31: N/A | M31: 2.03125 | N31: N/A | O31: 3.125 | P31: 5.15625 | Q31: 13.75 | R31: N/A | S31: 6.7692308
D32: D165 | E32: 985 | F32: 0 | G32: 6 | H32: N/A | I32: 25 | J32: 31 | K32: 16 | L32: N/A | M32: 0.60913706 | N32: N/A | O32: 2.5380711 | P32: 3.1472081 | Q32: 1.6243655 | R32: N/A | S32: 2.6666667
B33: Peer group summary | E33: 3128 | F33: 0 | G33: 41 | H33: 23 | I33: 69 | J33: 133 | K33: 492 | L33: 251 | M33: 1.3107417 | N33: 1.5302728 | O33: 2.2058824 | P33: 5.0468968 | Q33: 15.7289 | R33: 21.826087 | S33: 12
B34: Distribution summary | E34: 5463.709 | F34: 0 | G34: 100 | H34: 44 | I34: 121 | J34: 265 | K34: 1522.3 | L34: 424 | M34: 1.8302585 | N34: 1.4119761 | O34: 2.2146128 | P34: 5.4568475 | Q34: 27.862026 | R34: 16.225318 | S34: 15.223
B35: Industry summary | E35: 11810.439 | F35: 0 | G35: 144 | H35: 53 | I35: 200 | J35: 397 | K35: 2165.3 | L35: 581 | M35: 1.2192603 | N35: 0.76971114 | O35: 1.6934171 | P35: 3.6823885 | Q35: 18.33378 | R35: 9.1027308 | S35: 15.036806
B37: Distribution peers having ≥ 250 employees YE June 2014 | D37: Code | E37: FTEs | F37: Fatalities | G37: LTIs | H37: RWIs | I37: MTIs | J37: TRIs | K37: Days Lost to LTIs | L37: Days of Restricted Work | M37: LTIFR | N37: RWIFR | O37: MTIFR | P37: TRIFR | Q37: LTISR | R37: RWISR | S37: ATLR to LTIs
B38: Peer group respondents | D38: D75 | E38: 361 | F38: 0 | G38: 2 | H38: - | I38: - | J38: - | K38: 187 | L38: - | M38: 0.55401662 | N38: - | O38: - | P38: - | Q38: 51.800554 | R38: - | S38: 93.5
D39: D95 | E39: 1207 | F39: 0 | G39: 7 | H39: - | I39: - | J39: - | K39: 117 | L39: - | M39: 0.57995029 | N39: - | O39: - | P39: - | Q39: 9.6934548 | R39: - | S39: 16.714286
D40: D140 | E40: 590.8 | F40: 0 | G40: 7 | H40: - | I40: - | J40: - | K40: 33 | L40: - | M40: 1.1848341 | N40: - | O40: - | P40: - | Q40: 5.5856466 | R40: - | S40: 4.7142857
D41: D165 | E41: 830 | F41: 0 | G41: 2 | H41: - | I41: - | J41: - | K41: 6 | L41: - | M41: 0.24096386 | N41: - | O41: - | P41: - | Q41: 0.72289157 | R41: - | S41: 3
B42: Peer group summary | E42: 2988.8 | F42: 0 | G42: 18 | H42: - | I42: - | J42: - | K42: 343 | L42: - | M42: 0.60224839 | N42: - | O42: - | P42: - | Q42: 11.476178 | R42: - | S42: 19.055556
B43: Distribution summary | E43: 5450.199 | F43: 0 | G43: 76 | H43: - | I43: - | J43: - | K43: 1875.9 | L43: - | M43: 1.3944445 | N43: - | O43: - | P43: - | Q43: 34.418927 | R43: - | S43: 24.682895
B44: Industry summary | E44: 11642.913 | F44: 0 | G44: 128 | H44: - | I44: - | J44: - | K44: 2511.4 | L44: - | M44: 1.0993812 | N44: - | O44: - | P44: - | Q44: 21.570203 | R44: - | S44: 19.620313
B46: Distribution peers having ≥ 250 employees YE June 2013 | D46: Code | E46: FTEs | F46: Fatalities | G46: LTIs | H46: RWIs | I46: MTIs | J46: TRIs | K46: Days Lost to LTIs | L46: Days of Restricted Work | M46: LTIFR | N46: RWIFR | O46: MTIFR | P46: TRIFR | Q46: LTISR | R46: RWISR | S46: ATLR to LTIs
B47: Peer group respondents | D47: D75 | E47: 348 | F47: 0 | G47: 1 | H47: - | I47: - | J47: - | K47: 2 | L47: - | M47: 0.28735632 | N47: - | O47: - | P47: - | Q47: 0.57471264 | R47: - | S47: 2
D48: D95 | E48: 1004 | F48: 0 | G48: 5 | H48: - | I48: - | J48: - | K48: 425 | L48: - | M48: 0.49800797 | N48: - | O48: - | P48: - | Q48: 42.330677 | R48: - | S48: 85
D49: D120 | E49: 250 | F49: 1 | G49: 10 | H49: - | I49: - | J49: - | K49: 82 | L49: - | M49: 4 | N49: - | O49: - | P49: - | Q49: 32.8 | R49: - | S49: 8.2
D50: D140 | E50: 562 | F50: 0 | G50: 11 | H50: - | I50: - | J50: - | K50: 159 | L50: - | M50: 1.9572954 | N50: - | O50: - | P50: - | Q50: 28.291815 | R50: - | S50: 14.454545
D51: D165 | E51: 810 | F51: 0 | G51: 3 | H51: - | I51: - | J51: - | K51: 125 | L51: - | M51: 0.37037037 | N51: - | O51: - | P51: - | Q51: 15.432099 | R51: - | S51: 41.666667
B52: Peer group summary | E52: 2974 | F52: 1 | G52: 30 | H52: - | I52: - | J52: - | K52: 793 | L52: - | M52: 1.0087424 | N52: - | O52: - | P52: - | Q52: 26.664425 | R52: - | S52: 26.433333
B53: Distribution summary | E53: 5309.774 | F53: 1 | G53: 101 | H53: - | I53: - | J53: - | K53: 1731.5 | L53: - | M53: 1.9021525 | N53: - | O53: - | P53: - | Q53: 32.609674 | R53: - | S53: 17.143564
B54: Industry summary | E54: 11468.874 | F54: 2 | G54: 140 | H54: - | I54: - | J54: - | K54: 2439.5 | L54: - | M54: 1.2206952 | N54: - | O54: - | P54: - | Q54: 21.270615 | R54: - | S54: 17.425

Sheet Distribution (large) graphs
B2: Total Recordable Injury Frequency Rate | I2: Lost Time Injury Frequency Rate | R2: Lost Time Injury Severity Rate
B3: TRIFR - 5-year results - Large-size distribution peer group | D3: Year Ended | I3: LTIFR - 5-year results - Large-size distribution peer group | K3: Year Ended | R3: LTISR - 5-year results - Large-size distribution peer group | T3: Year Ended
D4: 2015 | E4: 2016 | F4: 2017 | K4: 2013 | L4: 2014 | M4: 2015 | N4: 2016 | O4: 2017 | T4: 2013 | U4: 2014 | V4: 2015 | W4: 2016 | X4: 2017
B5: Respondent code | C5: D75 | D5: =VLOOKUP($C5,'Distribution (large) tables'!$D$26:$S$32,13,FALSE) -> 5.4495913 | E5: =VLOOKUP($C5,'Distribution (large) tables'!$D$14:$S$20,13,FALSE) -> 4.359673 | F5: =VLOOKUP($C5,'Distribution (large) tables'!$D$3:$S$8,13,FALSE) -> 5.0802139 | I5: Respondent code | J5: D75 | K5: =VLOOKUP($J5,'Distribution (large) tables'!$D$47:$S$51,10,FALSE) -> 0.28735632 | L5: =VLOOKUP($J5,'Distribution (large) tables'!$D$38:$S$41,10,FALSE) -> 0.55401662 | M5: =VLOOKUP($J5,'Distribution (large) tables'!$D$26:$S$32,10,FALSE) -> 1.6348774 | N5: =VLOOKUP($J5,'Distribution (large) tables'!$D$14:$S$20,10,FALSE) -> 0.81743869 | O5: =VLOOKUP($J5,'Distribution (large) tables'!$D$3:$S$8,10,FALSE) -> 2.4064171 | R5: Respondent code | S5: D75 | T5: =VLOOKUP($S5,'Distribution (large) tables'!$D$47:$S$51,14,FALSE) -> 0.57471264 | U5: =VLOOKUP($S5,'Distribution (large) tables'!$D$38:$S$41,14,FALSE) -> 51.800554 | V5: =VLOOKUP($S5,'Distribution (large) tables'!$D$26:$S$32,14,FALSE) -> 70.844687 | W5: =VLOOKUP($S5,'Distribution (large) tables'!$D$14:$S$20,14,FALSE) -> 1.9073569 | X5: =VLOOKUP($S5,'Distribution (large) tables'!$D$3:$S$8,14,FALSE) -> 29.946524
C6: D120 | D6: =VLOOKUP($C6,'Distribution (large) tables'!$D$26:$S$32,13,FALSE) -> 3.1496063 | E6: =VLOOKUP($C6,'Distribution (large) tables'!$D$14:$S$20,13,FALSE) -> 9.5940959 | F6: =VLOOKUP($C6,'Distribution (large) tables'!$D$3:$S$8,13,FALSE) -> 6.3197026 | J6: D120 | K6: =VLOOKUP($J6,'Distribution (large) tables'!$D$47:$S$51,10,FALSE) -> 4 | L6: =VLOOKUP($J6,'Distribution (medium) tables'!$D$55:$S$66,10,FALSE) -> 0.93240093 | M6: =VLOOKUP($J6,'Distribution (large) tables'!$D$26:$S$32,10,FALSE) -> 1.5748031 | N6: =VLOOKUP($J6,'Distribution (large) tables'!$D$14:$S$20,10,FALSE) -> 4.4280443 | O6: =VLOOKUP($J6,'Distribution (large) tables'!$D$3:$S$8,10,FALSE) -> 2.9739777 | S6: D120 | T6: =VLOOKUP($S6,'Distribution (large) tables'!$D$47:$S$51,14,FALSE) -> 32.8 | U6: =VLOOKUP($S6,'Distribution (medium) tables'!$D$55:$S$66,14,FALSE) -> 48.951049 | V6: =VLOOKUP($S6,'Distribution (large) tables'!$D$26:$S$32,14,FALSE) -> 11.023622 | W6: =VLOOKUP($S6,'Distribution (large) tables'!$D$14:$S$20,14,FALSE) -> 83.763838 | X6: =VLOOKUP($S6,'Distribution (large) tables'!$D$3:$S$8,14,FALSE) -> 20.446097
C7: D140 | D7: =VLOOKUP($C7,'Distribution (large) tables'!$D$26:$S$32,13,FALSE) -> 5.15625 | E7: =VLOOKUP($C7,'Distribution (large) tables'!$D$14:$S$20,13,FALSE) -> 2.283105 | F7: =VLOOKUP($C7,'Distribution (large) tables'!$D$3:$S$8,13,FALSE) -> 1.3615734 | J7: D140 | K7: =VLOOKUP($J7,'Distribution (large) tables'!$D$47:$S$51,10,FALSE) -> 1.9572954 | L7: =VLOOKUP($J7,'Distribution (large) tables'!$D$38:$S$41,10,FALSE) -> 1.1848341 | M7: =VLOOKUP($J7,'Distribution (large) tables'!$D$26:$S$32,10,FALSE) -> 2.03125 | N7: =VLOOKUP($J7,'Distribution (large) tables'!$D$14:$S$20,10,FALSE) -> 0.91324201 | O7: =VLOOKUP($J7,'Distribution (large) tables'!$D$3:$S$8,10,FALSE) -> 0.90771558 | S7: D140 | T7: =VLOOKUP($S7,'Distribution (large) tables'!$D$47:$S$51,14,FALSE) -> 28.291815 | U7: =VLOOKUP($S7,'Distribution (large) tables'!$D$38:$S$41,14,FALSE) -> 5.5856466 | V7: =VLOOKUP($S7,'Distribution (large) tables'!$D$26:$S$32,14,FALSE) -> 13.75 | W7: =VLOOKUP($S7,'Distribution (large) tables'!$D$14:$S$20,14,FALSE) -> 25.418569 | X7: =VLOOKUP($S7,'Distribution (large) tables'!$D$3:$S$8,14,FALSE) -> 9.2284418
C8: D165 | D8: =VLOOKUP($C8,'Distribution (large) tables'!$D$26:$S$32,13,FALSE) -> 3.1472081 | E8: =VLOOKUP($C8,'Distribution (large) tables'!$D$14:$S$20,13,FALSE) -> 2.5365854 | F8: =VLOOKUP($C8,'Distribution (large) tables'!$D$3:$S$8,13,FALSE) -> 2.2071733 | J8: D165 | K8: =VLOOKUP($J8,'Distribution (large) tables'!$D$47:$S$51,10,FALSE) -> 0.37037037 | L8: =VLOOKUP($J8,'Distribution (large) tables'!$D$38:$S$41,10,FALSE) -> 0.24096386 | M8: =VLOOKUP($J8,'Distribution (large) tables'!$D$26:$S$32,10,FALSE) -> 0.60913706 | N8: =VLOOKUP($J8,'Distribution (large) tables'!$D$14:$S$20,10,FALSE) -> 0.29268293 | O8: =VLOOKUP($J8,'Distribution (large) tables'!$D$3:$S$8,10,FALSE) -> 0.40130424 | S8: D165 | T8: =VLOOKUP($S8,'Distribution (large) tables'!$D$47:$S$51,14,FALSE) -> 15.432099 | U8: =VLOOKUP($S8,'Distribution (large) tables'!$D$38:$S$41,14,FALSE) -> 0.72289157 | V8: =VLOOKUP($S8,'Distribution (large) tables'!$D$26:$S$32,14,FALSE) -> 1.6243655 | W8: =VLOOKUP($S8,'Distribution (large) tables'!$D$14:$S$20,14,FALSE) -> 7.0243902 | X8: =VLOOKUP($S8,'Distribution (large) tables'!$D$3:$S$8,14,FALSE) -> 15.851517
C9: D170 | D9: =VLOOKUP($C9,'Distribution (medium) tables'!$D$37:$S$49,13,FALSE) -> 1.2931034 | E9: =VLOOKUP($C9,'Distribution (large) tables'!$D$14:$S$20,13,FALSE) -> 0.3003003 | F9: =VLOOKUP($C9,'Distribution (large) tables'!$D$3:$S$8,13,FALSE) -> 0.60790274 | J9: D170 | K9: =VLOOKUP($J9,'Distribution (medium) tables'!$D$72:$S$84,10,FALSE) -> 0.41322314 | L9: =VLOOKUP($J9,'Distribution (medium) tables'!$D$55:$S$66,10,FALSE) -> 0.42881647 | M9: =VLOOKUP($J9,'Distribution (medium) tables'!$D$37:$S$49,10,FALSE) -> 0.43103448 | N9: =VLOOKUP($J9,'Distribution (large) tables'!$D$14:$S$20,10,FALSE) -> 0.3003003 | O9: =VLOOKUP($J9,'Distribution (large) tables'!$D$3:$S$8,10,FALSE) -> 0 | S9: D170 | T9: =VLOOKUP($S9,'Distribution (medium) tables'!$D$72:$S$84,14,FALSE) -> 2.0661157 | U9: =VLOOKUP($S9,'Distribution (medium) tables'!$D$55:$S$66,14,FALSE) -> 10.205832 | V9: =VLOOKUP($S9,'Distribution (medium) tables'!$D$37:$S$49,14,FALSE) -> 8.1896552 | W9: =VLOOKUP($S9,'Distribution (large) tables'!$D$14:$S$20,14,FALSE) -> 9.009009 | X9: =VLOOKUP($S9,'Distribution (large) tables'!$D$3:$S$8,14,FALSE) -> 0
C10: D180 | D10: =VLOOKUP($C10,'Distribution (medium) tables'!$D$37:$S$49,13,FALSE) -> 4.4334975 | E10: =VLOOKUP($C10,'Distribution (large) tables'!$D$14:$S$20,13,FALSE) -> 1.3071895 | F10: =VLOOKUP($C10,'Distribution (large) tables'!$D$3:$S$8,13,FALSE) -> 2.9661017 | J10: D180 | K10: =VLOOKUP($J10,'Distribution (medium) tables'!$D$72:$S$84,10,FALSE) -> 0 | L10: =VLOOKUP($J10,'Distribution (medium) tables'!$D$55:$S$66,10,FALSE) -> 1.4018692 | M10: =VLOOKUP($J10,'Distribution (medium) tables'!$D$37:$S$49,10,FALSE) -> 0.98522167 | N10: =VLOOKUP($J10,'Distribution (large) tables'!$D$14:$S$20,10,FALSE) -> 0.32679739 | O10: =VLOOKUP($J10,'Distribution (large) tables'!$D$3:$S$8,10,FALSE) -> 1.059322 | S10: D180 | T10: =VLOOKUP($S10,'Distribution (medium) tables'!$D$72:$S$84,14,FALSE) -> 0 | U10: =VLOOKUP($S10,'Distribution (medium) tables'!$D$55:$S$66,14,FALSE) -> 30.373832 | V10: =VLOOKUP($S10,'Distribution (medium) tables'!$D$37:$S$49,14,FALSE) -> 20.197044 | W10: =VLOOKUP($S10,'Distribution (large) tables'!$D$14:$S$20,14,FALSE) -> 7.1895425 | X10: =VLOOKUP($S10,'Distribution (large) tables'!$D$3:$S$8,14,FALSE) -> 11.864407
B11: Distribution ≥ 250 employees | D11: ='Distribution (large) tables'!P33 -> 5.0468968 | E11: ='Distribution (large) tables'!P21 -> 2.9582598 | F11: ='Distribution (large) tables'!P9 -> 2.6759088 | I11: Distribution ≥ 250 employees | K11: ='Distribution (large) tables'!M52 -> 1.0087424 | L11: ='Distribution (large) tables'!M42 -> 0.60224839 | M11: ='Distribution (large) tables'!M33 -> 1.3107417 | N11: ='Distribution (large) tables'!M21 -> 0.82493126 | O11: ='Distribution (large) tables'!M9 -> 1.0316757 | R11: Distribution ≥ 250 employees | T11: ='Distribution (large) tables'!Q52 -> 26.664425 | U11: ='Distribution (large) tables'!Q42 -> 11.476178 | V11: ='Distribution (large) tables'!Q33 -> 15.7289 | W11: ='Distribution (large) tables'!Q21 -> 18.148488 | X11: ='Distribution (large) tables'!Q9 -> 14.25002
B12: Distribution Total | D12: ='Distribution (large) tables'!P34 -> 5.4568475 | E12: ='Distribution (large) tables'!P22 -> 4.0770425 | F12: ='Distribution (large) tables'!P10 -> 3.5956549 | I12: Distribution Total | K12: ='Distribution (large) tables'!M53 -> 1.9021525 | L12: ='Distribution (large) tables'!M43 -> 1.3944445 | M12: ='Distribution (large) tables'!M34 -> 1.8302585 | N12: ='Distribution (large) tables'!M22 -> 1.4377363 | O12: ='Distribution (large) tables'!M10 -> 1.7339453 | R12: Distribution Total | T12: ='Distribution (large) tables'!Q53 -> 32.609674 | U12: ='Distribution (large) tables'!Q43 -> 34.418927 | V12: ='Distribution (large) tables'!Q34 -> 27.862026 | W12: ='Distribution (large) tables'!Q22 -> 18.469382 | X12: ='Distribution (large) tables'!Q10 -> 22.313138
B13: Industry Total | D13: ='Distribution (large) tables'!P35 -> 3.6823885 | E13: ='Distribution (large) tables'!P23 -> 2.8573081 | F13: ='Distribution (large) tables'!P11 -> 2.5035165 | I13: Industry Total | K13: ='Distribution (large) tables'!M54 -> 1.2206952 | L13: ='Distribution (large) tables'!M44 -> 1.0993812 | M13: ='Distribution (large) tables'!M35 -> 1.2192603 | N13: ='Distribution (large) tables'!M23 -> 0.94836664 | O13: ='Distribution (large) tables'!M11 -> 1.0753937 | R13: Industry Total | T13: ='Distribution (large) tables'!Q54 -> 21.270615 | U13: ='Distribution (large) tables'!Q44 -> 21.570203 | V13: ='Distribution (large) tables'!Q35 -> 18.33378 | W13: ='Distribution (large) tables'!Q23 -> 12.650689 | X13: ='Distribution (large) tables'!Q11 -> 14.664068
B15: Select your respondent code -> | F15: 1 | K15: Select your respondent code -> | O15: 1 | T15: Select your respondent code -> | X15: 1
D16: 1 | E16: 2 | F16: 3 | K16: 1 | L16: 2 | M16: 3 | N16: 4 | O16: 5 | T16: 1 | U16: 2 | V16: 3 | W16: 4 | X16: 5
C18: TRIFR Respondent | D18: 2015 | E18: 2016 | F18: 2017 | J18: LTIFR Respondent | K18: 2013 | L18: 2014 | M18: 2015 | N18: 2016 | O18: 2017 | S18: LTISR Respondent | T18: 2013 | U18: 2014 | V18: 2015 | W18: 2016 | X18: 2017
C19: =INDEX($C$5:$C$10,$F$15,1) -> D75 | D19: =INDEX($D$5:$F$10,$F$15,D$16) -> 5.4495913 | E19: =INDEX($D$5:$F$10,$F$15,E$16) -> 4.359673 | F19: =INDEX($D$5:$F$10,$F$15,F$16) -> 5.0802139 | J19: =INDEX($J$5:$J$10,$O$15,1) -> D75 | K19: =INDEX($K$5:$O$10,$O$15,K$16) -> 0.28735632 | L19: =INDEX($K$5:$O$10,$O$15,L$16) -> 0.55401662 | M19: =INDEX($K$5:$O$10,$O$15,M$16) -> 1.6348774 | N19: =INDEX($K$5:$O$10,$O$15,N$16) -> 0.81743869 | O19: =INDEX($K$5:$O$10,$O$15,O$16) -> 2.4064171 | S19: =INDEX($S$5:$S$10,$X$15,1) -> D75 | T19: =INDEX($T$5:$X$10,$X$15,T$16) -> 0.57471264 | U19: =INDEX($T$5:$X$10,$X$15,U$16) -> 51.800554 | V19: =INDEX($T$5:$X$10,$X$15,V$16) -> 70.844687 | W19: =INDEX($T$5:$X$10,$X$15,W$16) -> 1.9073569 | X19: =INDEX($T$5:$X$10,$X$15,X$16) -> 29.946524
C20: Large-size distribution | D20: =D11 -> 5.0468968 | E20: =E11 -> 2.9582598 | F20: =F11 -> 2.6759088 | J20: Large-size distribution | K20: =K11 -> 1.0087424 | L20: =L11 -> 0.60224839 | M20: =M11 -> 1.3107417 | N20: =N11 -> 0.82493126 | O20: =O11 -> 1.0316757 | S20: Large-size distribution | T20: =T11 -> 26.664425 | U20: =U11 -> 11.476178 | V20: =V11 -> 15.7289 | W20: =W11 -> 18.148488 | X20: =X11 -> 14.25002
C21: Distribution Total | D21: =D12 -> 5.4568475 | E21: =E12 -> 4.0770425 | F21: =F12 -> 3.5956549 | J21: Distribution Total | K21: =K12 -> 1.9021525 | L21: =L12 -> 1.3944445 | M21: =M12 -> 1.8302585 | N21: =N12 -> 1.4377363 | O21: =O12 -> 1.7339453 | S21: Distribution Total | T21: =T12 -> 32.609674 | U21: =U12 -> 34.418927 | V21: =V12 -> 27.862026 | W21: =W12 -> 18.469382 | X21: =X12 -> 22.313138
C22: Industry Total | D22: =D13 -> 3.6823885 | E22: =E13 -> 2.8573081 | F22: =F13 -> 2.5035165 | J22: Industry Total | K22: =K13 -> 1.2206952 | L22: =L13 -> 1.0993812 | M22: =M13 -> 1.2192603 | N22: =N13 -> 0.94836664 | O22: =O13 -> 1.0753937 | S22: Industry Total | T22: =T13 -> 21.270615 | U22: =U13 -> 21.570203 | V22: =V13 -> 18.33378 | W22: =W13 -> 12.650689 | X22: =X13 -> 14.664068

Sheet Retail tables
B2: Retail YE June 2017 | D2: Code | E2: FTEs | F2: Fatalities | G2: LTIs | H2: RWIs | I2: MTIs | J2: TRIs | K2: Days Lost to LTIs | L2: Days of Restricted Work | M2: LTIFR | N2: RWIFR | O2: MTIFR | P2: TRIFR | Q2: LTISR | R2: RWISR | S2: ATLR to LTIs
B3: Peer group respondents | D3: R170 | E3: 554 | F3: 0 | G3: 1 | H3: 1 | I3: 5 | J3: 7 | K3: 1 | L3: 2 | M3: 0.18050542 | N3: 0.18050542 | O3: 0.90252708 | P3: 1.2635379 | Q3: 0.18050542 | R3: 0.36101083 | S3: 1
D4: R175 | E4: 593 (NCD) | F4: 0 | G4: 7 | H4: 0 | I4: 13 | J4: 20 | K4: 85 | L4: 0 | M4: 1.1804384 | N4: 0 | O4: 2.1922428 | P4: 3.3726813 | Q4: 14.333895 | R4: 0 | S4: 12.142857
D5: R180 | E5: 529 | F5: 0 | G5: 8 | H5: 2 | I5: 4 | J5: 14 | K5: 48 | L5: 8 | M5: 1.5122873 | N5: 0.37807183 | O5: 0.75614367 | P5: 2.6465028 | Q5: 9.073724 | R5: 1.5122873 | S5: 6
D6: R185 | E6: 627 | F6: 0 | G6: 1 | H6: 3 | I6: 0 | J6: 4 | K6: 3 | L6: 14 | M6: 0.15948963 | N6: 0.4784689 | O6: 0 | P6: 0.63795853 | Q6: 0.4784689 | R6: 2.2328549 | S6: 3
D7: R187 | E7: 17.25 | F7: 0 | G7: 0 | H7: 0 | I7: 0 | J7: 0 | K7: 0 | L7: 0 | M7: 0 | N7: 0 | O7: 0 | P7: 0 | Q7: 0 | R7: 0 | S7: 0
D8: R190 | E8: 301.72 | F8: 0 | G8: 0 | H8: 0 | I8: 0 | J8: 0 | K8: 0 | L8: 0 | M8: 0 | N8: 0 | O8: 0 | P8: 0 | Q8: 0 | R8: 0 | S8: 0
B9: Peer group summary | E9: 2621.97 | F9: 0 | G9: 17 | H9: 6 | I9: 22 | J9: 45 | K9: 137 | L9: 24 | M9: 0.64836745 | N9: 0.22883557 | O9: 0.83906376 | P9: 1.7162668 | Q9: 5.2250789 | R9: 0.91534228 | S9: 8.0588235
B10: Industry summary | E10: 11623.65 | F10: 0 | G10: 125 | H10: 30 | I10: 136 | J10: 291 | K10: 1704.5 | L10: 608 | M10: 1.0753937 | N10: 0.25809448 | O10: 1.1700283 | P10: 2.5035165 | Q10: 14.664068 | R10: 5.2307148 | S10: 13.636
B12: Retail YE June 2016 | D12: Code | E12: FTEs | F12: Fatalities | G12: LTIs | H12: RWIs | I12: MTIs | J12: TRIs | K12: Days Lost to LTIs | L12: Days of Restricted Work | M12: LTIFR | N12: RWIFR | O12: MTIFR | P12: TRIFR | Q12: LTISR | R12: RWISR | S12: ATLR to LTIs
B13: Peer group respondents | D13: R170 | E13: 629.43 | F13: 0 | G13: 6 | H13: 0 | I13: 3 | J13: 9 | K13: 83 | L13: 47 | M13: 0.95324341 | N13: 0 | O13: 0.47662171 | P13: 1.4298651 | Q13: 13.186534 | R13: 7.4670734 | S13: 13.833333
D14: R175 | E14: 616 (CNU) | F14: 0 | G14: 1 | H14: N/A | I14: 7 | J14: 8 | K14: 20 | L14: N/A | M14: 0.16233766 | N14: N/A | O14: 1.1363636 | P14: 1.2987013 | Q14: 3.2467532 | R14: N/A | S14: 20
D15: R180 | E15: 441 | F15: 0 | G15: 3 | H15: 0 | I15: 5 | J15: 8 | K15: 67 | L15: 0 | M15: 0.68027211 | N15: 0 | O15: 1.1337868 | P15: 1.814059 | Q15: 15.192744 | R15: 0 | S15: 22.333333
D16: R185 | E16: 614 | F16: 0 | G16: 3 | H16: 3 | I16: 3 | J16: 9 | K16: 30 | L16: 26 | M16: 0.48859935 | N16: 0.48859935 | O16: 0.48859935 | P16: 1.465798 | Q16: 4.8859935 | R16: 4.2345277 | S16: 10
D17: R187 | E17: 12 (CNU) | F17: 0 | G17: 0 | H17: N/A | I17: 0 | J17: 0 | K17: 0 | L17: 0 | M17: 0 | N17: N/A | O17: 0 | P17: 0 | Q17: 0 | R17: N/A | S17: 0
D18: R190 | E18: 310.971 | F18: 0 | G18: 4 | H18: 0 | I18: 1 | J18: 5 | K18: 63 | L18: 128 | M18: 1.2862936 | N18: 0 | O18: 0.32157339 | P18: 1.607867 | Q18: 20.259124 | R18: 41.161394 | S18: 15.75
B19: Peer group summary | E19: 2623.401 | F19: 0 | G19: 17 | H19: 3 | I19: 19 | J19: 39 | K19: 263 | L19: 201 | M19: 0.64801378 | N19: 0.11862396 | O19: 0.7242507 | P19: 1.4908884 | Q19: 10.025154 | R19: 10.073163 | S19: 15.470588
B20: Industry summary | E20: 11493.445 | F20: 0 | G20: 109 | H20: 28 | I20: 177 | J20: 314 | K20: 1454 | L20: 706 | M20: 0.94836664 | N20: 0.36893319 | O20: 1.5400082 | P20: 2.8573081 | Q20: 12.650689 | R20: 9.3023869 | S20: 13.33945
B22: Retail YE June 2015 | D22: Code | E22: FTEs | F22: Fatalities | G22: LTIs | H22: RWIs | I22: MTIs | J22: TRIs | K22: Days Lost to LTIs | L22: Days of Restricted Work | M22: LTIFR | N22: RWIFR | O22: MTIFR | P22: TRIFR | Q22: LTISR | R22: RWISR | S22: ATLR to LTIs
B23: Peer group respondents | D23: R170 | E23: 716 | F23: 0 | G23: 2 | H23: 0 | I23: 5 | J23: 7 | K23: 2 | L23: 0 | M23: 0.27932961 | N23: 0 | O23: 0.69832402 | P23: 0.97765363 | Q23: 0.27932961 | R23: 0 | S23: 1
D24: R175 | E24: 610 (CNU) | F24: 0 | G24: 4 | H24: N/A | I24: 4 | J24: 8 | K24: 53 | L24: N/A | M24: 0.6557377 | N24: N/A | O24: 0.6557377 | P24: 1.3114754 | Q24: 8.6885246 | R24: N/A | S24: 13.25
D25: R178 | E25: 70 (NCD) | F25: 0 | G25: 1 | H25: 0 | I25: 8 | J25: 9 | K25: 12 | L25: 0 | M25: 1.4285714 | N25: 0 | O25: 11.428571 | P25: 12.857143 | Q25: 17.142857 | R25: 0 | S25: 12
D26: R180 | E26: 418 | F26: 0 | G26: 12 | H26: 2 | I26: 3 | J26: 17 | K26: 52 | L26: 8 | M26: 2.8708134 | N26: 0.4784689 | O26: 0.71770335 | P26: 4.0669856 | Q26: 12.440191 | R26: 1.9138756 | S26: 4.3333333
D27: R185 | E27: 610 | F27: 0 | G27: 6 | H27: 3 | I27: 7 | J27: 16 | K27: 110 | L27: 35 | M27: 0.98360656 | N27: 0.49180328 | O27: 1.147541 | P27: 2.6229508 | Q27: 18.032787 | R27: 5.7377049 | S27: 18.333333
D28: R190 | E28: 272 | F28: 0 | G28: 0 | H28: 0 | I28: 2 | J28: 2 | K28: 0 | L28: 0 | M28: 0 | N28: 0 | O28: 0.73529412 | P28: 0.73529412 | Q28: 0 | R28: 0 | S28: 0
D29: R195 | E29: 14 (NCD) | F29: 0 | G29: 0 | H29: N/A | I29: 0 | J29: 0 | K29: 0 | L29: N/A | M29: 0 | N29: N/A | O29: 0 | P29: 0 | Q29: 0 | R29: N/A | S29: 0
B30: Peer group summary | E30: 2710 | F30: 0 | G30: 25 | H30: 5 | I30: 29 | J30: 59 | K30: 229 | L30: 43 | M30: 0.92250923 | N30: 0.23969319 | O30: 1.0701107 | P30: 2.2323131 | Q30: 8.4501845 | R30: 2.0613615 | S30: 9.16
B31: Industry summary | E31: 11810.439 | F31: 0 | G31: 144 | H31: 53 | I31: 200 | J31: 397 | K31: 2165.3 | L31: 581 | M31: 1.2192603 | N31: 0.76971114 | O31: 1.6934171 | P31: 3.6823885 | Q31: 18.33378 | R31: 9.1027308 | S31: 15.036806
B33: Retail YE June 2014 | D33: Code | E33: FTEs | F33: Fatalities | G33: LTIs | H33: RWIs | I33: MTIs | J33: TRIs | K33: Days Lost to LTIs | L33: Days of Restricted Work | M33: LTIFR | N33: RWIFR | O33: MTIFR | P33: TRIFR | Q33: LTISR | R33: RWISR | S33: ATLR to LTIs
B34: Peer group respondents | D34: R170 | E34: 645.57 | F34: 0 | G34: 4 | H34: - | I34: - | J34: - | K34: 16.5 | L34: - | M34: 0.61960748 | N34: - | O34: - | P34: - | Q34: 2.5558808 | R34: - | S34: 4.125
D35: R175 | E35: 328 (NCD) | F35: 0 | G35: 6 | H35: - | I35: - | J35: - | K35: 145 | L35: - | M35: 1.8292683 | N35: - | O35: - | P35: - | Q35: 44.207317 | R35: - | S35: 24.166667
D36: R178 | E36: 30 (NCD) | F36: 0 | G36: 1 | H36: - | I36: - | J36: - | K36: 49 | L36: - | M36: 3.3333333 | N36: - | O36: - | P36: - | Q36: 163.33333 | R36: - | S36: 49
D37: R180 | E37: 393 | F37: 0 | G37: 9 | H37: - | I37: - | J37: - | K37: 40 | L37: - | M37: 2.2900763 | N37: - | O37: - | P37: - | Q37: 10.178117 | R37: - | S37: 4.4444444
D38: R185 | E38: 703 | F38: 0 | G38: 4 | H38: - | I38: - | J38: - | K38: 120 | L38: - | M38: 0.56899004 | N38: - | O38: - | P38: - | Q38: 17.069701 | R38: - | S38: 30
D39: R190 | E39: 249.9 | F39: 0 | G39: 0 | H39: - | I39: - | J39: - | K39: 0 | L39: - | M39: 0 | N39: - | O39: - | P39: - | Q39: 0 | R39: - | S39: 0
D40: R195 | E40: 14.5 (NCD) | F40: 0 | G40: 1 | H40: - | I40: - | J40: - | K40: 4 | L40: - | M40: 6.8965517 | N40: - | O40: - | P40: - | Q40: 27.586207 | R40: - | S40: 4
B41: Peer group summary | E41: 2363.97 | F41: 0 | G41: 25 | H41: - | I41: - | J41: - | K41: 374.5 | L41: - | M41: 1.057543 | N41: - | O41: - | P41: - | Q41: 15.841995 | R41: - | S41: 14.98
B42: Industry summary | E42: 11642.913 | F42: 0 | G42: 128 | H42: - | I42: - | J42: - | K42: 2511.4 | L42: - | M42: 1.0993812 | N42: - | O42: - | P42: - | Q42: 21.570203 | R42: - | S42: 19.620313
B44: Retail YE June 2013 | D44: Code | E44: FTEs | F44: Fatalities | G44: LTIs | H44: RWIs | I44: MTIs | J44: TRIs | K44: Days Lost to LTIs | L44: Days of Restricted Work | M44: LTIFR | N44: RWIFR | O44: MTIFR | P44: TRIFR | Q44: LTISR | R44: RWISR | S44: ATLR to LTIs
B45: Peer group respondents | D45: R170 | E45: 432 (NCD) | F45: 0 | G45: 0 | H45: - | I45: - | J45: - | K45: 0 | L45: - | M45: 0 | N45: - | O45: - | P45: - | Q45: 0 | R45: - | S45: 0
D46: R175 | E46: 322 (NCD) | F46: 0 | G46: 7 | H46: - | I46: - | J46: - | K46: 67 | L46: - | M46: 2.173913 | N46: - | O46: - | P46: - | Q46: 20.807453 | R46: - | S46: 9.5714286
D47: R178 | E47: 67 (NCD) | F47: 0 | G47: 0 | H47: - | I47: - | J47: - | K47: 0 | L47: - | M47: 0 | N47: - | O47: - | P47: - | Q47: 0 | R47: - | S47: 0
D48: R180 | E48: 310 | F48: 0 | G48: 0 | H48: - | I48: - | J48: - | K48: 0 | L48: - | M48: 0 | N48: - | O48: - | P48: - | Q48: 0 | R48: - | S48: 0
D49: R185 | E49: 714 | F49: 0 | G49: 8 | H49: - | I49: - | J49: - | K49: 287 | L49: - | M49: 1.1204482 | N49: - | O49: - | P49: - | Q49: 40.196078 | R49: - | S49: 35.875
D50: R187 | E50: 5.3 (NCD) | F50: 0 | G50: 0 | H50: - | I50: - | J50: - | K50: 0 | L50: - | M50: 0 | N50: - | O50: - | P50: - | Q50: 0 | R50: - | S50: 0
D51: R190 | E51: 217 (NCD) | F51: 0 | G51: 0 | H51: - | I51: - | J51: - | K51: 0 | L51: - | M51: 0 | N51: - | O51: - | P51: - | Q51: 0 | R51: - | S51: 0
D52: R195 | E52: 16 (NCD) | F52: 0 | G52: 1 | H52: - | I52: - | J52: - | K52: 10 | L52: - | M52: 6.25 | N52: - | O52: - | P52: - | Q52: 62.5 | R52: - | S52: 10
B53: Peer group summary | E53: 2083.3 | F53: 0 | G53: 16 | H53: - | I53: - | J53: - | K53: 364 | L53: - | M53: 0.76801229 | N53: - | O53: - | P53: - | Q53: 17.47228 | R53: - | S53: 22.75
B54: Industry summary | E54: 11468.874 | F54: 2 | G54: 140 | H54: - | I54: - | J54: - | K54: 2439.5 | L54: - | M54: 1.2206952 | N54: - | O54: - | P54: - | Q54: 21.270615 | R54: - | S54: 17.425

Sheet Retail graphs
B2: Total Recordable Injury Frequency Rate | I2: Lost Time Injury Frequency Rate | R2: Lost Time Injury Severity Rate
B3: TRIFR - 5-year results - Retail peer group | D3: Year Ended | I3: LTIFR - 5-year results - Retail peer group | K3: Year Ended | R3: LTISR - 5-year results - Retail peer group | T3: Year Ended
D4: 2015 | E4: 2016 | F4: 2017 | K4: 2013 | L4: 2014 | M4: 2015 | N4: 2016 | O4: 2017 | T4: 2013 | U4: 2014 | V4: 2015 | W4: 2016 | X4: 2017
B5: Respondent code | C5: R170 | D5: =VLOOKUP($C5,'Retail tables'!$D$23:$S$29,13,FALSE) -> 0.97765363 | E5: =VLOOKUP($C5,'Retail tables'!$D$13:$S$18,13,FALSE) -> 1.4298651 | F5: =VLOOKUP($C5,'Retail tables'!$D$3:$S$8,13,FALSE) -> 1.2635379 | I5: Respondent code | J5: R170 | K5: =VLOOKUP($J5,'Retail tables'!$D$45:$S$52,10,FALSE) -> 0 | L5: =VLOOKUP($J5,'Retail tables'!$D$34:$S$40,10,FALSE) -> 0.61960748 | M5: =VLOOKUP($J5,'Retail tables'!$D$23:$S$29,10,FALSE) -> 0.27932961 | N5: =VLOOKUP($J5,'Retail tables'!$D$13:$S$18,10,FALSE) -> 0.95324341 | O5: =VLOOKUP($J5,'Retail tables'!$D$3:$S$8,10,FALSE) -> 0.18050542 | R5: Respondent code | S5: R170 | T5: =VLOOKUP($S5,'Retail tables'!$D$45:$S$52,14,FALSE) -> 0 | U5: =VLOOKUP($S5,'Retail tables'!$D$34:$S$40,14,FALSE) -> 2.5558808 | V5: =VLOOKUP($S5,'Retail tables'!$D$23:$S$29,14,FALSE) -> 0.27932961 | W5: =VLOOKUP($S5,'Retail tables'!$D$13:$S$18,14,FALSE) -> 13.186534 | X5: =VLOOKUP($S5,'Retail tables'!$D$3:$S$8,14,FALSE) -> 0.18050542
C6: R175 | D6: =VLOOKUP($C6,'Retail tables'!$D$23:$S$29,13,FALSE) -> 1.3114754 | E6: =VLOOKUP($C6,'Retail tables'!$D$13:$S$18,13,FALSE) -> 1.2987013 | F6: =VLOOKUP($C6,'Retail tables'!$D$3:$S$8,13,FALSE) -> 3.3726813 | J6: R175 | K6: =VLOOKUP($J6,'Retail tables'!$D$45:$S$52,10,FALSE) -> 2.173913 | L6: =VLOOKUP($J6,'Retail tables'!$D$34:$S$40,10,FALSE) -> 1.8292683 | M6: =VLOOKUP($J6,'Retail tables'!$D$23:$S$29,10,FALSE) -> 0.6557377 | N6: =VLOOKUP($J6,'Retail tables'!$D$13:$S$18,10,FALSE) -> 0.16233766 | O6: =VLOOKUP($J6,'Retail tables'!$D$3:$S$8,10,FALSE) -> 1.1804384 | S6: R175 | T6: =VLOOKUP($S6,'Retail tables'!$D$45:$S$52,14,FALSE) -> 20.807453 | U6: =VLOOKUP($S6,'Retail tables'!$D$34:$S$40,14,FALSE) -> 44.207317 | V6: =VLOOKUP($S6,'Retail tables'!$D$23:$S$29,14,FALSE) -> 8.6885246 | W6: =VLOOKUP($S6,'Retail tables'!$D$13:$S$18,14,FALSE) -> 3.2467532 | X6: =VLOOKUP($S6,'Retail tables'!$D$3:$S$8,14,FALSE) -> 14.333895
C7: R180 | D7: =VLOOKUP($C7,'Retail tables'!$D$23:$S$29,13,FALSE) -> 4.0669856 | E7: =VLOOKUP($C7,'Retail tables'!$D$13:$S$18,13,FALSE) -> 1.814059 | F7: =VLOOKUP($C7,'Retail tables'!$D$3:$S$8,13,FALSE) -> 2.6465028 | J7: R180 | K7: =VLOOKUP($J7,'Retail tables'!$D$45:$S$52,10,FALSE) -> 0 | L7: =VLOOKUP($J7,'Retail tables'!$D$34:$S$40,10,FALSE) -> 2.2900763 | M7: =VLOOKUP($J7,'Retail tables'!$D$23:$S$29,10,FALSE) -> 2.8708134 | N7: =VLOOKUP($J7,'Retail tables'!$D$13:$S$18,10,FALSE) -> 0.68027211 | O7: =VLOOKUP($J7,'Retail tables'!$D$3:$S$8,10,FALSE) -> 1.5122873 | S7: R180 | T7: =VLOOKUP($S7,'Retail tables'!$D$45:$S$52,14,FALSE) -> 0 | U7: =VLOOKUP($S7,'Retail tables'!$D$34:$S$40,14,FALSE) -> 10.178117 | V7: =VLOOKUP($S7,'Retail tables'!$D$23:$S$29,14,FALSE) -> 12.440191 | W7: =VLOOKUP($S7,'Retail tables'!$D$13:$S$18,14,FALSE) -> 15.192744 | X7: =VLOOKUP($S7,'Retail tables'!$D$3:$S$8,14,FALSE) -> 9.073724
C8: R185 | D8: =VLOOKUP($C8,'Retail tables'!$D$23:$S$29,13,FALSE) -> 2.6229508 | E8: =VLOOKUP($C8,'Retail tables'!$D$13:$S$18,13,FALSE) -> 1.465798 | F8: =VLOOKUP($C8,'Retail tables'!$D$3:$S$8,13,FALSE) -> 0.63795853 | J8: R185 | K8: =VLOOKUP($J8,'Retail tables'!$D$45:$S$52,10,FALSE) -> 1.1204482 | L8: =VLOOKUP($J8,'Retail tables'!$D$34:$S$40,10,FALSE) -> 0.56899004 | M8: =VLOOKUP($J8,'Retail tables'!$D$23:$S$29,10,FALSE) -> 0.98360656 | N8: =VLOOKUP($J8,'Retail tables'!$D$13:$S$18,10,FALSE) -> 0.48859935 | O8: =VLOOKUP($J8,'Retail tables'!$D$3:$S$8,10,FALSE) -> 0.15948963 | S8: R185 | T8: =VLOOKUP($S8,'Retail tables'!$D$45:$S$52,14,FALSE) -> 40.196078 | U8: =VLOOKUP($S8,'Retail tables'!$D$34:$S$40,14,FALSE) -> 17.069701 | V8: =VLOOKUP($S8,'Retail tables'!$D$23:$S$29,14,FALSE) -> 18.032787 | W8: =VLOOKUP($S8,'Retail tables'!$D$13:$S$18,14,FALSE) -> 4.8859935 | X8: =VLOOKUP($S8,'Retail tables'!$D$3:$S$8,14,FALSE) -> 0.4784689
C9: R187 | D9: =VLOOKUP($C9,'Retail tables'!$D$23:$S$29,13,FALSE) -> #N/A | E9: =VLOOKUP($C9,'Retail tables'!$D$13:$S$18,13,FALSE) -> 0 | F9: =VLOOKUP($C9,'Retail tables'!$D$3:$S$8,13,FALSE) -> 0 | J9: R187 | K9: =VLOOKUP($J9,'Retail tables'!$D$45:$S$52,10,FALSE) -> 0 | L9: =VLOOKUP($J9,'Retail tables'!$D$34:$S$40,10,FALSE) -> #N/A | M9: =VLOOKUP($J9,'Retail tables'!$D$23:$S$29,10,FALSE) -> #N/A | N9: =VLOOKUP($J9,'Retail tables'!$D$13:$S$18,10,FALSE) -> 0 | O9: =VLOOKUP($J9,'Retail tables'!$D$3:$S$8,10,FALSE) -> 0 | S9: R187 | T9: =VLOOKUP($S9,'Retail tables'!$D$45:$S$52,14,FALSE) -> 0 | U9: =VLOOKUP($S9,'Retail tables'!$D$34:$S$40,14,FALSE) -> #N/A | V9: =VLOOKUP($S9,'Retail tables'!$D$23:$S$29,14,FALSE) -> #N/A | W9: =VLOOKUP($S9,'Retail tables'!$D$13:$S$18,14,FALSE) -> 0 | X9: =VLOOKUP($S9,'Retail tables'!$D$3:$S$8,14,FALSE) -> 0
C10: R190 | D10: =VLOOKUP($C10,'Retail tables'!$D$23:$S$29,13,FALSE) -> 0.73529412 | E10: =VLOOKUP($C10,'Retail tables'!$D$13:$S$18,13,FALSE) -> 1.607867 | F10: =VLOOKUP($C10,'Retail tables'!$D$3:$S$8,13,FALSE) -> 0 | J10: R190 | K10: =VLOOKUP($J10,'Retail tables'!$D$45:$S$52,10,FALSE) -> 0 | L10: =VLOOKUP($J10,'Retail tables'!$D$34:$S$40,10,FALSE) -> 0 | M10: =VLOOKUP($J10,'Retail tables'!$D$23:$S$29,10,FALSE) -> 0 | N10: =VLOOKUP($J10,'Retail tables'!$D$13:$S$18,10,FALSE) -> 1.2862936 | O10: =VLOOKUP($J10,'Retail tables'!$D$3:$S$8,10,FALSE) -> 0 | S10: R190 | T10: =VLOOKUP($S10,'Retail tables'!$D$45:$S$52,14,FALSE) -> 0 | U10: =VLOOKUP($S10,'Retail tables'!$D$34:$S$40,14,FALSE) -> 0 | V10: =VLOOKUP($S10,'Retail tables'!$D$23:$S$29,14,FALSE) -> 0 | W10: =VLOOKUP($S10,'Retail tables'!$D$13:$S$18,14,FALSE) -> 20.259124 | X10: =VLOOKUP($S10,'Retail tables'!$D$3:$S$8,14,FALSE) -> 0
B11: Retail | D11: ='Retail tables'!P30 -> 2.2323131 | E11: ='Retail tables'!P19 -> 1.4908884 | F11: ='Retail tables'!P9 -> 1.7162668 | I11: Retail | K11: ='Retail tables'!M53 -> 0.76801229 | L11: ='Retail tables'!M41 -> 1.057543 | M11: ='Retail tables'!M30 -> 0.92250923 | N11: ='Retail tables'!M19 -> 0.64801378 | O11: ='Retail tables'!M9 -> 0.64836745 | R11: Retail | T11: ='Retail tables'!Q53 -> 17.47228 | U11: ='Retail tables'!Q41 -> 15.841995 | V11: ='Retail tables'!Q30 -> 8.4501845 | W11: ='Retail tables'!Q19 -> 10.025154 | X11: ='Retail tables'!Q9 -> 5.2250789
B12: Industry Total | D12: ='Retail tables'!P31 -> 3.6823885 | E12: ='Retail tables'!P20 -> 2.8573081 | F12: ='Retail tables'!P10 -> 2.5035165 | I12: Industry Total | K12: ='Retail tables'!M54 -> 1.2206952 | L12: ='Retail tables'!M42 -> 1.0993812 | M12: ='Retail tables'!M31 -> 1.2192603 | N12: ='Retail tables'!M20 -> 0.94836664 | O12: ='Retail tables'!M10 -> 1.0753937 | R12: Industry Total | T12: ='Retail tables'!Q54 -> 21.270615 | U12: ='Retail tables'!Q42 -> 21.570203 | V12: ='Retail tables'!Q31 -> 18.33378 | W12: ='Retail tables'!Q20 -> 12.650689 | X12: ='Retail tables'!Q10 -> 14.664068
B14: Select your respondent code -> | F14: 1 | K14: Select your respondent code -> | O14: 1 | U14: Select your respondent code -> | X14: 1
D15: 1 | E15: 2 | F15: 3 | K15: 1 | L15: 2 | M15: 3 | N15: 4 | O15: 5 | T15: 1 | U15: 2 | V15: 3 | W15: 4 | X15: 5
C17: TRIFR Respondent | D17: 2015 | E17: 2016 | F17: 2017 | J17: LTIFR Respondent | K17: 2013 | L17: 2014 | M17: 2015 | N17: 2016 | O17: 2017 | S17: LTISR Respondent | T17: 2013 | U17: 2014 | V17: 2015 | W17: 2016 | X17: 2017
C18: =INDEX($C$5:$C$10,$F$14,1) -> R170 | D18: =INDEX($D$5:$F$10,$F$14,$D$15) -> 0.97765363 | E18: =INDEX($D$5:$F$10,$F$14,$E$15) -> 1.4298651 | F18: =INDEX($D$5:$F$10,$F$14,$F$15) -> 1.2635379 | J18: =INDEX($J$5:$J$10,$O$14,1) -> R170 | K18: =INDEX($K$5:$O$10,$O$14,K$15) -> 0 | L18: =INDEX($K$5:$O$10,$O$14,L$15) -> 0.61960748 | M18: =INDEX($K$5:$O$10,$O$14,M$15) -> 0.27932961 | N18: =INDEX($K$5:$O$10,$O$14,N$15) -> 0.95324341 | O18: =INDEX($K$5:$O$10,$O$14,O$15) -> 0.18050542 | S18: =INDEX($S$5:$S$10,$X$14,1) -> R170 | T18: =INDEX($T$5:$X$10,$X$14,T$15) -> 0 | U18: =INDEX($T$5:$X$10,$X$14,U$15) -> 2.5558808 | V18: =INDEX($T$5:$X$10,$X$14,V$15) -> 0.27932961 | W18: =INDEX($T$5:$X$10,$X$14,W$15) -> 13.186534 | X18: =INDEX($T$5:$X$10,$X$14,X$15) -> 0.18050542
C19: Retail | D19: =D11 -> 2.2323131 | E19: =E11 -> 1.4908884 | F19: =F11 -> 1.7162668 | J19: Retail | K19: =K11 -> 0.76801229 | L19: =L11 -> 1.057543 | M19: =M11 -> 0.92250923 | N19: =N11 -> 0.64801378 | O19: =O11 -> 0.64836745 | S19: Retail | T19: =T11 -> 17.47228 | U19: =U11 -> 15.841995 | V19: =V11 -> 8.4501845 | W19: =W11 -> 10.025154 | X19: =X11 -> 5.2250789
C20: Industry Total | D20: =D12 -> 3.6823885 | E20: =E12 -> 2.8573081 | F20: =F12 -> 2.5035165 | J20: Industry Total | K20: =K12 -> 1.2206952 | L20: =L12 -> 1.0993812 | M20: =M12 -> 1.2192603 | N20: =N12 -> 0.94836664 | O20: =O12 -> 1.0753937 | S20: Industry Total | T20: =T12 -> 21.270615 | U20: =U12 -> 21.570203 | V20: =V12 -> 18.33378 | W20: =W12 -> 12.650689 | X20: =X12 -> 14.664068
