Workbook
Name InputOrgGroupingByYear: [1]Input!$AR$2:$AR$1031
Name LTIFRBySector: OFFSET('[1]Tables by Sector'!$BS$3,0,0,COUNTA('[1]Tables by Sector'!$BS:$BS)-1,6)
Name LTISRBySector: OFFSET('[1]Tables by Sector'!$DS$4,0,0,COUNTA('[1]Tables by Sector'!$DS:$DS)-1,6)
Name MTIFRBySector: OFFSET('[1]Tables by Sector'!$BE$3,0,0,COUNTA('[1]Tables by Sector'!$BE:$BE)-1,6)
Name TRIFRBySector: OFFSET('[1]Tables by Sector'!$BZ$3,0,0,COUNTA('[1]Tables by Sector'!$BZ:$BZ)-1,6)

Sheet Contents
B3: Electricity Supply Industry - Safety Performance Trends and Benchmark by Sector and Peer Groups
B4: Five years to 30 June 2017
C6: This benchmarking document is provided by the EEA to survey respondents. It complements the 2017 ESI Safety Performance Indicators Report and enables respondents to extract data, tables and graphs for internal use and reporting. Information contained in this document are confidential and should not be made accessible outside of the participating ESI companies, to the public, or to government agencies.
C9: All frequency and severity rates gathered in this document are based on 200,000 hours worked (equivalent to 100 FTEs), and all reporting years end on 30 June.
C10: Note that LTI data and related indicators do not include Fatalities, as defined in the 2017 EEA survey specifications.
C12: The table of contents below contains hyperlinks that will direct you to the appropriate spreadsheets and cells.
B14: Table of Contents
C16: 1. Industry summary data
D17: Full summary table of industry data for YE 2017, 2016, 2015, 2014, 2013 | K17: *Select year in drop-down list in table
D18: Table: Fatalities by Sector since 2004 | H18: Graph: ESI LTI number and LTIFR since 2008
D19: Table: LTIs by Sector since 2008 | H19: Graph: LTIFR by Sector since 2008
D20: Table: LTIFR by Sector since 2008 | H20: Graph: LTIFR by Sector and FTE Grouping since 2008
D21: Table: LTISR by Sector since 2008 | H21: Graph: LTISR by Sector since 2008
D22: Table: ATLR to LTIs by Sector since 2008 | H22: Graph: ATLR to LTIs by Sector since 2008
C23: 2. Individual Respondents Benchmark Tables
D24: Full benchmark tables for YE 2017, 2016, 2015, 2014 and 2013 for each peer group:
E25: Generation sector
E26: Transmission sector
E27: Small-size distribution sector (less than 100 employees)
E28: Medium-size distribution sector (between 100 and 250 employees)
E29: Large-size distribution sector (more than 250 employees)
E30: Retail sector
C31: 3. Individual Respondents Benchmark Graphs
D32: TRIFR, LTIFR and LTISR benchmark graphs for YE 2017, 2016, 2015, 2014 and 2013 for each peer group:
E33: Generation sector | L33: *Select respondent code in drop-down list in tables
E34: Transmission sector
E35: Small-size distribution sector (less than 100 employees)
E36: Medium-size distribution sector (between 100 and 250 employees)
E37: Large-size distribution sector (more than 250 employees)
E38: Retail sector
D39: Note: LTIFR data available in the white area (left), LTISR data on the grey area (right) of the sheet
C41: Note to Distribution respondents: Distribution respondents that have switched peer groups in previous years will find their LTIFR and LTISR benchmark results among the tables in the peer groups to which they belonged in previous years. Their LTIFR and LTISR charts are however inserted among the peer group in which they belong in 2017.
C43: Abbreviations and formulas used in this document:
C44: General
C45: NCD | D45: No Contractor Data provided
C46: CNU | D46: Contractors Not Used
C47: FTE | D47: Full-time Equivalent Employees. One full-time employee is considered to work 40 hours a week, 50 weeks a year.
C48: Injuries or illnesses
C49: LTI | D49: Lost Time Injury or Illness
C50: RWI | D50: Restricted Work Injury or Illness
...

Sheet All Industry - Data
A1: Year ended 2017 | B1: 1
A2: Year ended 2016 | B2: 2 | C2: Year ended 2017 | D2: FTEs | E2: Fatalities | F2: LTIs | G2: RWIs | H2: MTIs | I2: TRIs | J2: Days Lost to LTIs | K2: Days of Restricted Work | L2: LTIFR | M2: RWIFR | N2: MTIFR | O2: TRIFR | P2: LTISR | Q2: RWISR | R2: ATLR to LTIs
A3: Year ended 2015 | B3: 3 | C3: Generation | D3: 1817.44 | E3: 0 | F3: 10 | G3: 5 | H3: 17 | I3: 32 | J3: 96 | K3: 79 | L3: 0.55022449 | M3: 0.27511225 | N3: 0.93538164 | O3: 1.7607184 | P3: 5.2821551 | Q3: 4.3467735 | R3: 9.6
A4: Year ended 2014 | B4: 4 | C4: Transmission | D4: 1705.4053 | E4: 0 | F4: 3 | G4: 2 | H4: 12 | I4: 17 | J4: 249 | K4: 20 | L4: 0.17591126 | M4: 0.11727417 | N4: 0.70364503 | O4: 0.99683046 | P4: 14.600634 | Q4: 1.1727417 | R4: 83
A5: Year ended 2013 | B5: 5 | C5: Distribution < 100 employees | D5: 433.085 | E5: 0 | F5: 15 | G5: 1 | H5: 7 | I5: 23 | J5: 349.5 | K5: 5 | L5: 3.4635233 | M5: 0.23090156 | N5: 1.6163109 | O5: 5.3107358 | P5: 80.700094 | Q5: 1.1545078 | R5: 23.3
C6: Distribution ≥ 100 and < 250 empl. | D6: 1944 | E6: 0 | F6: 48 | G6: 11 | H6: 32 | I6: 91 | J6: 431 | K6: 178 | L6: 2.4691358 | M6: 0.56584362 | N6: 1.6460905 | O6: 4.68107 | P6: 22.170782 | Q6: 9.1563786 | R6: 8.9791667
C7: Distribution ≥ 250 employees | D7: 3101.75 | E7: 0 | F7: 32 | G7: 5 | H7: 46 | I7: 83 | J7: 442 | K7: 302 | L7: 1.0316757 | M7: 0.16119932 | N7: 1.4830338 | O7: 2.6759088 | P7: 14.25002 | Q7: 9.7364391 | R7: 13.8125
C8: Distribution total | D8: 5478.835 | E8: 0 | F8: 95 | G8: 17 | H8: 85 | I8: 197 | J8: 1222.5 | K8: 485 | L8: 1.7339453 | M8: 0.31028494 | N8: 1.5514247 | O8: 3.5956549 | P8: 22.313138 | Q8: 8.8522469 | R8: 12.868421
C9: Retail | D9: 2621.97 | E9: 0 | F9: 17 | G9: 6 | H9: 22 | I9: 45 | J9: 137 | K9: 24 | L9: 0.64836745 | M9: 0.22883557 | N9: 0.83906376 | O9: 1.7162668 | P9: 5.2250789 | Q9: 0.91534228 | R9: 8.0588235
C10: Industry | D10: 11623.65 | E10: 0 | F10: 125 | G10: 30 | H10: 136 | I10: 291 | J10: 1704.5 | K10: 608 | L10: 1.0753937 | M10: 0.25809448 | N10: 1.1700283 | O10: 2.5035165 | P10: 14.664068 | Q10: 5.2307148 | R10: 13.636
C12: Year ended 2016 | D12: FTEs | E12: Fatalities | F12: LTIs | G12: RWIs | H12: MTIs | I12: TRIs | J12: Days Lost to LTIs | K12: Days of Restricted Work | L12: LTIFR | M12: RWIFR | N12: MTIFR | O12: TRIFR | P12: LTISR | Q12: RWISR | R12: ATLR to LTIs
C13: Generation | D13: 1770.549 | E13: 0 | F13: 6 | G13: 8 | H13: 20 | I13: 34 | J13: 55 | K13: 201 | L13: 0.33887794 | M13: 0.49488138 | N13: 1.1295931 | O13: 1.9633525 | P13: 3.1063811 | Q13: 12.433895 | R13: 9.1666667
C14: Transmission | D14: 1674.3002 | E14: 0 | F14: 8 | G14: N/A | H14: 18 | I14: 26 | J14: 134 | K14: 0 | L14: 0.47781158 | M14: N/A | N14: 1.0750761 | O14: 1.5528876 | P14: 8.0033439 | Q14: N/A | R14: 16.75
C15: Distribution < 100 employees | D15: 345.5 | E15: 0 | F15: 12 | G15: 0 | H15: 12 | I15: 24 | J15: 51 | K15: 33 | L15: 3.4732272 | M15: 0 | N15: 3.4732272 | O15: 6.9464544 | P15: 14.761216 | Q15: 14.25486 | R15: 4.25
C16: Distribution ≥ 100 and < 250 empl. | D16: 1806.695 | E16: 0 | F16: 39 | G16: 13 | H16: 44 | I16: 96 | J16: 357 | K16: 182 | L16: 2.1586377 | M16: 0.86782377 | N16: 2.4353862 | O16: 5.4618477 | P16: 19.759838 | Q16: 12.149533 | R16: 9.1538462
C17: Distribution ≥ 250 employees | D17: 3273 | E17: 0 | F17: 27 | G17: 4 | H17: 64 | I17: 95 | J17: 594 | K17: 89 | L17: 0.82493126 | M17: 0.17793594 | N17: 1.9553926 | O17: 2.9582598 | P17: 18.148488 | Q17: 3.9590747 | R17: 22
C18: Distribution total | D18: 5425.195 | E18: 0 | F18: 78 | G18: 17 | H18: 120 | I18: 215 | J18: 1002 | K18: 304 | L18: 1.4377363 | M18: 0.42740415 | N18: 2.2119021 | O18: 4.0770425 | P18: 18.469382 | Q18: 7.6429918 | R18: 12.846154
C19: Retail | D19: 2623.401 | E19: 0 | F19: 17 | G19: 3 | H19: 19 | I19: 39 | J19: 263 | K19: 201 | L19: 0.64801378 | M19: 0.11862396 | N19: 0.7242507 | O19: 1.4908884 | P19: 10.025154 | Q19: 10.073163 | R19: 15.470588
C20: Industry | D20: 11493.445 | E20: 0 | F20: 109 | G20: 28 | H20: 177 | I20: 314 | J20: 1454 | K20: 706 | L20: 0.94836664 | M20: 0.36893319 | N20: 1.5400082 | O20: 2.8573081 | P20: 12.650689 | Q20: 9.3023869 | R20: 13.33945
C22: Year ended 2015 | D22: FTEs | E22: Fatalities | F22: LTIs | G22: RWIs | H22: MTIs | I22: TRIs | J22: Days Lost to LTIs | K22: Days of Restricted Work | L22: LTIFR | M22: RWIFR | N22: MTIFR | O22: TRIFR | P22: LTISR | Q22: RWISR | R22: ATLR to LTIs
C23: Generation | D23: 1806.5 | E23: 0 | F23: 6 | G23: 4 | H23: 16 | I23: 26 | J23: 70 | K23: 114 | L23: 0.33213396 | M23: 0.23760024 | N23: 0.88569056 | O23: 1.4554248 | P23: 3.8748962 | Q23: 6.7716068 | R23: 11.666667
C24: Transmission | D24: 1830.2305 | E24: 0 | F24: 13 | G24: N/A | H24: 34 | I24: 47 | J24: 344 | K24: N/A | L24: 0.71029307 | M24: N/A | N24: 1.8576896 | O24: 2.5679826 | P24: 18.795447 | Q24: N/A | R24: 26.461538
C25: Distribution < 100 employees | D25: 267.2 | E25: 0 | F25: 15 | G25: 0 | H25: 3 | I25: 18 | J25: 100.3 | K25: 2 | L25: 5.6137725 | M25: 0 | N25: 1.3089005 | O25: 6.922673 | P25: 37.537425 | Q25: 1.2254902 | R25: 6.6866667
C26: Distribution ≥ 100 and < 250 empl. | D26: 2068.509 | E26: 0 | F26: 44 | G26: 21 | H26: 49 | I26: 114 | J26: 930 | K26: 171 | L26: 2.127136 | M26: 1.4482759 | N26: 2.368856 | O26: 5.9442679 | P26: 44.95992 | Q26: 13.153846 | R26: 21.136364
C27: Distribution ≥ 250 employees | D27: 3128 | E27: 0 | F27: 41 | G27: 23 | H27: 69 | I27: 133 | J27: 492 | K27: 251 | L27: 1.3107417 | M27: 1.5302728 | N27: 2.2058824 | O27: 5.0468968 | P27: 15.7289 | Q27: 21.826087 | R27: 12
C28: Distribution total | D28: 5463.709 | E28: 0 | F28: 100 | G28: 44 | H28: 121 | I28: 265 | J28: 1522.3 | K28: 424 | L28: 1.8302585 | M28: 1.4119761 | N28: 2.2146128 | O28: 5.4568475 | P28: 27.862026 | Q28: 16.225318 | R28: 15.223
C29: Retail | D29: 2710 | E29: 0 | F29: 25 | G29: 5 | H29: 29 | I29: 59 | J29: 229 | K29: 43 | L29: 0.92250923 | M29: 0.23969319 | N29: 1.0701107 | O29: 2.2323131 | P29: 8.4501845 | Q29: 2.0613615 | R29: 9.16
C30: Industry | D30: 11810.439 | E30: 0 | F30: 144 | G30: 53 | H30: 200 | I30: 397 | J30: 2165.3 | K30: 581 | L30: 1.2192603 | M30: 0.76971114 | N30: 1.6934171 | O30: 3.6823885 | P30: 18.33378 | Q30: 9.1027308 | R30: 15.036806
C32: Year ended 2014 | D32: FTEs | E32: Fatalities | F32: LTIs | G32: RWIs | H32: MTIs | I32: TRIs | J32: Days Lost to LTIs | K32: Days of Restricted Work | L32: LTIFR | M32: RWIFR | N32: MTIFR | O32: TRIFR | P32: LTISR | Q32: RWISR | R32: ATLR to LTIs
C33: Generation | D33: 1979.91 | E33: 0 | F33: 12 | G33: - | H33: - | I33: - | J33: 55 | K33: - | L33: 0.60608816 | M33: - | N33: - | O33: - | P33: 2.777904 | Q33: - | R33: 4.5833333
C34: Transmission | D34: 1848.8341 | E34: 0 | F34: 15 | G34: - | H34: - | I34: - | J34: 206 | K34: - | L34: 0.81132213 | M34: - | N34: - | O34: - | P34: 11.142157 | Q34: - | R34: 13.733333
C35: Distribution < 100 employees | D35: 573 | E35: 0 | F35: 17 | G35: - | H35: - | I35: - | J35: 471.6 | K35: - | L35: 2.9668412 | M35: - | N35: - | O35: - | P35: 82.303665 | Q35: - | R35: 27.741176
C36: Distribution ≥ 100 and < 250 empl. | D36: 1888.399 | E36: 0 | F36: 41 | G36: - | H36: - | I36: - | J36: 1061.3 | K36: - | L36: 2.1711513 | M36: - | N36: - | O36: - | P36: 56.201046 | Q36: - | R36: 25.885366
C37: Distribution ≥ 250 employees | D37: 2988.8 | E37: 0 | F37: 18 | G37: - | H37: - | I37: - | J37: 343 | K37: - | L37: 0.60224839 | M37: - | N37: - | O37: - | P37: 11.476178 | Q37: - | R37: 19.055556
C38: Distribution total | D38: 5450.199 | E38: 0 | F38: 76 | G38: - | H38: - | I38: - | J38: 1875.9 | K38: - | L38: 1.3944445 | M38: - | N38: - | O38: - | P38: 34.418927 | Q38: - | R38: 24.682895
C39: Retail | D39: 2363.97 | E39: 0 | F39: 25 | G39: - | H39: - | I39: - | J39: 374.5 | K39: - | L39: 1.057543 | M39: - | N39: - | O39: - | P39: 15.841995 | Q39: - | R39: 14.98
C40: Industry | D40: 11642.913 | E40: 0 | F40: 128 | G40: - | H40: - | I40: - | J40: 2511.4 | K40: - | L40: 1.0993812 | M40: - | N40: - | O40: - | P40: 21.570203 | Q40: - | R40: 19.620313
C42: Year ended 2013 | D42: FTEs | E42: Fatalities | F42: LTIs | G42: RWIs | H42: MTIs | I42: TRIs | J42: Days Lost to LTIs | K42: Days of Restricted Work | L42: LTIFR | M42: RWIFR | N42: MTIFR | O42: TRIFR | P42: LTISR | Q42: RWISR | R42: ATLR to LTIs
C43: Generation | D43: 1494.8 | E43: 0 | F43: 11 | G43: - | H43: - | I43: - | J43: 261 | K43: - | L43: 0.7358844 | M43: - | N43: - | O43: - | P43: 17.46053 | Q43: - | R43: 23.727273
C44: Transmission | D44: 2581 | E44: 1 | F44: 12 | G44: - | H44: - | I44: - | J44: 83 | K44: - | L44: 0.46493607 | M44: - | N44: - | O44: - | P44: 3.2158078 | Q44: - | R44: 6.9166667
...

Sheet All Industry
B2: Electricity Supply Industry - Summary of safety data and performance indicators
B3: 1 | C3: FTEs | D3: Fatalities | E3: LTIs | F3: RWIs | G3: MTIs | H3: TRIs | I3: Days Lost to LTIs | J3: Days of Restricted Work | K3: LTIFR | L3: RWIFR | M3: MTIFR | N3: TRIFR | O3: LTISR | P3: RWISR | Q3: ATLR to LTIs
B4: Generation | C4: =OFFSET('All Industry - Data'!D3,($B$3-1)*10,0) -> 1817.44 | D4: =OFFSET('All Industry - Data'!E3,($B$3-1)*10,0) -> 0 | E4: =OFFSET('All Industry - Data'!F3,($B$3-1)*10,0) -> 10 | F4: =OFFSET('All Industry - Data'!G3,($B$3-1)*10,0) -> 5 | G4: =OFFSET('All Industry - Data'!H3,($B$3-1)*10,0) -> 17 | H4: =OFFSET('All Industry - Data'!I3,($B$3-1)*10,0) -> 32 | I4: =OFFSET('All Industry - Data'!J3,($B$3-1)*10,0) -> 96 | J4: =OFFSET('All Industry - Data'!K3,($B$3-1)*10,0) -> 79 | ... Q4: =OFFSET('All Industry - Data'!R3,($B$3-1)*10,0) -> 9.6
B5: Transmission | C5: =OFFSET('All Industry - Data'!D4,($B$3-1)*10,0) -> 1705.4053 | D5: =OFFSET('All Industry - Data'!E4,($B$3-1)*10,0) -> 0 | E5: =OFFSET('All Industry - Data'!F4,($B$3-1)*10,0) -> 3 | F5: =OFFSET('All Industry - Data'!G4,($B$3-1)*10,0) -> 2 | G5: =OFFSET('All Industry - Data'!H4,($B$3-1)*10,0) -> 12 | H5: =OFFSET('All Industry - Data'!I4,($B$3-1)*10,0) -> 17 | I5: =OFFSET('All Industry - Data'!J4,($B$3-1)*10,0) -> 249 | J5: =OFFSET('All Industry - Data'!K4,($B$3-1)*10,0) -> 20 | ... Q5: =OFFSET('All Industry - Data'!R4,($B$3-1)*10,0) -> 83
B6: Distribution < 100 employees | C6: =OFFSET('All Industry - Data'!D5,($B$3-1)*10,0) -> 433.085 | D6: =OFFSET('All Industry - Data'!E5,($B$3-1)*10,0) -> 0 | E6: =OFFSET('All Industry - Data'!F5,($B$3-1)*10,0) -> 15 | F6: =OFFSET('All Industry - Data'!G5,($B$3-1)*10,0) -> 1 | G6: =OFFSET('All Industry - Data'!H5,($B$3-1)*10,0) -> 7 | H6: =OFFSET('All Industry - Data'!I5,($B$3-1)*10,0) -> 23 | I6: =OFFSET('All Industry - Data'!J5,($B$3-1)*10,0) -> 349.5 | J6: =OFFSET('All Industry - Data'!K5,($B$3-1)*10,0) -> 5 | ... Q6: =OFFSET('All Industry - Data'!R5,($B$3-1)*10,0) -> 23.3
B7: Distribution ≥ 100 and < 250 empl. | C7: =OFFSET('All Industry - Data'!D6,($B$3-1)*10,0) -> 1944 | D7: =OFFSET('All Industry - Data'!E6,($B$3-1)*10,0) -> 0 | E7: =OFFSET('All Industry - Data'!F6,($B$3-1)*10,0) -> 48 | F7: =OFFSET('All Industry - Data'!G6,($B$3-1)*10,0) -> 11 | G7: =OFFSET('All Industry - Data'!H6,($B$3-1)*10,0) -> 32 | H7: =OFFSET('All Industry - Data'!I6,($B$3-1)*10,0) -> 91 | I7: =OFFSET('All Industry - Data'!J6,($B$3-1)*10,0) -> 431 | J7: =OFFSET('All Industry - Data'!K6,($B$3-1)*10,0) -> 178 | ... Q7: =OFFSET('All Industry - Data'!R6,($B$3-1)*10,0) -> 8.9791667
B8: Distribution ≥ 250 employees | C8: =OFFSET('All Industry - Data'!D7,($B$3-1)*10,0) -> 3101.75 | D8: =OFFSET('All Industry - Data'!E7,($B$3-1)*10,0) -> 0 | E8: =OFFSET('All Industry - Data'!F7,($B$3-1)*10,0) -> 32 | F8: =OFFSET('All Industry - Data'!G7,($B$3-1)*10,0) -> 5 | G8: =OFFSET('All Industry - Data'!H7,($B$3-1)*10,0) -> 46 | H8: =OFFSET('All Industry - Data'!I7,($B$3-1)*10,0) -> 83 | I8: =OFFSET('All Industry - Data'!J7,($B$3-1)*10,0) -> 442 | J8: =OFFSET('All Industry - Data'!K7,($B$3-1)*10,0) -> 302 | ... Q8: =OFFSET('All Industry - Data'!R7,($B$3-1)*10,0) -> 13.8125
B9: Distribution total | C9: =OFFSET('All Industry - Data'!D8,($B$3-1)*10,0) -> 5478.835 | D9: =OFFSET('All Industry - Data'!E8,($B$3-1)*10,0) -> 0 | E9: =OFFSET('All Industry - Data'!F8,($B$3-1)*10,0) -> 95 | F9: =OFFSET('All Industry - Data'!G8,($B$3-1)*10,0) -> 17 | G9: =OFFSET('All Industry - Data'!H8,($B$3-1)*10,0) -> 85 | H9: =OFFSET('All Industry - Data'!I8,($B$3-1)*10,0) -> 197 | I9: =OFFSET('All Industry - Data'!J8,($B$3-1)*10,0) -> 1222.5 | J9: =OFFSET('All Industry - Data'!K8,($B$3-1)*10,0) -> 485 | ... Q9: =OFFSET('All Industry - Data'!R8,($B$3-1)*10,0) -> 12.868421
B10: Retail | C10: =OFFSET('All Industry - Data'!D9,($B$3-1)*10,0) -> 2621.97 | D10: =OFFSET('All Industry - Data'!E9,($B$3-1)*10,0) -> 0 | E10: =OFFSET('All Industry - Data'!F9,($B$3-1)*10,0) -> 17 | F10: =OFFSET('All Industry - Data'!G9,($B$3-1)*10,0) -> 6 | G10: =OFFSET('All Industry - Data'!H9,($B$3-1)*10,0) -> 22 | H10: =OFFSET('All Industry - Data'!I9,($B$3-1)*10,0) -> 45 | I10: =OFFSET('All Industry - Data'!J9,($B$3-1)*10,0) -> 137 | J10: =OFFSET('All Industry - Data'!K9,($B$3-1)*10,0) -> 24 | ... Q10: =OFFSET('All Industry - Data'!R9,($B$3-1)*10,0) -> 8.0588235
B11: Industry | C11: =OFFSET('All Industry - Data'!D10,($B$3-1)*10,0) -> 11623.65 | D11: =OFFSET('All Industry - Data'!E10,($B$3-1)*10,0) -> 0 | E11: =OFFSET('All Industry - Data'!F10,($B$3-1)*10,0) -> 125 | F11: =OFFSET('All Industry - Data'!G10,($B$3-1)*10,0) -> 30 | G11: =OFFSET('All Industry - Data'!H10,($B$3-1)*10,0) -> 136 | H11: =OFFSET('All Industry - Data'!I10,($B$3-1)*10,0) -> 291 | I11: =OFFSET('All Industry - Data'!J10,($B$3-1)*10,0) -> 1704.5 | J11: =OFFSET('All Industry - Data'!K10,($B$3-1)*10,0) -> 608 | ... Q11: =OFFSET('All Industry - Data'!R10,($B$3-1)*10,0) -> 13.636
B13: Fatalities by Sector
B14: Year End | C14: Generation | D14: Transmission | E14: Distribution | F14: Retail | G14: Industry Total
B15: 2004 | C15: 0 | D15: 1 | E15: 0 | F15: 0 | G15: 1
B16: 2005 | C16: 0 | D16: 1 | E16: 1 | F16: 0 | G16: 2
B17: 2006 | C17: 0 | D17: 0 | E17: 0 | F17: 0 | G17: 0
B18: 2007 | C18: 0 | D18: 0 | E18: 1 | F18: 0 | G18: 1
B19: 2008 | C19: 0 | D19: 0 | E19: 2 | F19: 0 | G19: 2
B20: 2009 | C20: 0 | D20: 0 | E20: 0 | F20: 0 | G20: 0
B21: 2010 | C21: 0 | D21: 0 | E21: 1 | F21: 0 | G21: 1
B22: 2011 | C22: 0 | D22: 1 | E22: 1 | F22: 0 | G22: 2
B23: 2012 | C23: 0 | D23: 0 | E23: 0 | F23: 0 | G23: 0
B24: 2013 | C24: 0 | D24: 1 | E24: 1 | F24: 0 | G24: 2
B25: 2014 | C25: 0 | D25: 0 | E25: 0 | F25: 0 | G25: 0
B26: 2015 | C26: 0 | D26: 0 | E26: 0 | F26: 0 | G26: 0
... B28: 2017 | C28: 0 | D28: 0 | E28: 0 | F28: 0 | G28: 0
B30: LTIs by Sector
B31: Year End | C31: Generation | D31: Transmission | E31: Distribution < 100 FTEs | F31: Distribution >=100, < 250 FTEs | G31: Distribution >= 250 FTEs | H31: Distribution Total | I31: Retail | J31: Industry Total
B32: 2008 | C32: 17 | D32: 8 | E32: 38 | F32: 42 | G32: 12 | H32: 92 | I32: 18 | J32: 135
B33: 2009 | C33: 21 | D33: 5 | E33: 40 | F33: 61 | G33: 21 | H33: 122 | I33: 19 | J33: 167
B34: 2010 | C34: 18 | D34: 7 | E34: 33 | F34: 60 | G34: 27 | H34: 120 | I34: 26 | J34: 171
B35: 2011 | C35: 16 | D35: 12 | E35: 27 | F35: 51 | G35: 18 | H35: 96 | I35: 18 | J35: 142
B36: 2012 | C36: 8 | D36: 9 | E36: 30 | F36: 44 | G36: 24 | H36: 98 | I36: 19 | J36: 134
B37: 2013 | C37: 11 | D37: 12 | E37: 14 | F37: 57 | G37: 30 | H37: 101 | I37: 16 | J37: 140
B38: 2014 | C38: 12 | D38: 15 | E38: 17 | F38: 41 | G38: 18 | H38: 76 | I38: 25 | J38: 128
B39: 2015 | C39: 6 | D39: 13 | E39: 15 | F39: 44 | G39: 41 | H39: 100 | I39: 25 | J39: 144
B40: 2016 | C40: 6 | D40: 8 | E40: 12 | F40: 39 | G40: 27 | H40: 78 | I40: 17 | J40: 109
B41: 2017 | C41: 10 | D41: 3 | E41: 15 | F41: 48 | G41: 32 | H41: 95 | I41: 17 | J41: 125
B43: LTIFR by Sector
B44: Year End | C44: Generation | D44: Transmission | E44: Distribution < 100 FTEs | F44: Distribution >=100, < 250 FTEs | G44: Distribution >= 250 FTEs | H44: Distribution Total | I44: Retail | J44: Industry Total
B45: 2008 | C45: 0.76569678 | D45: 0.6285849 | E45: 5.5425904 | F45: 3.9040786 | G45: 0.71942446 | H45: 2.6826866 | I45: 0.55749992 | J45: 1.3299185
...

Sheet Generation tables
B2: Generation YE June 2017 | D2: Code | E2: FTEs | F2: Fatalities | G2: LTIs | H2: RWIs | I2: MTIs | J2: TRIs | K2: Days Lost to LTIs | L2: Days of Restricted Work | M2: LTIFR | N2: RWIFR | O2: MTIFR | P2: TRIFR | Q2: LTISR | R2: RWISR | S2: ATLR to LTIs
B3: Peer group respondents | D3: G10 | E3: 274.94 | F3: 0 | G3: 1 | H3: 1 | I3: 4 | J3: 6 | K3: 37 | L3: 8 | M3: 0.36371572 | N3: 0.36371572 | O3: 1.4548629 | P3: 2.1822943 | Q3: 13.457482 | R3: 2.9097258 | S3: 37
D4: G11 | E4: 74 | F4: 0 | G4: 0 | H4: 0 | I4: 0 | J4: 0 | K4: 0 | L4: 0 | M4: 0 | N4: 0 | O4: 0 | P4: 0 | Q4: 0 | R4: 0 | S4: 0
D5: G15 | E5: 112 (NCD) | F5: 0 | G5: 0 | H5: 0 | I5: 7 | J5: 7 | K5: 0 | L5: 0 | M5: 0 | N5: 0 | O5: 6.25 | P5: 6.25 | Q5: 0 | R5: 0 | S5: 0
D6: G20 | E6: 14.5 (NCD) | F6: 0 | G6: 0 | H6: 0 | I6: 0 | J6: 0 | K6: 0 | L6: 0 | M6: 0 | N6: 0 | O6: 0 | P6: 0 | Q6: 0 | R6: 0 | S6: 0
D7: G25 | E7: 497 | F7: 0 | G7: 2 | H7: 1 | I7: 5 | J7: 8 | K7: 13 | L7: 5 | M7: 0.40241449 | N7: 0.20120724 | O7: 1.0060362 | P7: 1.6096579 | Q7: 2.6156942 | R7: 1.0060362 | S7: 6.5
D8: G35 | E8: 428 | F8: 0 | G8: 6 | H8: 0 | I8: 1 | J8: 7 | K8: 45 | L8: 1 | M8: 1.4018692 | N8: 0 | O8: 0.23364486 | P8: 1.635514 | Q8: 10.514019 | R8: 0.23364486 | S8: 7.5
D9: G40 | E9: 396 | F9: 0 | G9: 0 | H9: 3 | I9: 0 | J9: 3 | K9: 0 | L9: 65 | M9: 0 | N9: 0.75757576 | O9: 0 | P9: 0.75757576 | Q9: 0 | R9: 16.414141 | S9: 0
D10: G50 | E10: 21 | F10: 0 | G10: 1 | H10: 0 | I10: 0 | J10: 1 | K10: 1 | L10: 0 | M10: 4.7619048 | N10: 0 | O10: 0 | P10: 4.7619048 | Q10: 4.7619048 | R10: 0 | S10: 1
B11: Peer group summary | E11: 1817.44 | F11: 0 | G11: 10 | H11: 5 | I11: 17 | J11: 32 | K11: 96 | L11: 79 | M11: 0.55022449 | N11: 0.27511225 | O11: 0.93538164 | P11: 1.7607184 | Q11: 5.2821551 | R11: 4.3467735 | S11: 9.6
B12: Industry summary | E12: 11623.65 | F12: 0 | G12: 125 | H12: 30 | I12: 136 | J12: 291 | K12: 1704.5 | L12: 608 | M12: 1.0753937 | N12: 0.25809448 | O12: 1.1700283 | P12: 2.5035165 | Q12: 14.664068 | R12: 5.2307148 | S12: 13.636
B14: Generation YE June 2016 | D14: Code | E14: FTEs | F14: Fatalities | G14: LTIs | H14: RWIs | I14: MTIs | J14: TRIs | K14: Days Lost to LTIs | L14: Days of Restricted Work | M14: LTIFR | N14: RWIFR | O14: MTIFR | P14: TRIFR | Q14: LTISR | R14: RWISR | S14: ATLR to LTIs
B15: Peer group respondents | D15: G10 | E15: 351.619 | F15: 0 | G15: 2 | H15: 3 | I15: 5 | J15: 10 | K15: 9 | L15: 139 | M15: 0.56879748 | N15: 0.85319622 | O15: 1.4219937 | P15: 2.8439874 | Q15: 2.5595886 | R15: 39.531425 | S15: 4.5
D16: G11 | E16: 7 | F16: 0 | G16: 0 | H16: 0 | I16: 0 | J16: 0 | K16: 0 | L16: 0 | M16: 0 | N16: 0 | O16: 0 | P16: 0 | Q16: 0 | R16: 0 | S16: 0
D17: G12 | E17: 1 (CNU) | F17: 0 | G17: 0 | H17: 0 | I17: 2 | J17: 2 | K17: 0 | L17: 0 | M17: 0 | N17: 0 | O17: 200 | P17: 200 | Q17: 0 | R17: 0 | S17: 0
D18: G15 | E18: 127 | F18: 0 | G18: 0 | H18: N/A | I18: 6 | J18: 6 | K18: 0 | L18: N/A | M18: 0 | N18: N/A | O18: 4.7244094 | P18: 4.7244094 | Q18: 0 | R18: N/A | S18: 0
D19: G20 | E19: 12 (NCD) | F19: 0 | G19: 0 | H19: 0 | I19: 0 | J19: 0 | K19: 0 | L19: 0 | M19: 0 | N19: 0 | O19: 0 | P19: 0 | Q19: 0 | R19: 0 | S19: 0
D20: G25 | E20: 478 | F20: 0 | G20: 2 | H20: 2 | I20: 0 | J20: 4 | K20: 29 | L20: 15 | M20: 0.41841004 | N20: 0.41841004 | O20: 0 | P20: 0.83682008 | Q20: 6.0669456 | R20: 3.1380753 | S20: 14.5
D21: G35 | E21: 456 | F21: 0 | G21: 1 | H21: 3 | I21: 1 | J21: 5 | K21: 16 | L21: 47 | M21: 0.21929825 | N21: 0.65789474 | O21: 0.21929825 | P21: 1.0964912 | Q21: 3.5087719 | R21: 10.307018 | S21: 16
D22: G40 | E22: 310.93 | F22: 0 | G22: 0 | H22: 0 | I22: 0 | J22: 0 | K22: 0 | L22: 0 | M22: 0 | N22: 0 | O22: 0 | P22: 0 | Q22: 0 | R22: 0 | S22: 0
D23: G50 | E23: 27 | F23: 0 | G23: 1 | H23: N/A | I23: 6 | J23: 7 | K23: 1 | L23: 0 | M23: 3.7037037 | N23: N/A | O23: 22.222222 | P23: 25.925926 | Q23: 3.7037037 | R23: N/A | S23: 1
B24: Peer group summary | E24: 1770.549 | F24: 0 | G24: 6 | H24: 8 | I24: 20 | J24: 34 | K24: 55 | L24: 201 | M24: 0.33887794 | N24: 0.49488138 | O24: 1.1295931 | P24: 1.9633525 | Q24: 3.1063811 | R24: 12.433895 | S24: 9.1666667
B25: Industry summary | E25: 11493.445 | F25: 0 | G25: 109 | H25: 28 | I25: 177 | J25: 314 | K25: 1454 | L25: 706 | M25: 0.94836664 | N25: 0.36893319 | O25: 1.5400082 | P25: 2.8573081 | Q25: 12.650689 | R25: 9.3023869 | S25: 13.33945
B27: Generation YE June 2015 | D27: Code | E27: FTEs | F27: Fatalities | G27: LTIs | H27: RWIs | I27: MTIs | J27: TRIs | K27: Days Lost to LTIs | L27: Days of Restricted Work | M27: LTIFR | N27: RWIFR | O27: MTIFR | P27: TRIFR | Q27: LTISR | R27: RWISR | S27: ATLR to LTIs
B28: Peer group respondents | D28: G10 | E28: 331 | F28: 0 | G28: 3 | H28: 1 | I28: 5 | J28: 9 | K28: 53 | L28: 38 | M28: 0.90634441 | N28: 0.3021148 | O28: 1.510574 | P28: 2.7190332 | Q28: 16.012085 | R28: 11.480363 | S28: 17.666667
D29: G11 | E29: 6.5 | F29: 0 | G29: 0 | H29: 0 | I29: 0 | J29: 0 | K29: 0 | L29: 0 | M29: 0 | N29: 0 | O29: 0 | P29: 0 | Q29: 0 | R29: 0 | S29: 0
D30: G12 | E30: 1 (NCD) | F30: 0 | G30: 0 | H30: N/A | I30: 0 | J30: 0 | K30: 0 | L30: N/A | M30: 0 | N30: N/A | O30: 0 | P30: 0 | Q30: 0 | R30: N/A | S30: 0
D31: G15 | E31: 119 | F31: 0 | G31: 0 | H31: N/A | I31: 2 | J31: 2 | K31: 0 | L31: N/A | M31: 0 | N31: N/A | O31: 1.6806723 | P31: 1.6806723 | Q31: 0 | R31: N/A | S31: 0
D32: G20 | E32: 10 (NCD) | F32: 0 | G32: 0 | H32: 0 | I32: 1 | J32: 1 | K32: 0 | L32: 0 | M32: 0 | N32: 0 | O32: 10 | P32: 10 | Q32: 0 | R32: 0 | S32: 0
D33: G25 | E33: 508 | F33: 0 | G33: 1 | H33: 0 | I33: 7 | J33: 8 | K33: 1 | L33: 0 | M33: 0.19685039 | N33: 0 | O33: 1.3779528 | P33: 1.5748031 | Q33: 0.19685039 | R33: 0 | S33: 1
D34: G35 | E34: 511 | F34: 0 | G34: 0 | H34: 3 | I34: 1 | J34: 4 | K34: 0 | L34: 34 | M34: 0 | N34: 0.58708415 | O34: 0.19569472 | P34: 0.78277886 | Q34: 0 | R34: 6.6536204 | S34: 0
D35: G40 | E35: 317 | F35: 0 | G35: 2 | H35: 0 | I35: 0 | J35: 2 | K35: 16 | L35: 42 | M35: 0.63091483 | N35: 0 | O35: 0 | P35: 0.63091483 | Q35: 5.0473186 | R35: 13.249211 | S35: 8
D36: G45 | E36: 3 (CNU) | F36: 0 | G36: 0 | H36: N/A | I36: 0 | J36: 0 | K36: 0 | L36: N/A | M36: 0 | N36: N/A | O36: 0 | P36: 0 | Q36: 0 | R36: N/A | S36: 0
B37: Peer group summary | E37: 1806.5 | F37: 0 | G37: 6 | H37: 4 | I37: 16 | J37: 26 | K37: 70 | L37: 114 | M37: 0.33213396 | N37: 0.23760024 | O37: 0.88569056 | P37: 1.4554248 | Q37: 3.8748962 | R37: 6.7716068 | S37: 11.666667
B38: Industry summary | E38: 11810.439 | F38: 0 | G38: 144 | H38: 53 | I38: 200 | J38: 397 | K38: 2165.3 | L38: 581 | M38: 1.2192603 | N38: 0.76971114 | O38: 1.6934171 | P38: 3.6823885 | Q38: 18.33378 | R38: 9.1027308 | S38: 15.036806
B40: Generation YE June 2014 | D40: Code | E40: FTEs | F40: Fatalities | G40: LTIs | H40: RWIs | I40: MTIs | J40: TRIs | K40: Days Lost to LTIs | L40: Days of Restricted Work | M40: LTIFR | N40: RWIFR | O40: MTIFR | P40: TRIFR | Q40: LTISR | R40: RWISR | S40: ATLR to LTIs
B41: Peer group respondents | D41: G10 | E41: 439.02 | F41: 0 | G41: 1 | H41: - | I41: - | J41: - | K41: 5 | L41: - | M41: 0.22778006 | N41: - | O41: - | P41: - | Q41: 1.1389003 | R41: - | S41: 5
D42: G11 | E42: 8.5 | F42: 0 | G42: 0 | H42: - | I42: - | J42: - | K42: 0 | L42: - | M42: 0 | N42: - | O42: - | P42: - | Q42: 0 | R42: - | S42: 0
D43: G12 | E43: 2 (NCD) | F43: 0 | G43: 0 | H43: - | I43: - | J43: - | K43: 0 | L43: - | M43: 0 | N43: - | O43: - | P43: - | Q43: 0 | R43: - | S43: 0
D44: G15 | E44: 109 | F44: 0 | G44: 0 | H44: - | I44: - | J44: - | K44: 0 | L44: - | M44: 0 | N44: - | O44: - | P44: - | Q44: 0 | R44: - | S44: 0
...

Sheet Generation graphs
B2: Total Recordable Injury Frequency Rate | I2: Lost Time Injury Frequency Rate | R2: Lost Time Injury Severity Rate
B3: TRIFR - 5-year results - Generation peer group | D3: Year Ended | I3: LTIFR - 5-year results - Generation peer group | K3: Year Ended | R3: LTISR - 5-year results - Generation peer group | T3: Year Ended
D4: 2015 | E4: 2016 | F4: 2017 | K4: 2013 | L4: 2014 | M4: 2015 | N4: 2016 | O4: 2017 | T4: 2013 | U4: 2014 | V4: 2015 | W4: 2016 | X4: 2017
B5: Respondent code | C5: G10 | D5: =VLOOKUP($C5,'Generation tables'!$D$28:$S$36,13,FALSE) -> 2.7190332 | E5: =VLOOKUP($C5,'Generation tables'!$D$15:$S$23,13,FALSE) -> 2.8439874 | F5: =VLOOKUP($C5,'Generation tables'!$D$3:$S$10,13,FALSE) -> 2.1822943 | I5: Respondent code | J5: G10 | K5: =VLOOKUP($J5,'Generation tables'!$D$54:$S$63,10,FALSE) -> 0 | L5: =VLOOKUP($J5,'Generation tables'!$D$41:$S$49,10,FALSE) -> 0.22778006 | M5: =VLOOKUP($J5,'Generation tables'!$D$28:$S$36,10,FALSE) -> 0.90634441 | N5: =VLOOKUP($J5,'Generation tables'!$D$15:$S$23,10,FALSE) -> 0.56879748 | O5: =VLOOKUP($J5,'Generation tables'!$D$3:$S$10,10,FALSE) -> 0.36371572 | R5: Respondent code | S5: G10 | T5: =VLOOKUP($S5,'Generation tables'!$D$54:$S$63,14,FALSE) -> 0 | U5: =VLOOKUP($S5,'Generation tables'!$D$41:$S$49,14,FALSE) -> 1.1389003 | V5: =VLOOKUP($S5,'Generation tables'!$D$28:$S$36,14,FALSE) -> 16.012085 | W5: =VLOOKUP($S5,'Generation tables'!$D$15:$S$23,14,FALSE) -> 2.5595886 | X5: =VLOOKUP($S5,'Generation tables'!$D$3:$S$10,14,FALSE) -> 13.457482
C6: G11 | D6: =VLOOKUP($C6,'Generation tables'!$D$28:$S$36,13,FALSE) -> 0 | E6: =VLOOKUP($C6,'Generation tables'!$D$15:$S$23,13,FALSE) -> 0 | F6: =VLOOKUP($C6,'Generation tables'!$D$3:$S$10,13,FALSE) -> 0 | J6: G11 | K6: =VLOOKUP($J6,'Generation tables'!$D$54:$S$63,10,FALSE) -> 0 | L6: =VLOOKUP($J6,'Generation tables'!$D$41:$S$49,10,FALSE) -> 0 | M6: =VLOOKUP($J6,'Generation tables'!$D$28:$S$36,10,FALSE) -> 0 | N6: =VLOOKUP($J6,'Generation tables'!$D$15:$S$23,10,FALSE) -> 0 | O6: =VLOOKUP($J6,'Generation tables'!$D$3:$S$10,10,FALSE) -> 0 | S6: G11 | T6: =VLOOKUP($S6,'Generation tables'!$D$54:$S$63,14,FALSE) -> 0 | U6: =VLOOKUP($S6,'Generation tables'!$D$41:$S$49,14,FALSE) -> 0 | V6: =VLOOKUP($S6,'Generation tables'!$D$28:$S$36,14,FALSE) -> 0 | W6: =VLOOKUP($S6,'Generation tables'!$D$15:$S$23,14,FALSE) -> 0 | X6: =VLOOKUP($S6,'Generation tables'!$D$3:$S$10,14,FALSE) -> 0
C7: G15 | D7: =VLOOKUP($C7,'Generation tables'!$D$28:$S$36,13,FALSE) -> 1.6806723 | E7: =VLOOKUP($C7,'Generation tables'!$D$15:$S$23,13,FALSE) -> 4.7244094 | F7: =VLOOKUP($C7,'Generation tables'!$D$3:$S$10,13,FALSE) -> 6.25 | J7: G15 | K7: =VLOOKUP($J7,'Generation tables'!$D$54:$S$63,10,FALSE) -> 1.2345679 | L7: =VLOOKUP($J7,'Generation tables'!$D$41:$S$49,10,FALSE) -> 0 | M7: =VLOOKUP($J7,'Generation tables'!$D$28:$S$36,10,FALSE) -> 0 | N7: =VLOOKUP($J7,'Generation tables'!$D$15:$S$23,10,FALSE) -> 0 | O7: =VLOOKUP($J7,'Generation tables'!$D$3:$S$10,10,FALSE) -> 0 | S7: G15 | T7: =VLOOKUP($S7,'Generation tables'!$D$54:$S$63,14,FALSE) -> 2.4691358 | U7: =VLOOKUP($S7,'Generation tables'!$D$41:$S$49,14,FALSE) -> 0 | V7: =VLOOKUP($S7,'Generation tables'!$D$28:$S$36,14,FALSE) -> 0 | W7: =VLOOKUP($S7,'Generation tables'!$D$15:$S$23,14,FALSE) -> 0 | X7: =VLOOKUP($S7,'Generation tables'!$D$3:$S$10,14,FALSE) -> 0
C8: G20 | D8: =VLOOKUP($C8,'Generation tables'!$D$28:$S$36,13,FALSE) -> 10 | E8: =VLOOKUP($C8,'Generation tables'!$D$15:$S$23,13,FALSE) -> 0 | F8: =VLOOKUP($C8,'Generation tables'!$D$3:$S$10,13,FALSE) -> 0 | J8: G20 | K8: =VLOOKUP($J8,'Generation tables'!$D$54:$S$63,10,FALSE) -> 0 | L8: =VLOOKUP($J8,'Generation tables'!$D$41:$S$49,10,FALSE) -> 0 | M8: =VLOOKUP($J8,'Generation tables'!$D$28:$S$36,10,FALSE) -> 0 | N8: =VLOOKUP($J8,'Generation tables'!$D$15:$S$23,10,FALSE) -> 0 | O8: =VLOOKUP($J8,'Generation tables'!$D$3:$S$10,10,FALSE) -> 0 | S8: G20 | T8: =VLOOKUP($S8,'Generation tables'!$D$54:$S$63,14,FALSE) -> 0 | U8: =VLOOKUP($S8,'Generation tables'!$D$41:$S$49,14,FALSE) -> 0 | V8: =VLOOKUP($S8,'Generation tables'!$D$28:$S$36,14,FALSE) -> 0 | W8: =VLOOKUP($S8,'Generation tables'!$D$15:$S$23,14,FALSE) -> 0 | X8: =VLOOKUP($S8,'Generation tables'!$D$3:$S$10,14,FALSE) -> 0
C9: G25 | D9: =VLOOKUP($C9,'Generation tables'!$D$28:$S$36,13,FALSE) -> 1.5748031 | E9: =VLOOKUP($C9,'Generation tables'!$D$15:$S$23,13,FALSE) -> 0.83682008 | F9: =VLOOKUP($C9,'Generation tables'!$D$3:$S$10,13,FALSE) -> 1.6096579 | J9: G25 | K9: =VLOOKUP($J9,'Generation tables'!$D$54:$S$63,10,FALSE) -> 0.8988764 | L9: =VLOOKUP($J9,'Generation tables'!$D$41:$S$49,10,FALSE) -> 0.85910653 | M9: =VLOOKUP($J9,'Generation tables'!$D$28:$S$36,10,FALSE) -> 0.19685039 | N9: =VLOOKUP($J9,'Generation tables'!$D$15:$S$23,10,FALSE) -> 0.41841004 | O9: =VLOOKUP($J9,'Generation tables'!$D$3:$S$10,10,FALSE) -> 0.40241449 | S9: G25 | T9: =VLOOKUP($S9,'Generation tables'!$D$54:$S$63,14,FALSE) -> 23.370787 | U9: =VLOOKUP($S9,'Generation tables'!$D$41:$S$49,14,FALSE) -> 3.0927835 | V9: =VLOOKUP($S9,'Generation tables'!$D$28:$S$36,14,FALSE) -> 0.19685039 | W9: =VLOOKUP($S9,'Generation tables'!$D$15:$S$23,14,FALSE) -> 6.0669456 | X9: =VLOOKUP($S9,'Generation tables'!$D$3:$S$10,14,FALSE) -> 2.6156942
C10: G35 | D10: =VLOOKUP($C10,'Generation tables'!$D$28:$S$36,13,FALSE) -> 0.78277886 | E10: =VLOOKUP($C10,'Generation tables'!$D$15:$S$23,13,FALSE) -> 1.0964912 | F10: =VLOOKUP($C10,'Generation tables'!$D$3:$S$10,13,FALSE) -> 1.635514 | J10: G35 | K10: =VLOOKUP($J10,'Generation tables'!$D$54:$S$63,10,FALSE) -> 0.73126143 | L10: =VLOOKUP($J10,'Generation tables'!$D$41:$S$49,10,FALSE) -> 0.59055118 | M10: =VLOOKUP($J10,'Generation tables'!$D$28:$S$36,10,FALSE) -> 0 | N10: =VLOOKUP($J10,'Generation tables'!$D$15:$S$23,10,FALSE) -> 0.21929825 | O10: =VLOOKUP($J10,'Generation tables'!$D$3:$S$10,10,FALSE) -> 1.4018692 | S10: G35 | T10: =VLOOKUP($S10,'Generation tables'!$D$54:$S$63,14,FALSE) -> 21.572212 | U10: =VLOOKUP($S10,'Generation tables'!$D$41:$S$49,14,FALSE) -> 1.7716535 | V10: =VLOOKUP($S10,'Generation tables'!$D$28:$S$36,14,FALSE) -> 0 | W10: =VLOOKUP($S10,'Generation tables'!$D$15:$S$23,14,FALSE) -> 3.5087719 | X10: =VLOOKUP($S10,'Generation tables'!$D$3:$S$10,14,FALSE) -> 10.514019
C11: G40 | D11: =VLOOKUP($C11,'Generation tables'!$D$28:$S$36,13,FALSE) -> 0.63091483 | E11: =VLOOKUP($C11,'Generation tables'!$D$15:$S$23,13,FALSE) -> 0 | F11: =VLOOKUP($C11,'Generation tables'!$D$3:$S$10,13,FALSE) -> 0.75757576 | J11: G40 | K11: =VLOOKUP($J11,'Generation tables'!$D$54:$S$63,10,FALSE) -> 0.52631579 | L11: =VLOOKUP($J11,'Generation tables'!$D$41:$S$49,10,FALSE) -> 0.95120327 | M11: =VLOOKUP($J11,'Generation tables'!$D$28:$S$36,10,FALSE) -> 0.63091483 | N11: =VLOOKUP($J11,'Generation tables'!$D$15:$S$23,10,FALSE) -> 0 | O11: =VLOOKUP($J11,'Generation tables'!$D$3:$S$10,10,FALSE) -> 0 | S11: G40 | T11: =VLOOKUP($S11,'Generation tables'!$D$54:$S$63,14,FALSE) -> 0.52631579 | U11: =VLOOKUP($S11,'Generation tables'!$D$41:$S$49,14,FALSE) -> 7.2925584 | V11: =VLOOKUP($S11,'Generation tables'!$D$28:$S$36,14,FALSE) -> 5.0473186 | W11: =VLOOKUP($S11,'Generation tables'!$D$15:$S$23,14,FALSE) -> 0 | X11: =VLOOKUP($S11,'Generation tables'!$D$3:$S$10,14,FALSE) -> 0
C12: G50 | D12: =VLOOKUP($C12,'Generation tables'!$D$28:$S$36,13,FALSE) -> #N/A | E12: =VLOOKUP($C12,'Generation tables'!$D$15:$S$23,13,FALSE) -> 25.925926 | F12: =VLOOKUP($C12,'Generation tables'!$D$3:$S$10,13,FALSE) -> 4.7619048 | J12: G50 | K12: =VLOOKUP($J12,'Generation tables'!$D$54:$S$63,10,FALSE) -> 4.2016807 | L12: =VLOOKUP($J12,'Generation tables'!$D$41:$S$49,10,FALSE) -> #N/A | M12: =VLOOKUP($J12,'Generation tables'!$D$28:$S$36,10,FALSE) -> #N/A | N12: =VLOOKUP($J12,'Generation tables'!$D$15:$S$23,10,FALSE) -> 3.7037037 | O12: =VLOOKUP($J12,'Generation tables'!$D$3:$S$10,10,FALSE) -> 4.7619048 | S12: G50 | T12: =VLOOKUP($S12,'Generation tables'!$D$54:$S$63,14,FALSE) -> 151.2605 | U12: =VLOOKUP($S12,'Generation tables'!$D$41:$S$49,14,FALSE) -> #N/A | V12: =VLOOKUP($S12,'Generation tables'!$D$28:$S$36,14,FALSE) -> #N/A | W12: =VLOOKUP($S12,'Generation tables'!$D$15:$S$23,14,FALSE) -> 3.7037037 | X12: =VLOOKUP($S12,'Generation tables'!$D$3:$S$10,14,FALSE) -> 4.7619048
B13: Generation | D13: ='Generation tables'!P37 -> 1.4554248 | E13: ='Generation tables'!P24 -> 1.9633525 | F13: ='Generation tables'!P11 -> 1.7607184 | I13: Generation | K13: ='Generation tables'!M64 -> 0.7358844 | L13: ='Generation tables'!M50 -> 0.60608816 | M13: ='Generation tables'!M37 -> 0.33213396 | N13: ='Generation tables'!M24 -> 0.33887794 | O13: ='Generation tables'!M11 -> 0.55022449 | R13: Generation | T13: ='Generation tables'!Q64 -> 17.46053 | U13: ='Generation tables'!Q50 -> 2.777904 | V13: ='Generation tables'!Q37 -> 3.8748962 | W13: ='Generation tables'!Q24 -> 3.1063811 | X13: ='Generation tables'!Q11 -> 5.2821551
B14: Industry Total | D14: ='Generation tables'!P38 -> 3.6823885 | E14: ='Generation tables'!P25 -> 2.8573081 | F14: ='Generation tables'!P12 -> 2.5035165 | I14: Industry Total | K14: ='Generation tables'!M65 -> 1.2206952 | L14: ='Generation tables'!M51 -> 1.0993812 | M14: ='Generation tables'!M38 -> 1.2192603 | N14: ='Generation tables'!M25 -> 0.94836664 | O14: ='Generation tables'!M12 -> 1.0753937 | R14: Industry Total | T14: ='Generation tables'!Q65 -> 21.270615 | U14: ='Generation tables'!Q51 -> 21.570203 | V14: ='Generation tables'!Q38 -> 18.33378 | W14: ='Generation tables'!Q25 -> 12.650689 | X14: ='Generation tables'!Q12 -> 14.664068
C16: Select your respondent code -> | F16: 1 | K16: Select your respondent code -> | O16: 1 | T16: Select your respondent code -> | X16: 1
D17: 1 | E17: 2 | F17: 3 | K17: 1 | L17: 2 | M17: 3 | N17: 4 | O17: 5 | T17: 1 | U17: 2 | V17: 3 | W17: 4 | X17: 5
C19: TRIFR Respondent | D19: 2015 | E19: 2016 | F19: 2017 | J19: LTIFR Respondent | K19: 2013 | L19: 2014 | M19: 2015 | N19: 2016 | O19: 2017 | S19: LTISR Respondent | T19: 2013 | U19: 2014 | V19: 2015 | W19: 2016 | X19: 2017
C20: =INDEX($C$5:$C$12,$F$16,1) -> G10 | D20: =INDEX($D$5:$F$12,$F$16,D$17) -> 2.7190332 | E20: =INDEX($D$5:$F$12,$F$16,E$17) -> 2.8439874 | F20: =INDEX($D$5:$F$12,$F$16,F$17) -> 2.1822943 | J20: =INDEX($J$5:$J$12,$O$16,1) -> G10 | K20: =INDEX($K$5:$O$12,$O$16,K$17) -> 0 | L20: =INDEX($K$5:$O$12,$O$16,L$17) -> 0.22778006 | M20: =INDEX($K$5:$O$12,$O$16,M$17) -> 0.90634441 | N20: =INDEX($K$5:$O$12,$O$16,N$17) -> 0.56879748 | O20: =INDEX($K$5:$O$12,$O$16,O$17) -> 0.36371572 | S20: =INDEX($S$5:$S$12,$X$16,1) -> G10 | T20: =INDEX($T$5:$X$12,$X$16,T$17) -> 0 | U20: =INDEX($T$5:$X$12,$X$16,U$17) -> 1.1389003 | V20: =INDEX($T$5:$X$12,$X$16,V$17) -> 16.012085 | W20: =INDEX($T$5:$X$12,$X$16,W$17) -> 2.5595886 | X20: =INDEX($T$5:$X$12,$X$16,X$17) -> 13.457482
C21: Generation | D21: =D13 -> 1.4554248 | E21: =E13 -> 1.9633525 | F21: =F13 -> 1.7607184 | J21: Generation | K21: =K13 -> 0.7358844 | L21: =L13 -> 0.60608816 | M21: =M13 -> 0.33213396 | N21: =N13 -> 0.33887794 | O21: =O13 -> 0.55022449 | S21: Generation | T21: =T13 -> 17.46053 | U21: =U13 -> 2.777904 | V21: =V13 -> 3.8748962 | W21: =W13 -> 3.1063811 | X21: =X13 -> 5.2821551
C22: Industry Total | D22: =D14 -> 3.6823885 | E22: =E14 -> 2.8573081 | F22: =F14 -> 2.5035165 | J22: Industry Total | K22: =K14 -> 1.2206952 | L22: =L14 -> 1.0993812 | M22: =M14 -> 1.2192603 | N22: =N14 -> 0.94836664 | O22: =O14 -> 1.0753937 | S22: Industry Total | T22: =T14 -> 21.270615 | U22: =U14 -> 21.570203 | V22: =V14 -> 18.33378 | W22: =W14 -> 12.650689 | X22: =X14 -> 14.664068

Sheet Transmission tables
B2: Transmission YE June 2017 | D2: Code | E2: FTEs | F2: Fatalities | G2: LTIs | H2: RWIs | I2: MTIs | J2: TRIs | K2: Days Lost to LTIs | L2: Days of Restricted Work | M2: LTIFR | N2: RWIFR | O2: MTIFR | P2: TRIFR | Q2: LTISR | R2: RWISR | S2: ATLR to LTIs
B3: Peer group respondents | D3: T45 | E3: 1705.4053 | F3: 0 | G3: 3 | H3: 2 | I3: 12 | J3: 17 | K3: 249 | L3: 20 | M3: 0.17591126 | N3: 0.11727417 | O3: 0.70364503 | P3: 0.99683046 | Q3: 14.600634 | R3: 1.1727417 | S3: 83
B4: Peer group summary | E4: 1705.4053 | F4: 0 | G4: 3 | H4: 2 | I4: 12 | J4: 17 | K4: 249 | L4: 20 | M4: 0.17591126 | N4: 0.11727417 | O4: 0.70364503 | P4: 0.99683046 | Q4: 14.600634 | R4: 1.1727417 | S4: 83
B5: Industry summary | E5: 11623.65 | F5: 0 | G5: 125 | H5: 30 | I5: 136 | J5: 291 | K5: 1704.5 | L5: 608 | M5: 1.0753937 | N5: 0.25809448 | O5: 1.1700283 | P5: 2.5035165 | Q5: 14.664068 | R5: 5.2307148 | S5: 13.636
B7: Transmission YE June 2016 | D7: Code | E7: FTEs | F7: Fatalities | G7: LTIs | H7: RWIs | I7: MTIs | J7: TRIs | K7: Days Lost to LTIs | L7: Days of Restricted Work | M7: LTIFR | N7: RWIFR | O7: MTIFR | P7: TRIFR | Q7: LTISR | R7: RWISR | S7: ATLR to LTIs
B8: Peer group respondents | D8: T45 | E8: 1674.3002 | F8: 0 | G8: 8 | H8: N/A | I8: 18 | J8: 26 | K8: 134 | L8: N/A | M8: 0.47781158 | N8: N/A | O8: 1.0750761 | P8: 1.5528876 | Q8: 8.0033439 | R8: N/A | S8: 16.75
B9: Peer group summary | E9: 1674.3002 | F9: 0 | G9: 8 | H9: N/A | I9: 18 | J9: 26 | K9: 134 | L9: 0 | M9: 0.47781158 | N9: N/A | O9: 1.0750761 | P9: 1.5528876 | Q9: 8.0033439 | R9: N/A | S9: 16.75
B10: Industry summary | E10: 11493.445 | F10: 0 | G10: 109 | H10: 28 | I10: 177 | J10: 314 | K10: 1454 | L10: 706 | M10: 0.94836664 | N10: 0.36893319 | O10: 1.5400082 | P10: 2.8573081 | Q10: 12.650689 | R10: 9.3023869 | S10: 13.33945
B12: Transmission YE June 2015 | D12: Code | E12: FTEs | F12: Fatalities | G12: LTIs | H12: RWIs | I12: MTIs | J12: TRIs | K12: Days Lost to LTIs | L12: Days of Restricted Work | M12: LTIFR | N12: RWIFR | O12: MTIFR | P12: TRIFR | Q12: LTISR | R12: RWISR | S12: ATLR to LTIs
B13: Peer group respondents | D13: T45 | E13: 1830.2305 | F13: 0 | G13: 13 | H13: N/A | I13: 34 | J13: 47 | K13: 344 | L13: N/A | M13: 0.71029307 | N13: N/A | O13: 1.8576896 | P13: 2.5679826 | Q13: 18.795447 | R13: N/A | S13: 26.461538
B14: Peer group summary | E14: 1830.2305 | F14: 0 | G14: 13 | H14: N/A | I14: 34 | J14: 47 | K14: 344 | L14: N/A | M14: 0.71029307 | N14: N/A | O14: 1.8576896 | P14: 2.5679826 | Q14: 18.795447 | R14: N/A | S14: 26.461538
B15: Industry summary | E15: 11810.439 | F15: 0 | G15: 144 | H15: 53 | I15: 200 | J15: 397 | K15: 2165.3 | L15: 581 | M15: 1.2192603 | N15: 0.76971114 | O15: 1.6934171 | P15: 3.6823885 | Q15: 18.33378 | R15: 9.1027308 | S15: 15.036806
B17: Transmission YE June 2014 | D17: Code | E17: FTEs | F17: Fatalities | G17: LTIs | H17: RWIs | I17: MTIs | J17: TRIs | K17: Days Lost to LTIs | L17: Days of Restricted Work | M17: LTIFR | N17: RWIFR | O17: MTIFR | P17: TRIFR | Q17: LTISR | R17: RWISR | S17: ATLR to LTIs
B18: Peer group respondents | D18: T45 | E18: 1848.8341 | F18: 0 | G18: 15 | H18: - | I18: - | J18: - | K18: 206 | L18: - | M18: 0.81132213 | N18: - | O18: - | P18: - | Q18: 11.142157 | R18: - | S18: 13.733333
B19: Peer group summary | E19: 1848.8341 | F19: 0 | G19: 15 | H19: - | I19: - | J19: - | K19: 206 | L19: - | M19: 0.81132213 | N19: - | O19: - | P19: - | Q19: 11.142157 | R19: - | S19: 13.733333
B20: Industry summary | E20: 11642.913 | F20: 0 | G20: 128 | H20: - | I20: - | J20: - | K20: 2511.4 | L20: - | M20: 1.0993812 | N20: - | O20: - | P20: - | Q20: 21.570203 | R20: - | S20: 19.620313
B22: Transmission YE June 2013 | D22: Code | E22: FTEs | F22: Fatalities | G22: LTIs | H22: RWIs | I22: MTIs | J22: TRIs | K22: Days Lost to LTIs | L22: Days of Restricted Work | M22: LTIFR | N22: RWIFR | O22: MTIFR | P22: TRIFR | Q22: LTISR | R22: RWISR | S22: ATLR to LTIs
B23: Peer group respondents | D23: T45 | E23: 2581 | F23: 1 | G23: 12 | H23: - | I23: - | J23: - | K23: 83 | L23: - | M23: 0.46493607 | N23: - | O23: - | P23: - | Q23: 3.2158078 | R23: - | S23: 6.9166667
B24: Peer group summary | E24: 2581 | F24: 1 | G24: 12 | H24: - | I24: - | J24: - | K24: 83 | L24: - | M24: 0.46493607 | N24: - | O24: - | P24: - | Q24: 3.2158078 | R24: - | S24: 6.9166667
B25: Industry summary | E25: 11468.874 | F25: 2 | G25: 140 | H25: - | I25: - | J25: - | K25: 2439.5 | L25: - | M25: 1.2206952 | N25: - | O25: - | P25: - | Q25: 21.270615 | R25: - | S25: 17.425

Sheet Transmission graphs
B3: TRIFR - 5-year results - Transmission peer group | C3: Year Ended | H3: LTIFR - 5-year results - Transmission peer group | I3: Year Ended | P3: LTISR - 5-year results - Transmission peer group | Q3: Year Ended
C4: 2015 | D4: 2016 | E4: 2017 | I4: 2013 | J4: 2014 | K4: 2015 | L4: 2016 | M4: 2017 | Q4: 2013 | R4: 2014 | S4: 2015 | T4: 2016 | U4: 2017
B5: T45 / Transmission | C5: ='Transmission tables'!P13 -> 2.5679826 | D5: ='Transmission tables'!P8 -> 1.5528876 | E5: ='Transmission tables'!P3 -> 0.99683046 | H5: T45 / Transmission | I5: ='Transmission tables'!M23 -> 0.46493607 | J5: ='Transmission tables'!M18 -> 0.81132213 | K5: ='Transmission tables'!M13 -> 0.71029307 | L5: ='Transmission tables'!M8 -> 0.47781158 | M5: ='Transmission tables'!M3 -> 0.17591126 | P5: T45 / Transmission | Q5: ='Transmission tables'!Q23 -> 3.2158078 | R5: ='Transmission tables'!Q18 -> 11.142157 | S5: ='Transmission tables'!Q13 -> 18.795447 | T5: ='Transmission tables'!Q8 -> 8.0033439 | U5: ='Transmission tables'!Q3 -> 14.600634
B6: Transmission | C6: ='Transmission tables'!P14 -> 2.5679826 | D6: ='Transmission tables'!P9 -> 1.5528876 | E6: ='Transmission tables'!P4 -> 0.99683046 | H6: Transmission | I6: ='Transmission tables'!M24 -> 0.46493607 | J6: ='Transmission tables'!M19 -> 0.81132213 | K6: ='Transmission tables'!M14 -> 0.71029307 | L6: ='Transmission tables'!M9 -> 0.47781158 | M6: ='Transmission tables'!M4 -> 0.17591126 | P6: Transmission | Q6: ='Transmission tables'!Q24 -> 3.2158078 | R6: ='Transmission tables'!Q19 -> 11.142157 | S6: ='Transmission tables'!Q14 -> 18.795447 | T6: ='Transmission tables'!Q9 -> 8.0033439 | U6: ='Transmission tables'!Q4 -> 14.600634
B7: Industry Total | C7: ='Transmission tables'!P15 -> 3.6823885 | D7: ='Transmission tables'!P10 -> 2.8573081 | E7: ='Transmission tables'!P5 -> 2.5035165 | H7: Industry Total | I7: ='Transmission tables'!M25 -> 1.2206952 | J7: ='Transmission tables'!M20 -> 1.0993812 | K7: ='Transmission tables'!M15 -> 1.2192603 | L7: ='Transmission tables'!M10 -> 0.94836664 | M7: ='Transmission tables'!M5 -> 1.0753937 | P7: Industry Total | Q7: ='Transmission tables'!Q25 -> 21.270615 | R7: ='Transmission tables'!Q20 -> 21.570203 | S7: ='Transmission tables'!Q15 -> 18.33378 | T7: ='Transmission tables'!Q10 -> 12.650689 | U7: ='Transmission tables'!Q5 -> 14.664068

Sheet Distribution (small) tables
B2: Distribution peers having < 100 employees YE June 2017 | D2: Code | E2: FTEs | F2: Fatalities | G2: LTIs | H2: RWIs | I2: MTIs | J2: TRIs | K2: Days Lost to LTIs | L2: Days of Restricted Work | M2: LTIFR | N2: RWIFR | O2: MTIFR | P2: TRIFR | Q2: LTISR | R2: RWISR | S2: ATLR to LTIs
B3: Peer group respondents | D3: D50 | E3: 56 (NCD) | F3: 0 | G3: 4 | H3: N/A | I3: 1 | J3: 5 | K3: 88.5 | L3: 0 | M3: 7.1428571 | N3: N/A | O3: 1.7857143 | P3: 8.9285714 | Q3: 158.03571 | R3: N/A | S3: 22.125
D4: D65 | E4: 63.085 | F4: 0 | G4: 0 | H4: 0 | I4: 4 | J4: 4 | K4: 0 | L4: 0 | M4: 0 | N4: 0 | O4: 6.3406515 | P4: 6.3406515 | Q4: 0 | R4: 0 | S4: 0
D5: D70 | E5: 65 (CNU) | F5: 0 | G5: 5 | H5: 0 | I5: 0 | J5: 5 | K5: 83 | L5: 0 | M5: 7.6923077 | N5: 0 | O5: 0 | P5: 7.6923077 | Q5: 127.69231 | R5: 0 | S5: 16.6
D6: D105 | E6: 74 | F6: 0 | G6: 0 | H6: N/A | I6: 0 | J6: 0 | K6: 0 | L6: N/A | M6: 0 | N6: N/A | O6: 0 | P6: 0 | Q6: 0 | R6: N/A | S6: 0
D7: D128 | E7: 52 | F7: 0 | G7: 0 | H7: 0 | I7: 0 | J7: 0 | K7: 0 | L7: 0 | M7: 0 | N7: 0 | O7: 0 | P7: 0 | Q7: 0 | R7: 0 | S7: 0
D8: D130 | E8: 8 | F8: 0 | G8: 0 | H8: 0 | I8: 0 | J8: 0 | K8: 0 | L8: 0 | M8: 0 | N8: 0 | O8: 0 | P8: 0 | Q8: 0 | R8: 0 | S8: 0
D9: D135 | E9: 27 (CNU) | F9: 0 | G9: 5 | H9: 0 | I9: 0 | J9: 5 | K9: 168 | L9: 0 | M9: 18.518519 | N9: 0 | O9: 0 | P9: 18.518519 | Q9: 622.22222 | R9: 0 | S9: 33.6
D10: D155 | E10: 88 | F10: 0 | G10: 1 | H10: 1 | I10: 2 | J10: 4 | K10: 10 | L10: 5 | M10: 1.1363636 | N10: 1.1363636 | O10: 2.2727273 | P10: 4.5454545 | Q10: 11.363636 | R10: 5.6818182 | S10: 10
B11: Peer group summary | E11: 433.085 | F11: 0 | G11: 15 | H11: 1 | I11: 7 | J11: 23 | K11: 349.5 | L11: 5 | M11: 3.4635233 | N11: 0.23090156 | O11: 1.6163109 | P11: 5.3107358 | Q11: 80.700094 | R11: 1.1545078 | S11: 23.3
B12: Distribution summary | E12: 5478.835 | F12: 0 | G12: 95 | H12: 17 | I12: 85 | J12: 197 | K12: 1222.5 | L12: 485 | M12: 1.7339453 | N12: 0.31028494 | O12: 1.5514247 | P12: 3.5956549 | Q12: 22.313138 | R12: 8.8522469 | S12: 12.868421
B13: Industry summary | E13: 11623.65 | F13: 0 | G13: 125 | H13: 30 | I13: 136 | J13: 291 | K13: 1704.5 | L13: 608 | M13: 1.0753937 | N13: 0.25809448 | O13: 1.1700283 | P13: 2.5035165 | Q13: 14.664068 | R13: 5.2307148 | S13: 13.636
B15: Distribution peers having < 100 employees YE June 2016 | D15: Code | E15: FTEs | F15: Fatalities | G15: LTIs | H15: RWIs | I15: MTIs | J15: TRIs | K15: Days Lost to LTIs | L15: Days of Restricted Work | M15: LTIFR | N15: RWIFR | O15: MTIFR | P15: TRIFR | Q15: LTISR | R15: RWISR | S15: ATLR to LTIs
B16: Peer group respondents | D16: D50 | E16: 55 (NCD) | F16: 0 | G16: 3 | H16: N/A | I16: 5 | J16: 8 | K16: 16 | L16: N/A | M16: 5.4545455 | N16: N/A | O16: 9.0909091 | P16: 14.545455 | Q16: 29.090909 | R16: N/A | S16: 5.3333333
D17: D65 | E17: 64.5 | F17: 0 | G17: 1 | H17: 0 | I17: 5 | J17: 6 | K17: 4 | L17: 4 | M17: 1.5503876 | N17: 0 | O17: 7.751938 | P17: 9.3023256 | Q17: 6.2015504 | R17: 6.2015504 | S17: 4
D18: D70 | E18: 70 (CNU) | F18: 0 | G18: 3 | H18: 0 | I18: 0 | J18: 3 | K18: 8 | L18: 0 | M18: 4.2857143 | N18: 0 | O18: 0 | P18: 4.2857143 | Q18: 11.428571 | R18: 0 | S18: 2.6666667
D19: D128 | E19: 50 | F19: 0 | G19: 2 | H19: 0 | I19: 0 | J19: 2 | K19: 15 | L19: 29 | M19: 4 | N19: 0 | O19: 0 | P19: 4 | Q19: 30 | R19: 58 | S19: 7.5
D20: D130 | E20: 10 | F20: 0 | G20: 0 | H20: 0 | I20: 0 | J20: 0 | K20: 0 | L20: 0 | M20: 0 | N20: 0 | O20: 0 | P20: 0 | Q20: 0 | R20: 0 | S20: 0
D21: D135 | E21: 37 (NCD) | F21: 0 | G21: 2 | H21: 0 | I21: 0 | J21: 2 | K21: 7 | L21: 0 | M21: 5.4054054 | N21: 0 | O21: 0 | P21: 5.4054054 | Q21: 18.918919 | R21: 0 | S21: 3.5
D22: D168 | E22: 59 | F22: 0 | G22: 1 | H22: N/A | I22: 2 | J22: 3 | K22: 1 | L22: N/A | M22: 1.6949153 | N22: N/A | O22: 3.3898305 | P22: 5.0847458 | Q22: 1.6949153 | R22: N/A | S22: 1
B23: Peer group summary | E23: 345.5 | F23: 0 | G23: 12 | H23: 0 | I23: 12 | J23: 24 | K23: 51 | L23: 33 | M23: 3.4732272 | N23: 0 | O23: 3.4732272 | P23: 6.9464544 | Q23: 14.761216 | R23: 14.25486 | S23: 4.25
B24: Distribution summary | E24: 5425.195 | F24: 0 | G24: 78 | H24: 17 | I24: 120 | J24: 215 | K24: 1002 | L24: 304 | M24: 1.4377363 | N24: 0.42740415 | O24: 2.2119021 | P24: 4.0770425 | Q24: 18.469382 | R24: 7.6429918 | S24: 12.846154
B25: Industry summary | E25: 11493.445 | F25: 0 | G25: 109 | H25: 28 | I25: 177 | J25: 314 | K25: 1454 | L25: 706 | M25: 0.94836664 | N25: 0.36893319 | O25: 1.5400082 | P25: 2.8573081 | Q25: 12.650689 | R25: 9.3023869 | S25: 13.33945
B27: Distribution peers having < 100 employees YE June 2015 | D27: Code | E27: FTEs | F27: Fatalities | G27: LTIs | H27: RWIs | I27: MTIs | J27: TRIs | K27: Days Lost to LTIs | L27: Days of Restricted Work | M27: LTIFR | N27: RWIFR | O27: MTIFR | P27: TRIFR | Q27: LTISR | R27: RWISR | S27: ATLR to LTIs
B28: Peer group respondents | D28: D50 | E28: 53 (NCD) | F28: 0 | G28: 7 | H28: N/A | I28: 0 | J28: 7 | K28: 30.3 | L28: N/A | M28: 13.207547 | N28: N/A | O28: 0 | P28: 13.207547 | Q28: 57.169811 | R28: N/A | S28: 4.3285714
D29: D65 | E29: 51 (NCD) | F29: 0 | G29: 0 | H29: N/A | I29: 2 | J29: 2 | K29: 0 | L29: N/A | M29: 0 | N29: N/A | O29: 3.9215686 | P29: 3.9215686 | Q29: 0 | R29: N/A | S29: 0
D30: D70 | E30: 64 | F30: 0 | G30: 1 | H30: 0 | I30: 0 | J30: 1 | K30: 1 | L30: 0 | M30: 1.5625 | N30: 0 | O30: 0 | P30: 1.5625 | Q30: 1.5625 | R30: 0 | S30: 1
D31: D128 | E31: 51.2 | F31: 0 | G31: 1 | H31: 0 | I31: 1 | J31: 2 | K31: 10 | L31: 2 | M31: 1.953125 | N31: 0 | O31: 1.953125 | P31: 3.90625 | Q31: 19.53125 | R31: 3.90625 | S31: 10
D32: D130 | E32: 10 | F32: 0 | G32: 0 | H32: 0 | I32: 0 | J32: 0 | K32: 0 | L32: 0 | M32: 0 | N32: 0 | O32: 0 | P32: 0 | Q32: 0 | R32: 0 | S32: 0
D33: D135 | E33: 38 (NCD) | F33: 0 | G33: 6 | H33: 0 | I33: N/A | J33: 6 | K33: 59 | L33: 0 | M33: 15.789474 | N33: 0 | O33: N/A | P33: 15.789474 | Q33: 155.26316 | R33: 0 | S33: 9.8333333
B34: Peer group summary | E34: 267.2 | F34: 0 | G34: 15 | H34: 0 | I34: 3 | J34: 18 | K34: 100.3 | L34: 2 | M34: 5.6137725 | N34: 0 | O34: 1.3089005 | P34: 6.922673 | Q34: 37.537425 | R34: 1.2254902 | S34: 6.6866667
B35: Distribution summary | E35: 5463.709 | F35: 0 | G35: 100 | H35: 44 | I35: 121 | J35: 265 | K35: 1522.3 | L35: 424 | M35: 1.8302585 | N35: 1.4119761 | O35: 2.2146128 | P35: 5.4568475 | Q35: 27.862026 | R35: 16.225318 | S35: 15.223
B36: Industry summary | E36: 11810.439 | F36: 0 | G36: 144 | H36: 53 | I36: 200 | J36: 397 | K36: 2165.3 | L36: 581 | M36: 1.2192603 | N36: 0.76971114 | O36: 1.6934171 | P36: 3.6823885 | Q36: 18.33378 | R36: 9.1027308 | S36: 15.036806
B38: Distribution peers having < 100 employees YE June 2014 | D38: Code | E38: FTEs | F38: Fatalities | G38: LTIs | H38: RWIs | I38: MTIs | J38: TRIs | K38: Days Lost to LTIs | L38: Days of Restricted Work | M38: LTIFR | N38: RWIFR | O38: MTIFR | P38: TRIFR | Q38: LTISR | R38: RWISR | S38: ATLR to LTIs
B39: Peer group respondents | D39: D50 | E39: 49 (NCD) | F39: 0 | G39: 3 | H39: - | I39: - | J39: - | K39: 209.4 | L39: - | M39: 6.122449 | N39: - | O39: - | P39: - | Q39: 427.34694 | R39: - | S39: 69.8
D40: D65 | E40: 32 (NCD) | F40: 0 | G40: 0 | H40: - | I40: - | J40: - | K40: 0 | L40: - | M40: 0 | N40: - | O40: - | P40: - | Q40: 0 | R40: - | S40: 0
D41: D70 | E41: 53 | F41: 0 | G41: 0 | H41: - | I41: - | J41: - | K41: 0 | L41: - | M41: 0 | N41: - | O41: - | P41: - | Q41: 0 | R41: - | S41: 0
D42: D105 | E42: 97 (NCD) | F42: 0 | G42: 0 | H42: - | I42: - | J42: - | K42: 0 | L42: - | M42: 0 | N42: - | O42: - | P42: - | Q42: 0 | R42: - | S42: 0
D43: D110 | E43: 85 | F43: 0 | G43: 5 | H43: - | I43: - | J43: - | K43: 47.5 | L43: - | M43: 5.8823529 | N43: - | O43: - | P43: - | Q43: 55.882353 | R43: - | S43: 9.5
D44: D128 | E44: 41 | F44: 0 | G44: 3 | H44: - | I44: - | J44: - | K44: 34 | L44: - | M44: 7.3170732 | N44: - | O44: - | P44: - | Q44: 82.926829 | R44: - | S44: 11.333333
...

Sheet Distribution (small) graphs
B2: Total Recordable Injury Frequency Rate | I2: Lost Time Injury Frequency Rate | R2: Lost Time Injury Severity Rate
B3: TRIFR - 5-year results - Small-size distribustion peer group | D3: Year Ended | I3: LTIFR - 5-year results - Small-size distribustion peer group | K3: Year Ended | R3: LTISR - 5-year results - Small-size distribution peer group | T3: Year Ended
D4: 2015 | E4: 2016 | F4: 2017 | K4: 2013 | L4: 2014 | M4: 2015 | N4: 2016 | O4: 2017 | T4: 2013 | U4: 2014 | V4: 2015 | W4: 2016 | X4: 2017
B5: Respondent code | C5: D50 | D5: =VLOOKUP($C5,'Distribution (small) tables'!$D$28:$S$33,13,FALSE) -> 13.207547 | E5: =VLOOKUP($C5,'Distribution (small) tables'!$D$16:$S$22,13,FALSE) -> 14.545455 | F5: =VLOOKUP($C5,'Distribution (small) tables'!$D$3:$S$10,13,FALSE) -> 8.9285714 | I5: Respondent code | J5: D50 | K5: =VLOOKUP($J5,'Distribution (small) tables'!$D$54:$S$61,10,FALSE) -> 4.1666667 | L5: =VLOOKUP($J5,'Distribution (small) tables'!$D$39:$S$48,10,FALSE) -> 6.122449 | M5: =VLOOKUP($J5,'Distribution (small) tables'!$D$28:$S$33,10,FALSE) -> 13.207547 | N5: =VLOOKUP($J5,'Distribution (small) tables'!$D$16:$S$22,10,FALSE) -> 5.4545455 | O5: =VLOOKUP($J5,'Distribution (small) tables'!$D$3:$S$10,10,FALSE) -> 7.1428571 | R5: Respondent code | S5: D50 | T5: =VLOOKUP($S5,'Distribution (small) tables'!$D$54:$S$61,14,FALSE) -> 4.1666667 | U5: =VLOOKUP($S5,'Distribution (small) tables'!$D$39:$S$48,14,FALSE) -> 427.34694 | V5: =VLOOKUP($S5,'Distribution (small) tables'!$D$28:$S$33,14,FALSE) -> 57.169811 | W5: =VLOOKUP($S5,'Distribution (small) tables'!$D$16:$S$22,14,FALSE) -> 29.090909 | X5: =VLOOKUP($S5,'Distribution (small) tables'!$D$3:$S$10,14,FALSE) -> 158.03571
C6: D65 | D6: =VLOOKUP($C6,'Distribution (small) tables'!$D$28:$S$33,13,FALSE) -> 3.9215686 | E6: =VLOOKUP($C6,'Distribution (small) tables'!$D$16:$S$22,13,FALSE) -> 9.3023256 | F6: =VLOOKUP($C6,'Distribution (small) tables'!$D$3:$S$10,13,FALSE) -> 6.3406515 | J6: D65 | K6: =VLOOKUP($J6,'Distribution (small) tables'!$D$54:$S$61,10,FALSE) -> 3.5714286 | L6: =VLOOKUP($J6,'Distribution (small) tables'!$D$39:$S$48,10,FALSE) -> 0 | M6: =VLOOKUP($J6,'Distribution (small) tables'!$D$28:$S$33,10,FALSE) -> 0 | N6: =VLOOKUP($J6,'Distribution (small) tables'!$D$16:$S$22,10,FALSE) -> 1.5503876 | O6: =VLOOKUP($J6,'Distribution (small) tables'!$D$3:$S$10,10,FALSE) -> 0 | S6: D65 | T6: =VLOOKUP($S6,'Distribution (small) tables'!$D$54:$S$61,14,FALSE) -> 46.428571 | U6: =VLOOKUP($S6,'Distribution (small) tables'!$D$39:$S$48,14,FALSE) -> 0 | V6: =VLOOKUP($S6,'Distribution (small) tables'!$D$28:$S$33,14,FALSE) -> 0 | W6: =VLOOKUP($S6,'Distribution (small) tables'!$D$16:$S$22,14,FALSE) -> 6.2015504 | X6: =VLOOKUP($S6,'Distribution (small) tables'!$D$3:$S$10,14,FALSE) -> 0
C7: D70 | D7: =VLOOKUP($C7,'Distribution (small) tables'!$D$28:$S$33,13,FALSE) -> 1.5625 | E7: =VLOOKUP($C7,'Distribution (small) tables'!$D$16:$S$22,13,FALSE) -> 4.2857143 | F7: =VLOOKUP($C7,'Distribution (small) tables'!$D$3:$S$10,13,FALSE) -> 7.6923077 | J7: D70 | K7: =VLOOKUP($J7,'Distribution (small) tables'!$D$54:$S$61,10,FALSE) -> 0 | L7: =VLOOKUP($J7,'Distribution (small) tables'!$D$39:$S$48,10,FALSE) -> 0 | M7: =VLOOKUP($J7,'Distribution (small) tables'!$D$28:$S$33,10,FALSE) -> 1.5625 | N7: =VLOOKUP($J7,'Distribution (small) tables'!$D$16:$S$22,10,FALSE) -> 4.2857143 | O7: =VLOOKUP($J7,'Distribution (small) tables'!$D$3:$S$10,10,FALSE) -> 7.6923077 | S7: D70 | T7: =VLOOKUP($S7,'Distribution (small) tables'!$D$54:$S$61,14,FALSE) -> 0 | U7: =VLOOKUP($S7,'Distribution (small) tables'!$D$39:$S$48,14,FALSE) -> 0 | V7: =VLOOKUP($S7,'Distribution (small) tables'!$D$28:$S$33,14,FALSE) -> 1.5625 | W7: =VLOOKUP($S7,'Distribution (small) tables'!$D$16:$S$22,14,FALSE) -> 11.428571 | X7: =VLOOKUP($S7,'Distribution (small) tables'!$D$3:$S$10,14,FALSE) -> 127.69231
C8: D105 | D8: =VLOOKUP($C8,'Distribution (large) tables'!$D$26:$S$32,13,FALSE) -> 4.4776119 | E8: =VLOOKUP($C8,'Distribution (medium) tables'!$D$20:$S$31,13,FALSE) -> 3.2181763 | F8: =VLOOKUP($C8,'Distribution (small) tables'!$D$3:$S$10,13,FALSE) -> 0 | J8: D105 | K8: =VLOOKUP($J8,'Distribution (medium) tables'!$D$72:$S$84,10,FALSE) -> 2.8368794 | L8: =VLOOKUP($J8,'Distribution (small) tables'!$D$39:$S$48,10,FALSE) -> 0 | M8: =VLOOKUP($J8,'Distribution (large) tables'!$D$26:$S$32,10,FALSE) -> 0.74626866 | N8: =VLOOKUP($J8,'Distribution (medium) tables'!$D$20:$S$31,10,FALSE) -> 0 | O8: =VLOOKUP($J8,'Distribution (small) tables'!$D$3:$S$10,10,FALSE) -> 0 | S8: D105 | T8: =VLOOKUP($S8,'Distribution (medium) tables'!$D$72:$S$84,14,FALSE) -> 154.96454 | U8: =VLOOKUP($S8,'Distribution (small) tables'!$D$39:$S$48,14,FALSE) -> 0 | V8: =VLOOKUP($S8,'Distribution (large) tables'!$D$26:$S$32,14,FALSE) -> 4.8507463 | W8: =VLOOKUP($S8,'Distribution (medium) tables'!$D$20:$S$31,14,FALSE) -> 0 | X8: =VLOOKUP($S8,'Distribution (small) tables'!$D$3:$S$10,14,FALSE) -> 0
C9: D128 | D9: =VLOOKUP($C9,'Distribution (small) tables'!$D$28:$S$33,13,FALSE) -> 3.90625 | E9: =VLOOKUP($C9,'Distribution (small) tables'!$D$16:$S$22,13,FALSE) -> 4 | F9: =VLOOKUP($C9,'Distribution (small) tables'!$D$3:$S$10,13,FALSE) -> 0 | J9: D128 | K9: =VLOOKUP($J9,'Distribution (small) tables'!$D$54:$S$61,10,FALSE) -> 19.047619 | L9: =VLOOKUP($J9,'Distribution (small) tables'!$D$39:$S$48,10,FALSE) -> 7.3170732 | M9: =VLOOKUP($J9,'Distribution (small) tables'!$D$28:$S$33,10,FALSE) -> 1.953125 | N9: =VLOOKUP($J9,'Distribution (small) tables'!$D$16:$S$22,10,FALSE) -> 4 | O9: =VLOOKUP($J9,'Distribution (small) tables'!$D$3:$S$10,10,FALSE) -> 0 | S9: D128 | T9: =VLOOKUP($S9,'Distribution (small) tables'!$D$54:$S$61,14,FALSE) -> 283.33333 | U9: =VLOOKUP($S9,'Distribution (small) tables'!$D$39:$S$48,14,FALSE) -> 82.926829 | V9: =VLOOKUP($S9,'Distribution (small) tables'!$D$28:$S$33,14,FALSE) -> 19.53125 | W9: =VLOOKUP($S9,'Distribution (small) tables'!$D$16:$S$22,14,FALSE) -> 30 | X9: =VLOOKUP($S9,'Distribution (small) tables'!$D$3:$S$10,14,FALSE) -> 0
